BEGIN:VCALENDAR
VERSION:2.0
PRODID:-//DJ Dan Line Dance - ECPv6.15.20//NONSGML v1.0//EN
CALSCALE:GREGORIAN
METHOD:PUBLISH
X-WR-CALNAME:DJ Dan Line Dance
X-ORIGINAL-URL:https://djdanlinedance.com
X-WR-CALDESC:Events for DJ Dan Line Dance
REFRESH-INTERVAL;VALUE=DURATION:PT1H
X-Robots-Tag:noindex
X-PUBLISHED-TTL:PT1H
BEGIN:VTIMEZONE
TZID:America/New_York
BEGIN:DAYLIGHT
TZOFFSETFROM:-0500
TZOFFSETTO:-0400
TZNAME:EDT
DTSTART:20240310T070000
END:DAYLIGHT
BEGIN:STANDARD
TZOFFSETFROM:-0400
TZOFFSETTO:-0500
TZNAME:EST
DTSTART:20241103T060000
END:STANDARD
BEGIN:DAYLIGHT
TZOFFSETFROM:-0500
TZOFFSETTO:-0400
TZNAME:EDT
DTSTART:20250309T070000
END:DAYLIGHT
BEGIN:STANDARD
TZOFFSETFROM:-0400
TZOFFSETTO:-0500
TZNAME:EST
DTSTART:20251102T060000
END:STANDARD
BEGIN:DAYLIGHT
TZOFFSETFROM:-0500
TZOFFSETTO:-0400
TZNAME:EDT
DTSTART:20260308T070000
END:DAYLIGHT
BEGIN:STANDARD
TZOFFSETFROM:-0400
TZOFFSETTO:-0500
TZNAME:EST
DTSTART:20261101T060000
END:STANDARD
END:VTIMEZONE
BEGIN:VEVENT
DTSTART;TZID=America/New_York:20250516T170000
DTEND;TZID=America/New_York:20250516T190000
DTSTAMP:20260424T084806
CREATED:20250418T165300Z
LAST-MODIFIED:20250418T165541Z
UID:2124-1747414800-1747422000@djdanlinedance.com
SUMMARY:Dock Country Fair & Auction
DESCRIPTION:Join us for the Dock Country Fair & Auction on Friday\, May 16\, 2025 from 5-9 pm. NEW this year is Country Line Dancing with DJ Dan! In addition to our Chicken Drive Thru at Franconia Mennonite Church (4-6:30 pm)\, you can also enjoy BBQ Chicken and Strawberry Pies onsite on our EC to Grade 8 campus at 420 Godshall Rd\, Souderton\, PA. We will also host a LIVE Auction with auctioneer Sandy Alderfer at 7:30 PM and an Online Auction from May 12-19\, 2025. Stop by and enjoy delicious Food Trucks\, Bake Sale\, Giant Inflatables\, Face Painting\, Balloon Animals\, Helicopter Cow and Candy Drop\, & much more! Additional shuttle parking available at Marcho Farms/Franconia Café. Don’t miss it!!
URL:https://djdanlinedance.com/event/dock-country-fair-auction-20250516/
LOCATION:Dock EC to Grade 8\, 420 Godshall Rd\, Souderton\, PA\, 18964\, United States
CATEGORIES:Line Dancing
ATTACH;FMTTYPE=image/jpeg:https://djdanlinedance.com/wp-content/uploads/2025/04/20250516-Cover.jpg
END:VEVENT
END:VCALENDAR