BEGIN:VCALENDAR
VERSION:2.0
PRODID:-//DJ Dan Line Dance - ECPv6.15.20//NONSGML v1.0//EN
CALSCALE:GREGORIAN
METHOD:PUBLISH
X-ORIGINAL-URL:https://djdanlinedance.com
X-WR-CALDESC:Events for DJ Dan Line Dance
REFRESH-INTERVAL;VALUE=DURATION:PT1H
X-Robots-Tag:noindex
X-PUBLISHED-TTL:PT1H
BEGIN:VTIMEZONE
TZID:America/New_York
BEGIN:DAYLIGHT
TZOFFSETFROM:-0500
TZOFFSETTO:-0400
TZNAME:EDT
DTSTART:20240310T070000
END:DAYLIGHT
BEGIN:STANDARD
TZOFFSETFROM:-0400
TZOFFSETTO:-0500
TZNAME:EST
DTSTART:20241103T060000
END:STANDARD
BEGIN:DAYLIGHT
TZOFFSETFROM:-0500
TZOFFSETTO:-0400
TZNAME:EDT
DTSTART:20250309T070000
END:DAYLIGHT
BEGIN:STANDARD
TZOFFSETFROM:-0400
TZOFFSETTO:-0500
TZNAME:EST
DTSTART:20251102T060000
END:STANDARD
BEGIN:DAYLIGHT
TZOFFSETFROM:-0500
TZOFFSETTO:-0400
TZNAME:EDT
DTSTART:20260308T070000
END:DAYLIGHT
BEGIN:STANDARD
TZOFFSETFROM:-0400
TZOFFSETTO:-0500
TZNAME:EST
DTSTART:20261101T060000
END:STANDARD
END:VTIMEZONE
BEGIN:VEVENT
DTSTART;TZID=America/New_York:20250621T140000
DTEND;TZID=America/New_York:20250621T170000
DTSTAMP:20260424T053259
CREATED:20250602T193625Z
LAST-MODIFIED:20250602T195602Z
UID:2196-1750514400-1750525200@djdanlinedance.com
SUMMARY:Poppy's Tavern Line Dancing
DESCRIPTION:🌟 Line Dancing at Poppy’s Tavern! 🌟 \n🕺💃 Get ready to dance with us at Poppy’s Tavern on Saturday\, June 21st from 2 – 5 PM! \n🎶 DJ Dan will be playing the best line dance music and teaching the latest popular dances. Dancers of all ages and skill levels are welcome! \n📍 Where: Poppy’s Tavern\, 64 East Lincoln Ave\, Hatfield\, PA 19440\n📅 When: Saturday\, June 21st\n⏰ Time: 2:00 – 5:00 PM\n💲 Cover: $10\n👨‍👩‍👧‍👦 All Ages Welcome! \n🍔 Food & Drinks available for purchase—no outside food or drink allowed. \nGrab your most comfortable dancing shoes and bring your friends for an afternoon of fun\, great music\, and dancing! See you on the dance floor! 💃🎶🔥
URL:https://djdanlinedance.com/event/20250621-1/
LOCATION:Poppy’s Tavern\, 64 East Lincoln Ave\, Hatfield\, PA\, 19440\, United States
ATTACH;FMTTYPE=image/jpeg:https://djdanlinedance.com/wp-content/uploads/2025/06/2196_image_503332172_1086184516899904_2792981483768255285_n.jpg
END:VEVENT
BEGIN:VEVENT
DTSTART;TZID=America/New_York:20250621T190000
DTEND;TZID=America/New_York:20250621T220000
DTSTAMP:20260424T053259
CREATED:20250418T193802Z
LAST-MODIFIED:20250613T205232Z
UID:2146-1750532400-1750543200@djdanlinedance.com
SUMMARY:Nostalgia 1720 Line Dancing
DESCRIPTION:🕺💃 Join us for Line Dancing at Nostalgia 1720 every 3rd Saturday of the month! \n⏰ Time: 7:00 PM – 10:00 PM\n📍 Venue: Nostalgia 1720\, 136 E Butler Ave\, Chalfont\, PA 18914 \n✨ Cover: $10 per person\n🍽️ BYO Food\n🍸 Drinks Available for purchase (🚫No outside drinks allowed) \nGrab your friends and come make memories on the dance floor! \n👉 Mark your calendar! See you there! 🎉
URL:https://djdanlinedance.com/event/20250621/
LOCATION:Nostalgia 1720\, 136 E Butler Ave\, Chalfont\, PA\, 18914\, United States
CATEGORIES:Line Dancing
ATTACH;FMTTYPE=image/png:https://djdanlinedance.com/wp-content/uploads/2025/04/Saturday-R1-Cover.png
END:VEVENT
END:VCALENDAR