BEGIN:VCALENDAR
VERSION:2.0
PRODID:-//DJ Dan Line Dance - ECPv6.15.20//NONSGML v1.0//EN
CALSCALE:GREGORIAN
METHOD:PUBLISH
X-WR-CALNAME:DJ Dan Line Dance
X-ORIGINAL-URL:https://djdanlinedance.com
X-WR-CALDESC:Events for DJ Dan Line Dance
REFRESH-INTERVAL;VALUE=DURATION:PT1H
X-Robots-Tag:noindex
X-PUBLISHED-TTL:PT1H
BEGIN:VTIMEZONE
TZID:America/New_York
BEGIN:DAYLIGHT
TZOFFSETFROM:-0500
TZOFFSETTO:-0400
TZNAME:EDT
DTSTART:20240310T070000
END:DAYLIGHT
BEGIN:STANDARD
TZOFFSETFROM:-0400
TZOFFSETTO:-0500
TZNAME:EST
DTSTART:20241103T060000
END:STANDARD
BEGIN:DAYLIGHT
TZOFFSETFROM:-0500
TZOFFSETTO:-0400
TZNAME:EDT
DTSTART:20250309T070000
END:DAYLIGHT
BEGIN:STANDARD
TZOFFSETFROM:-0400
TZOFFSETTO:-0500
TZNAME:EST
DTSTART:20251102T060000
END:STANDARD
BEGIN:DAYLIGHT
TZOFFSETFROM:-0500
TZOFFSETTO:-0400
TZNAME:EDT
DTSTART:20260308T070000
END:DAYLIGHT
BEGIN:STANDARD
TZOFFSETFROM:-0400
TZOFFSETTO:-0500
TZNAME:EST
DTSTART:20261101T060000
END:STANDARD
END:VTIMEZONE
BEGIN:VEVENT
DTSTART;TZID=America/New_York:20250627T190000
DTEND;TZID=America/New_York:20250627T220000
DTSTAMP:20260424T053309
CREATED:20250418T193808Z
LAST-MODIFIED:20250418T193915Z
UID:2150-1751050800-1751061600@djdanlinedance.com
SUMMARY:Keelersville Club Line Dancing
DESCRIPTION:🎵 Line Dancing at the Keelersville Club! 🎵 \n📍 Location: Keelersville Club\, 2522 Ridge Rd\, Perkasie\, PA 18944\n📅 4th Friday of every month\n⏰ Time: 7:00 PM – 10:00 PM\n💲 Cover Charge: $5 per person \n🕺💃 Bring your dancing shoes and enjoy a fun-filled evening of great music\, good vibes\, and plenty of dancing! \n👉 Spread the word\, and we’ll see you on the dance floor! 🎉
URL:https://djdanlinedance.com/event/20250627/
LOCATION:Keelersville Club\, 2522 Ridge Rd\, Perkasie\, PA\, 18944\, United States
CATEGORIES:Line Dancing
ATTACH;FMTTYPE=image/jpeg:https://djdanlinedance.com/wp-content/uploads/2025/04/2150_image_491956814_1053878313463858_4982112794421784084_n.jpg
END:VEVENT
END:VCALENDAR