BEGIN:VCALENDAR
VERSION:2.0
PRODID:-//DJ Dan Line Dance - ECPv6.15.20//NONSGML v1.0//EN
CALSCALE:GREGORIAN
METHOD:PUBLISH
X-ORIGINAL-URL:https://djdanlinedance.com
X-WR-CALDESC:Events for DJ Dan Line Dance
REFRESH-INTERVAL;VALUE=DURATION:PT1H
X-Robots-Tag:noindex
X-PUBLISHED-TTL:PT1H
BEGIN:VTIMEZONE
TZID:America/New_York
BEGIN:DAYLIGHT
TZOFFSETFROM:-0500
TZOFFSETTO:-0400
TZNAME:EDT
DTSTART:20240310T070000
END:DAYLIGHT
BEGIN:STANDARD
TZOFFSETFROM:-0400
TZOFFSETTO:-0500
TZNAME:EST
DTSTART:20241103T060000
END:STANDARD
BEGIN:DAYLIGHT
TZOFFSETFROM:-0500
TZOFFSETTO:-0400
TZNAME:EDT
DTSTART:20250309T070000
END:DAYLIGHT
BEGIN:STANDARD
TZOFFSETFROM:-0400
TZOFFSETTO:-0500
TZNAME:EST
DTSTART:20251102T060000
END:STANDARD
BEGIN:DAYLIGHT
TZOFFSETFROM:-0500
TZOFFSETTO:-0400
TZNAME:EDT
DTSTART:20260308T070000
END:DAYLIGHT
BEGIN:STANDARD
TZOFFSETFROM:-0400
TZOFFSETTO:-0500
TZNAME:EST
DTSTART:20261101T060000
END:STANDARD
END:VTIMEZONE
BEGIN:VEVENT
DTSTART;TZID=America/New_York:20250830T140000
DTEND;TZID=America/New_York:20250830T230000
DTSTAMP:20260424T022822
CREATED:20250704T191019Z
LAST-MODIFIED:20250704T191351Z
UID:2351-1756562400-1756594800@djdanlinedance.com
SUMMARY:Line Dancing Workshop w/ DJ Dan & Delco Line Dancing
DESCRIPTION:SoulJoel Presents: \nLine Dancing Workshop with DJ Dan and Delco Line Dancing\nInside the Sunnybrook Ballroom (Over 14\,000 Square Feet) \nWorshop 2pm – 6pm\nDinner Break 6 to 7pm\nOpen Dance 7 to 11pm \nWorkshop is ONLY $30 if bought before August 1st\, $35 after that and $40 at the door! While spots remain! Stay and dance at the open dance for FREE.\nOpen Dance ONLY is $10 in advance or $15 at the door\nFull Bar available. Food Available from Gatsby’s Pub 4pm until 11pm \nGet a spot by buying a ticket here:\nhttps://souljoels.com/shop/tickets/linedancingworkshop/ \nNo outside food or beverages\n$1 bottles of water for sale\nFREE PARKING \nAbout DJ Dan: \nDJ for over 20 years\nLine Dancing DJ and instructor for over 4 years.\nAppearances in bars\, clubs\, and venues in PA and NJ like Rock N Rebel\, Prospectors Dance Venue\, and the Camden Waterfront Arena for the XTU Anniversary Show!
URL:https://djdanlinedance.com/event/20250830/
LOCATION:SoulJoel’s at Sunnybrook*\, 50 Sunnybrook Road\, Pottstown\, PA\, 19464
CATEGORIES:Line Dancing
ATTACH;FMTTYPE=image/jpeg:https://djdanlinedance.com/wp-content/uploads/2025/07/2351_image_515277841_1110488307802858_5746368277562177253_n.jpg
END:VEVENT
END:VCALENDAR