BEGIN:VCALENDAR
VERSION:2.0
PRODID:-//DJ Dan Line Dance - ECPv6.15.20//NONSGML v1.0//EN
CALSCALE:GREGORIAN
METHOD:PUBLISH
X-ORIGINAL-URL:https://djdanlinedance.com
X-WR-CALDESC:Events for DJ Dan Line Dance
REFRESH-INTERVAL;VALUE=DURATION:PT1H
X-Robots-Tag:noindex
X-PUBLISHED-TTL:PT1H
BEGIN:VTIMEZONE
TZID:America/New_York
BEGIN:DAYLIGHT
TZOFFSETFROM:-0500
TZOFFSETTO:-0400
TZNAME:EDT
DTSTART:20240310T070000
END:DAYLIGHT
BEGIN:STANDARD
TZOFFSETFROM:-0400
TZOFFSETTO:-0500
TZNAME:EST
DTSTART:20241103T060000
END:STANDARD
BEGIN:DAYLIGHT
TZOFFSETFROM:-0500
TZOFFSETTO:-0400
TZNAME:EDT
DTSTART:20250309T070000
END:DAYLIGHT
BEGIN:STANDARD
TZOFFSETFROM:-0400
TZOFFSETTO:-0500
TZNAME:EST
DTSTART:20251102T060000
END:STANDARD
BEGIN:DAYLIGHT
TZOFFSETFROM:-0500
TZOFFSETTO:-0400
TZNAME:EDT
DTSTART:20260308T070000
END:DAYLIGHT
BEGIN:STANDARD
TZOFFSETFROM:-0400
TZOFFSETTO:-0500
TZNAME:EST
DTSTART:20261101T060000
END:STANDARD
END:VTIMEZONE
BEGIN:VEVENT
DTSTART;TZID=America/New_York:20251019T120000
DTEND;TZID=America/New_York:20251019T160000
DTSTAMP:20260423T234335
CREATED:20250926T213235Z
LAST-MODIFIED:20250926T213235Z
UID:2572-1760875200-1760889600@djdanlinedance.com
SUMMARY:The Jason Kutt Legacy Fund 5th Annual Car Show
DESCRIPTION:This is our annual car show in memory of Jason and to support NOVA (Network of Victims Assistance of Bucks County) http://novabucks.org/\n\nAll Cars\, Street Rods\, Rat Rods\, Customs\, Muscle Cars\, Trucks\, Antiques\, Classics and Motorcycles are welcome.\n\nThere will be music\, raffles\, food\, vendors and trophies.Pre-registration is requested.$20 per vehicle registration day of event.$15 per vehicle if you pre-register by 10/05/25Rain Date: NoneVendors/Sponsor questions or requests are to be emailed to Justiceforjason2020@yahoo.com
URL:https://djdanlinedance.com/event/20251019/
LOCATION:Pennridge High School\, 1228 N 5th St\, Perkasie\, PA\, 18944\, United States
ATTACH;FMTTYPE=image/jpeg:https://djdanlinedance.com/wp-content/uploads/2025/09/Pennridge-Car-Show-2025.jpg
END:VEVENT
END:VCALENDAR