BEGIN:VCALENDAR
VERSION:2.0
PRODID:-//DJ Dan Line Dance - ECPv6.15.20//NONSGML v1.0//EN
CALSCALE:GREGORIAN
METHOD:PUBLISH
X-WR-CALNAME:DJ Dan Line Dance
X-ORIGINAL-URL:https://djdanlinedance.com
X-WR-CALDESC:Events for DJ Dan Line Dance
REFRESH-INTERVAL;VALUE=DURATION:PT1H
X-Robots-Tag:noindex
X-PUBLISHED-TTL:PT1H
BEGIN:VTIMEZONE
TZID:America/New_York
BEGIN:DAYLIGHT
TZOFFSETFROM:-0500
TZOFFSETTO:-0400
TZNAME:EDT
DTSTART:20240310T070000
END:DAYLIGHT
BEGIN:STANDARD
TZOFFSETFROM:-0400
TZOFFSETTO:-0500
TZNAME:EST
DTSTART:20241103T060000
END:STANDARD
BEGIN:DAYLIGHT
TZOFFSETFROM:-0500
TZOFFSETTO:-0400
TZNAME:EDT
DTSTART:20250309T070000
END:DAYLIGHT
BEGIN:STANDARD
TZOFFSETFROM:-0400
TZOFFSETTO:-0500
TZNAME:EST
DTSTART:20251102T060000
END:STANDARD
BEGIN:DAYLIGHT
TZOFFSETFROM:-0500
TZOFFSETTO:-0400
TZNAME:EDT
DTSTART:20260308T070000
END:DAYLIGHT
BEGIN:STANDARD
TZOFFSETFROM:-0400
TZOFFSETTO:-0500
TZNAME:EST
DTSTART:20261101T060000
END:STANDARD
END:VTIMEZONE
BEGIN:VEVENT
DTSTART;TZID=America/New_York:20251025T090000
DTEND;TZID=America/New_York:20251025T133000
DTSTAMP:20260423T234314
CREATED:20250926T214259Z
LAST-MODIFIED:20250926T214259Z
UID:2576-1761382800-1761399000@djdanlinedance.com
SUMMARY:11th Annual HOWLoween 5k\, Dog Walk & Fall Fair
DESCRIPTION:Join us for the 11th Annual Howloween 5K and Dog Walk on Saturday\, October 25th\, 2025\, at Parkside Place Park in North Wales\, PA. This event consists of a 5K run/walk\, and a 1-mile dog walk….PLUS\, after a wildly-successful event last year\, we are bringing back our popular Fall Fair with over 100 vendors! There will also be dozens of incredible raffle baskets\, costume contests\, a dog agility course\, food trucks\, and doggie “puppuccinos”!  Four-legged friends are welcome to attend all activities\, making this event unlike any other in the area!  And of course because this is a “Howloween” event\, participants are encouraged to come in costume! \nTake advantage of our Early Bird Special…register by September 30th for last year’s prices:  $35 for 5K\, and $15 for 1-Mile Dog Walk. \nRegister October 1st-24th:  $40 for 5K\, and $20 for 1-Mile Dog Walk. \nOctober 25th Day-of-Event Pricing:  $45 for 5K\, and $25 for 1-Mile Dog Walk. \nRegister by Sunday\, October 5th\, 11:59 PM\, to guarantee your Howloween t-shirt (free for 5K participants\, $15 for walkers).  Very limited number available for sale at the event for $15.
URL:https://djdanlinedance.com/event/20251025a/
LOCATION:Parkside Place\, 1 Parkside Pl\, North Wales\, PA\, 19454\, United States
ATTACH;FMTTYPE=image/jpeg:https://djdanlinedance.com/wp-content/uploads/2025/09/2025-HOWLoween-Cover.jpg
END:VEVENT
END:VCALENDAR