BEGIN:VCALENDAR
VERSION:2.0
PRODID:-//DJ Dan Line Dance - ECPv6.15.20//NONSGML v1.0//EN
CALSCALE:GREGORIAN
METHOD:PUBLISH
X-ORIGINAL-URL:https://djdanlinedance.com
X-WR-CALDESC:Events for DJ Dan Line Dance
REFRESH-INTERVAL;VALUE=DURATION:PT1H
X-Robots-Tag:noindex
X-PUBLISHED-TTL:PT1H
BEGIN:VTIMEZONE
TZID:America/New_York
BEGIN:DAYLIGHT
TZOFFSETFROM:-0500
TZOFFSETTO:-0400
TZNAME:EDT
DTSTART:20230312T070000
END:DAYLIGHT
BEGIN:STANDARD
TZOFFSETFROM:-0400
TZOFFSETTO:-0500
TZNAME:EST
DTSTART:20231105T060000
END:STANDARD
BEGIN:DAYLIGHT
TZOFFSETFROM:-0500
TZOFFSETTO:-0400
TZNAME:EDT
DTSTART:20240310T070000
END:DAYLIGHT
BEGIN:STANDARD
TZOFFSETFROM:-0400
TZOFFSETTO:-0500
TZNAME:EST
DTSTART:20241103T060000
END:STANDARD
BEGIN:DAYLIGHT
TZOFFSETFROM:-0500
TZOFFSETTO:-0400
TZNAME:EDT
DTSTART:20250309T070000
END:DAYLIGHT
BEGIN:STANDARD
TZOFFSETFROM:-0400
TZOFFSETTO:-0500
TZNAME:EST
DTSTART:20251102T060000
END:STANDARD
END:VTIMEZONE
BEGIN:VEVENT
DTSTART;TZID=America/New_York:20240401T190000
DTEND;TZID=America/New_York:20240401T220000
DTSTAMP:20260425T112233
CREATED:20240319T201623Z
LAST-MODIFIED:20240319T210839Z
UID:691-1711998000-1712008800@djdanlinedance.com
SUMMARY:Warminster VFW Line Dancing
DESCRIPTION:Line Dancing at the VFW Warminster! \n7pm to 10pm \n$10 cover \nLessons\, dancing and always lots of fun! \nSee ya there!
URL:https://djdanlinedance.com/event/warminster-vfw-line-dancing-20240401/
LOCATION:Warminster VFW 6493\, 645 Louis Dr\, Warminster\, PA\, 18974\, United States
CATEGORIES:Line Dancing
ATTACH;FMTTYPE=image/jpeg:https://djdanlinedance.com/wp-content/uploads/2024/03/691_image_427756351_770134165171609_3140180263161668774_n.jpg
END:VEVENT
BEGIN:VEVENT
DTSTART;TZID=America/New_York:20240402T183000
DTEND;TZID=America/New_York:20240402T223000
DTSTAMP:20260425T112233
CREATED:20240319T203822Z
LAST-MODIFIED:20240319T210948Z
UID:700-1712082600-1712097000@djdanlinedance.com
SUMMARY:Line Dancing at SunnyBrook Ballroom
DESCRIPTION:SoulJoel Presents: \nLine Dancing at SoulJoel’s at SunnyBrook\nInside the Sunnybrook Ballroom w/ DJ Dan \nBeginner lessons 6:30-7 pm\nOpen Dance 7-1030pm\nFull Bar available. No outside food or beverages \nFood available from Gatsby’s Pub 4 to 11pm \nGet tickets here:\nhttps://www.souljoels.com/shop/tickets/linedancingapril2nd/ \nAbout DJ Dan: \nDJ for over 20 years\nLine Dancing DJ and instructor for over 4 years.\nAppearances in bars\, clubs\, and venues in PA and NJ like Rock N Rebel\, Prospectors Dance Venue\, and the Camden Waterfront Arena for the XTU Anniversary Show!!
URL:https://djdanlinedance.com/event/line-dancing-at-sunnybrook-ballroom-20240402/
LOCATION:SoulJoel’s at SunnyBrook\, 50 Sunnybrook Rd\, Pottstown\, PA\, 19464\, United States
CATEGORIES:Line Dancing
ATTACH;FMTTYPE=image/jpeg:https://djdanlinedance.com/wp-content/uploads/2024/03/700_image_432779645_788002453384780_3314519038152868435_n.jpg
END:VEVENT
BEGIN:VEVENT
DTSTART;TZID=America/New_York:20240403T190000
DTEND;TZID=America/New_York:20240403T220000
DTSTAMP:20260425T112233
CREATED:20240319T203828Z
LAST-MODIFIED:20240319T211047Z
UID:703-1712170800-1712181600@djdanlinedance.com
SUMMARY:Whitpain Tavern Line Dancing
DESCRIPTION:The 1st and 3rd Wednesday each month we will be line dancing at the Whitpain Tavern! \n7:00 pm to 10:00 pm\n$10 Cover Charge\nALL AGES \nBeginner lessons and open dancing! \nBring your dance requests! \nSee ya there!
URL:https://djdanlinedance.com/event/whitpain-tavern-line-dancing-20240403/
LOCATION:Whitpain Tavern\, 1529 Dekalb Pike\, Blue Bell\, PA\, 19422\, United States
CATEGORIES:Line Dancing
ATTACH;FMTTYPE=image/jpeg:https://djdanlinedance.com/wp-content/uploads/2024/03/703_image_427800768_770134598504899_4755509115577762145_n.jpg
END:VEVENT
BEGIN:VEVENT
DTSTART;TZID=America/New_York:20240406T190000
DTEND;TZID=America/New_York:20240406T220000
DTSTAMP:20260425T112233
CREATED:20240321T130059Z
LAST-MODIFIED:20240322T152439Z
UID:792-1712430000-1712440800@djdanlinedance.com
SUMMARY:Line Dancing with Dj Dan
DESCRIPTION:Line Dancing 7-10\nLight snacks and non alcoholic beverages will be served throughout the evening.\nAll ages\n$8 cover
URL:https://djdanlinedance.com/event/line-dancing-with-dj-dan-20240406/
LOCATION:Hausman’s Fruit Farm\, 2822 Limeport Pike\, Coopersburg\, PA\, 18036\, United States
CATEGORIES:Line Dancing
ATTACH;FMTTYPE=image/jpeg:https://djdanlinedance.com/wp-content/uploads/2024/03/20240406-Post.jpg
END:VEVENT
BEGIN:VEVENT
DTSTART;TZID=America/New_York:20240408T190000
DTEND;TZID=America/New_York:20240408T220000
DTSTAMP:20260425T112233
CREATED:20240319T205712Z
LAST-MODIFIED:20240319T211205Z
UID:710-1712602800-1712613600@djdanlinedance.com
SUMMARY:Warminster VFW Line Dancing
DESCRIPTION:Line Dancing at the VFW Warminster! \n7pm to 10pm \n$10 cover \nLessons\, dancing and always lots of fun! \nSee ya there!
URL:https://djdanlinedance.com/event/warminster-vfw-line-dancing-20240408/
LOCATION:Warminster VFW 6493\, 645 Louis Dr\, Warminster\, PA\, 18974\, United States
CATEGORIES:Line Dancing
ATTACH;FMTTYPE=image/jpeg:https://djdanlinedance.com/wp-content/uploads/2024/03/710_image_428637297_773053031546389_1105308162094900933_n.jpg
END:VEVENT
BEGIN:VEVENT
DTSTART;TZID=America/New_York:20240409T183000
DTEND;TZID=America/New_York:20240409T223000
DTSTAMP:20260425T112233
CREATED:20240319T205713Z
LAST-MODIFIED:20240319T211253Z
UID:712-1712687400-1712701800@djdanlinedance.com
SUMMARY:Line Dancing at SunnyBrook Ballroom
DESCRIPTION:SoulJoel Presents: \nLine Dancing at SoulJoel’s at SunnyBrook\nInside The Ballroom w/ DJ Dan \nLargest Ballroom East of the Mississippi (14\,000 square feet) \nBeginner lessons 6:30 to 7pm\nOpen Dance 7 to 1030\nFull Bar available. Food available to order from Gatsby’s Pub.\nNo outside food or beverage \nGet tickets here:\nhttps://www.souljoels.com/shop/tickets/linedancingapril9th/ \nAbout DJ Dan: \nDJ for over 20 years\nLine Dancing DJ and instructor for over 4 years. \nAppearances in bars\, clubs and venues in PA and NJ like Rock N Rebel\, Prospectors Dance Venue and the Camden Waterfront Arena for the XTU Anniversary Show!
URL:https://djdanlinedance.com/event/line-dancing-at-sunnybrook-ballroom-20240409/
LOCATION:SoulJoel’s at SunnyBrook\, 50 Sunnybrook Rd\, Pottstown\, PA\, 19464\, United States
CATEGORIES:Line Dancing
ATTACH;FMTTYPE=image/jpeg:https://djdanlinedance.com/wp-content/uploads/2024/03/712_image_430875309_788002903384735_5833169058502505266_n.jpg
END:VEVENT
BEGIN:VEVENT
DTSTART;TZID=America/New_York:20240412T190000
DTEND;TZID=America/New_York:20240412T220000
DTSTAMP:20260425T112233
CREATED:20240319T205716Z
LAST-MODIFIED:20240319T211320Z
UID:715-1712948400-1712959200@djdanlinedance.com
SUMMARY:Red Hill Line Dancing
DESCRIPTION:Line Dancing Every 2nd Friday! \n7pm to 10pm \n$10 Cover \nLessons and Dancing \nFood and Drink Available
URL:https://djdanlinedance.com/event/red-hill-line-dancing-20240412/
LOCATION:Red Hill Fire Company Social Club\, 126 E 5th St\, Red Hill\, PA\, 18076\, United States
CATEGORIES:Line Dancing
ATTACH;FMTTYPE=image/jpeg:https://djdanlinedance.com/wp-content/uploads/2024/03/715_image_428618022_773055038212855_8106473450438182508_n.jpg
END:VEVENT
BEGIN:VEVENT
DTSTART;TZID=America/New_York:20240413T183000
DTEND;TZID=America/New_York:20240413T220000
DTSTAMP:20260425T112233
CREATED:20240406T175254Z
LAST-MODIFIED:20240410T222555Z
UID:841-1713033000-1713045600@djdanlinedance.com
SUMMARY:Maggio's Dinner & Dancing
DESCRIPTION:🤠🍽️🎶 Get ready to kick up your boots and chow down at Maggio’s! 🎉 Join us for an unforgettable night of dinner and line dancing! \nGet in on the action:\n6:30-7:30: Indulge in a mouthwatering buffet dinner featuring Chicken Marsala\, Penne Tomato Vodka\, Home-cooked Meatballs with Gravy\, Grilled Vegetable Medley\, Fresh Garden Salad\, Rolls with Whipped Butter\, and a tempting array of desserts! Plus\, enjoy complimentary soda\, iced tea\, and coffee. \n7:30-10:00: Hit the dance floor and learn some sweet line dancing moves! No experience? No problem! Line dance lessons are included\, so you can boot scoot with the best of ’em! \n🍹 Don’t forget\, we’ve got a cash bar stocked and ready to keep the party going! \nTickets are $45.00 all-inclusive per guest\, and reservations are a must. Seats are limited\, so call 215-322-7272 to reserve your spot today! Payment is due at the time of reservation and is non-refundable. \nY’all better hustle\, because these seats are gonna fill up quick! See you at Maggio’s for a boot-stompin’ good time! 🤠🎶
URL:https://djdanlinedance.com/event/maggios-dinner-dancing-20240413/
LOCATION:Maggio’s Restaurant Bar & Ballroom
CATEGORIES:Line Dancing
ATTACH;FMTTYPE=image/jpeg:https://djdanlinedance.com/wp-content/uploads/2024/04/841_image_432909380_800833345435024_3059496628808227989_n.jpg
END:VEVENT
BEGIN:VEVENT
DTSTART;TZID=America/New_York:20240415T190000
DTEND;TZID=America/New_York:20240415T220000
DTSTAMP:20260425T112233
CREATED:20240319T212340Z
LAST-MODIFIED:20240319T212508Z
UID:727-1713207600-1713218400@djdanlinedance.com
SUMMARY:Warminster VFW Line Dancing
DESCRIPTION:Line Dancing at the VFW Warminster! \n7pm to 10pm \n$10 cover \nLessons\, dancing and always lots of fun! \nSee ya there!
URL:https://djdanlinedance.com/event/warminster-vfw-line-dancing-20240415/
LOCATION:Warminster VFW 6493\, 645 Louis Dr\, Warminster\, PA\, 18974\, United States
CATEGORIES:Line Dancing
ATTACH;FMTTYPE=image/jpeg:https://djdanlinedance.com/wp-content/uploads/2024/03/727_image_427987506_773053204879705_6383326373398383401_n.jpg
END:VEVENT
BEGIN:VEVENT
DTSTART;TZID=America/New_York:20240416T183000
DTEND;TZID=America/New_York:20240416T223000
DTSTAMP:20260425T112233
CREATED:20240319T212344Z
LAST-MODIFIED:20240319T212552Z
UID:729-1713292200-1713306600@djdanlinedance.com
SUMMARY:Line Dancing at SunnyBrook Ballroom
DESCRIPTION:SoulJoel Presents: \nLine Dancing at SoulJoel’s at SunnyBrook\nInside the Sunnybrook Ballroom w/ DJ Dan \nBeginner lessons 6:30-7 pm\nOpen Dance 7-1030pm\nFull Bar available. Food available from Gatsby’s Pub 4pm until 11pm \nNo outside food or beverages \nGet tickets here:\nhttps://www.souljoels.com/shop/tickets/linedancingapril16th/ \nAbout DJ Dan: \nDJ for over 20 years\nLine Dancing DJ and instructor for over 4 years.\nAppearances in bars\, clubs\, and venues in PA and NJ like Rock N Rebel\, Prospectors Dance Venue\, and the Camden Waterfront Arena for the XTU Anniversary Show!!
URL:https://djdanlinedance.com/event/line-dancing-at-sunnybrook-ballroom-20240416/
LOCATION:SoulJoel’s at SunnyBrook\, 50 Sunnybrook Rd\, Pottstown\, PA\, 19464\, United States
CATEGORIES:Line Dancing
ATTACH;FMTTYPE=image/jpeg:https://djdanlinedance.com/wp-content/uploads/2024/03/729_image_430216034_385944857516595_2231714622217976179_n.jpg
END:VEVENT
BEGIN:VEVENT
DTSTART;TZID=America/New_York:20240419T200000
DTEND;TZID=America/New_York:20240419T230000
DTSTAMP:20260425T112233
CREATED:20240321T130440Z
LAST-MODIFIED:20240322T152057Z
UID:794-1713556800-1713567600@djdanlinedance.com
SUMMARY:COUNTRY LINE DANCING at the Trolley Barn!
DESCRIPTION:Pull on your boots and get ready to dance – it’s time for Line Dancing in downtown Quakertown! DJ Dan Linedance will be leading the dances in the Red Brick Center downstairs for a fun night of dancing with friends! Whether you are a beginner or have been dancing for years\, you are sure to have a good time!\nThe night begins with an hour of lessons – learn all the dances! Then get ready to use your new dancing skills and have a boot-stompin’\, hip-swingin’\, yeehawin’ good time!\nNo cover charge – open to all ages!\nBe sure to fuel up with a bite to eat and keep it cool with fabulous drinks from the Trolley Barn vendors!
URL:https://djdanlinedance.com/event/country-line-dancing-at-the-trolley-barn-20240419/
CATEGORIES:Line Dancing
ATTACH;FMTTYPE=image/jpeg:https://djdanlinedance.com/wp-content/uploads/2024/03/20240419-Post.jpg
END:VEVENT
BEGIN:VEVENT
DTSTART;TZID=America/New_York:20240422T190000
DTEND;TZID=America/New_York:20240422T220000
DTSTAMP:20260425T112233
CREATED:20240319T213359Z
LAST-MODIFIED:20240319T214418Z
UID:737-1713812400-1713823200@djdanlinedance.com
SUMMARY:Warminster VFW Line Dancing
DESCRIPTION:Line Dancing at the VFW Warminster! \n7pm to 10pm \n$10 cover \nLessons\, dancing and always lots of fun! \nSee ya there!
URL:https://djdanlinedance.com/event/warminster-vfw-line-dancing-20240422/
LOCATION:Warminster VFW 6493\, 645 Louis Dr\, Warminster\, PA\, 18974\, United States
CATEGORIES:Line Dancing
ATTACH;FMTTYPE=image/jpeg:https://djdanlinedance.com/wp-content/uploads/2024/03/737_image_429885563_777286834456342_125518901828564875_n.jpg
END:VEVENT
BEGIN:VEVENT
DTSTART;TZID=America/New_York:20240423T183000
DTEND;TZID=America/New_York:20240423T223000
DTSTAMP:20260425T112233
CREATED:20240319T213403Z
LAST-MODIFIED:20240319T214444Z
UID:739-1713897000-1713911400@djdanlinedance.com
SUMMARY:Line Dancing at SunnyBrook Ballroom
DESCRIPTION:SoulJoel Presents: \nLine Dancing at SoulJoel’s at SunnyBrook\nInside the Sunnybrook Ballroom w/ DJ Dan \nBeginner lessons 6:30-7 pm\nOpen Dance 7-1030pm\nFull Bar available. Food available from Gatsby’s Pub 4pm until 11pm \nNo outside food or beverages \nGet tickets here:\nhttps://www.souljoels.com/shop/tickets/linedancingapril23rd/ \nAbout DJ Dan: \nDJ for over 20 years\nLine Dancing DJ and instructor for over 4 years.\nAppearances in bars\, clubs\, and venues in PA and NJ like Rock N Rebel\, Prospectors Dance Venue\, and the Camden Waterfront Arena for the XTU Anniversary Show!!
URL:https://djdanlinedance.com/event/line-dancing-at-sunnybrook-ballroom-20240423/
LOCATION:SoulJoel’s at SunnyBrook\, 50 Sunnybrook Rd\, Pottstown\, PA\, 19464\, United States
CATEGORIES:Line Dancing
ATTACH;FMTTYPE=image/jpeg:https://djdanlinedance.com/wp-content/uploads/2024/03/739_image_429546916_385948684182879_1657799071813433088_n.jpg
END:VEVENT
BEGIN:VEVENT
DTSTART;TZID=America/New_York:20240424T190000
DTEND;TZID=America/New_York:20240424T220000
DTSTAMP:20260425T112233
CREATED:20240411T205159Z
LAST-MODIFIED:20240411T205259Z
UID:917-1713985200-1713996000@djdanlinedance.com
SUMMARY:Whitpain Tavern Line Dancing
DESCRIPTION:It may not be the 1st or 3rd Wednesday of the month but we will be line dancing on April 24th at the Whitpain Tavern! \n7:00 pm to 10:00 pm\n$10 Cover Charge\nALL AGES \nBeginner lessons and open dancing! \nBring your dance requests! \nSee ya there!
URL:https://djdanlinedance.com/event/whitpain-tavern-line-dancing-20240424/
LOCATION:Whitpain Tavern\, 1529 Dekalb Pike\, Blue Bell\, PA\, 19422\, United States
CATEGORIES:Line Dancing
ATTACH;FMTTYPE=image/jpeg:https://djdanlinedance.com/wp-content/uploads/2024/04/917_image_434967081_803806721804353_2401144123239330876_n.jpg
END:VEVENT
BEGIN:VEVENT
DTSTART;TZID=America/New_York:20240428T130000
DTEND;TZID=America/New_York:20240428T150000
DTSTAMP:20260425T112233
CREATED:20240409T170746Z
LAST-MODIFIED:20240409T170746Z
UID:844-1714309200-1714316400@djdanlinedance.com
SUMMARY:Family Day Country Line Dancing!
DESCRIPTION:Pull on your boots and get ready to dance – it’s time for a family friendly Line Dancing afternoon at the Trolley Barn Public market! Bring the kids\, get some lunch with our great vendors\, and enjoy time dancing together! \nNo cover charge.
URL:https://djdanlinedance.com/event/family-day-country-line-dancing-20240428/
CATEGORIES:Line Dancing
ATTACH;FMTTYPE=image/jpeg:https://djdanlinedance.com/wp-content/uploads/2024/04/20240428-Post.jpg
END:VEVENT
BEGIN:VEVENT
DTSTART;TZID=America/New_York:20240429T190000
DTEND;TZID=America/New_York:20240429T220000
DTSTAMP:20260425T112233
CREATED:20240319T213406Z
LAST-MODIFIED:20240319T214512Z
UID:741-1714417200-1714428000@djdanlinedance.com
SUMMARY:Warminster VFW Line Dancing
DESCRIPTION:Line Dancing at the VFW Warminster! \n7pm to 10pm \n$10 cover \nLessons\, dancing and always lots of fun! \nSee ya there!
URL:https://djdanlinedance.com/event/warminster-vfw-line-dancing-20240429/
LOCATION:Warminster VFW 6493\, 645 Louis Dr\, Warminster\, PA\, 18974\, United States
CATEGORIES:Line Dancing
ATTACH;FMTTYPE=image/jpeg:https://djdanlinedance.com/wp-content/uploads/2024/03/741_image_429658403_777286984456327_1682726236205175016_n.jpg
END:VEVENT
BEGIN:VEVENT
DTSTART;TZID=America/New_York:20240430T183000
DTEND;TZID=America/New_York:20240430T223000
DTSTAMP:20260425T112233
CREATED:20240319T213409Z
LAST-MODIFIED:20240319T214533Z
UID:743-1714501800-1714516200@djdanlinedance.com
SUMMARY:Line Dancing at SunnyBrook Ballroom
DESCRIPTION:SoulJoel Presents: \nLine Dancing at SoulJoel’s at SunnyBrook\nInside the Sunnybrook Ballroom w/ DJ Dan \nBeginner lessons 6:30-7 pm\nOpen Dance 7-1030pm\nFull Bar available. No outside food or beverages \nFood available from Gatsby’s Pub 4 to 11pm \nGet tickets here:\nhttps://www.souljoels.com/shop/tickets/linedancingapril30th/ \nAbout DJ Dan: \nDJ for over 20 years\nLine Dancing DJ and instructor for over 4 years.\nAppearances in bars\, clubs\, and venues in PA and NJ like Rock N Rebel\, Prospectors Dance Venue\, and the Camden Waterfront Arena for the XTU Anniversary Show!!
URL:https://djdanlinedance.com/event/line-dancing-at-sunnybrook-ballroom-20240430/
LOCATION:SoulJoel’s at SunnyBrook\, 50 Sunnybrook Rd\, Pottstown\, PA\, 19464\, United States
CATEGORIES:Line Dancing
ATTACH;FMTTYPE=image/jpeg:https://djdanlinedance.com/wp-content/uploads/2024/03/743_image_432835882_788003656717993_7609313311575137737_n.jpg
END:VEVENT
END:VCALENDAR