BEGIN:VCALENDAR
VERSION:2.0
PRODID:-//DJ Dan Line Dance - ECPv6.15.20//NONSGML v1.0//EN
CALSCALE:GREGORIAN
METHOD:PUBLISH
X-WR-CALNAME:DJ Dan Line Dance
X-ORIGINAL-URL:https://djdanlinedance.com
X-WR-CALDESC:Events for DJ Dan Line Dance
REFRESH-INTERVAL;VALUE=DURATION:PT1H
X-Robots-Tag:noindex
X-PUBLISHED-TTL:PT1H
BEGIN:VTIMEZONE
TZID:America/New_York
BEGIN:DAYLIGHT
TZOFFSETFROM:-0500
TZOFFSETTO:-0400
TZNAME:EDT
DTSTART:20250309T070000
END:DAYLIGHT
BEGIN:STANDARD
TZOFFSETFROM:-0400
TZOFFSETTO:-0500
TZNAME:EST
DTSTART:20251102T060000
END:STANDARD
BEGIN:DAYLIGHT
TZOFFSETFROM:-0500
TZOFFSETTO:-0400
TZNAME:EDT
DTSTART:20260308T070000
END:DAYLIGHT
BEGIN:STANDARD
TZOFFSETFROM:-0400
TZOFFSETTO:-0500
TZNAME:EST
DTSTART:20261101T060000
END:STANDARD
BEGIN:DAYLIGHT
TZOFFSETFROM:-0500
TZOFFSETTO:-0400
TZNAME:EDT
DTSTART:20270314T070000
END:DAYLIGHT
BEGIN:STANDARD
TZOFFSETFROM:-0400
TZOFFSETTO:-0500
TZNAME:EST
DTSTART:20271107T060000
END:STANDARD
END:VTIMEZONE
BEGIN:VEVENT
DTSTART;TZID=America/New_York:20260102T190000
DTEND;TZID=America/New_York:20260102T220000
DTSTAMP:20260423T190707
CREATED:20251212T190000Z
LAST-MODIFIED:20251212T191226Z
UID:2717-1767380400-1767391200@djdanlinedance.com
SUMMARY:Nostalgia 1720 Line Dancing
DESCRIPTION:Join DJ Dan Line Dance on the 1st Friday of every month for an evening packed with great music and an awesome crowd. \n📍 Nostalgia 1720\n136 E Butler Ave\, Chalfont\, PA 18914 \n🕖 7:00 PM – 10:00 PM\n💵 $10 cover \nBring your own food and enjoy a relaxed\, social atmosphere. Drinks are available for purchase at the venue — no outside beverages permitted. \nCome dance\, laugh\, and make memories with DJ Dan Line Dance! 🎶🕺💃
URL:https://djdanlinedance.com/event/20260102/
LOCATION:The Bar at 1720\, 136 East Butler Ave\, Chalfont\, PA\, 18914\, United States
CATEGORIES:Line Dancing
ATTACH;FMTTYPE=image/jpeg:https://djdanlinedance.com/wp-content/uploads/2025/12/2717_image_597836103_10231363997659022_332403337464501765_n.jpg
END:VEVENT
BEGIN:VEVENT
DTSTART;TZID=America/New_York:20260103T190000
DTEND;TZID=America/New_York:20260103T220000
DTSTAMP:20260423T190707
CREATED:20251212T190004Z
LAST-MODIFIED:20251212T191447Z
UID:2720-1767466800-1767477600@djdanlinedance.com
SUMMARY:Line Dancing with DJ Dan at Hausman’s Fruit Farm
DESCRIPTION:Join DJ Dan Line Dance on the 1st Saturday of every month for an evening of great music\, good vibes\, and plenty of dancing. \n📍 Hausman’s Fruit Farm\n2822 Limeport Pike\, Coopersburg\, PA 18036 \n🕖 7:00 PM – 10:00 PM\n💵 $5 cover \nLight snacks and refreshments will be available for purchase to keep you fueled throughout the night. \nCome dance\, laugh\, and make memories in the barn—see you there! 🎶🕺💃
URL:https://djdanlinedance.com/event/20260103/
LOCATION:Hausman’s Fruit Farm\, 2822 Limeport Pike\, Coopersburg\, PA\, 18036\, United States
CATEGORIES:Line Dancing
ATTACH;FMTTYPE=image/jpeg:https://djdanlinedance.com/wp-content/uploads/2025/12/2720_image_597870815_10231364016419491_7951616322281971157_n.jpg
END:VEVENT
BEGIN:VEVENT
DTSTART;TZID=America/New_York:20260105T180000
DTEND;TZID=America/New_York:20260105T210000
DTSTAMP:20260423T190707
CREATED:20251212T185942Z
LAST-MODIFIED:20251229T183907Z
UID:2709-1767636000-1767646800@djdanlinedance.com
SUMMARY:Line Dancing @ Capri Pizza
DESCRIPTION:Join DJ Dan Line Dance every Monday for an energetic evening filled with your favorite line dances\, delicious food\, and a welcoming community. \n📍 Capri Pizza Restaurant & Bar\n5855 Easton Rd\, Plumsteadville\, PA 18949 \n🕕 6:00 PM – 9:00 PM\n💵 $10 cover \nIncludes a $5 food voucher valid on food orders of $15 or more\nEnjoy a full night of dancing while treating yourself to Capri’s tasty menu. \nPlease note: no powder or dance wax is permitted on the floor to keep the dance space safe for everyone. \nThis night out is the perfect way to kick off your week. Come join the fun! 🎶🕺💃
URL:https://djdanlinedance.com/event/20260105/
LOCATION:Capri Pizza Restaurant & Bar\, 5855 Easton Road\, Plumsteadville\, PA\, 18949\, United States
CATEGORIES:Line Dancing
ATTACH;FMTTYPE=image/png:https://djdanlinedance.com/wp-content/uploads/2025/12/Capri-Cover.png
END:VEVENT
BEGIN:VEVENT
DTSTART;TZID=America/New_York:20260106T183000
DTEND;TZID=America/New_York:20260106T223000
DTSTAMP:20260423T190707
CREATED:20251212T192034Z
LAST-MODIFIED:20251212T192034Z
UID:2735-1767724200-1767738600@djdanlinedance.com
SUMMARY:Line Dancing inside the SunnyBrook Ballroom
DESCRIPTION:SoulJoel Presents:\n\nLine Dancing at SoulJoel’s at SunnyBrookInside the Sunnybrook Ballroom w/ DJ Dan\nBeginner lessons 6:30-7 pmOpen Dance 7-1030pmFull Bar available. No outside food or beverages\nFood available from Gatsby’s Pub 4 to 11pm\nGet tickets here:https://souljoels.com/shop/tickets/linedancingjanuary6th/\n\nAbout DJ Dan:\nDJ for over 20 yearsLine Dancing DJ and instructor for over 4 years.Appearances in bars\, clubs\, and venues in PA and NJ like Rock N Rebel\, Prospectors Dance Venue\, and the Camden Waterfront Arena for the XTU Anniversary Show!!
URL:https://djdanlinedance.com/event/20260106/
LOCATION:SoulJoel’s at Sunnybrook*\, 50 Sunnybrook Road\, Pottstown\, PA\, 19464
CATEGORIES:Line Dancing
ATTACH;FMTTYPE=image/png:https://djdanlinedance.com/wp-content/uploads/2025/12/Purple-Cover.png
END:VEVENT
BEGIN:VEVENT
DTSTART;TZID=America/New_York:20260109T200000
DTEND;TZID=America/New_York:20260109T230000
DTSTAMP:20260423T190707
CREATED:20251210T204745Z
LAST-MODIFIED:20251210T204919Z
UID:2704-1767988800-1767999600@djdanlinedance.com
SUMMARY:Line Dancing @ Bella Brew Pub
DESCRIPTION:🎉 NEW VENUE ALERT! Join us for Line Dancing at Bella Brew Pub! \nDance the night away with DJ Dan Line Dance in a fun\, all-ages environment on Friday\, January 9th! \n📍 Bella Brew Pub\n1355 Gravel Pike\, Perkiomenville\, PA 18074\n🕗 8:00 PM – 11:00 PM\n💵 No cover\n🍔 Food available until 9 PM / Drinks available all night\n❌ No outside food or drinks\n🔥 Heated concrete patio \nBring your friends\, enjoy great music\, delicious food\, and refreshing drinks\, and show off your best moves on the dance floor. Let’s make it a night to remember! 🕺💃🎶
URL:https://djdanlinedance.com/event/20260109/
LOCATION:Bella Brew Pub\, 1355 N Gravel Pike\, Perkiomenville\, PA\, 18074\, US
CATEGORIES:Line Dancing
ATTACH;FMTTYPE=image/jpeg:https://djdanlinedance.com/wp-content/uploads/2025/12/2704_image_597635626_10231330614624467_8765689378332240810_n.jpg
END:VEVENT
BEGIN:VEVENT
DTSTART;TZID=America/New_York:20260110T190000
DTEND;TZID=America/New_York:20260110T220000
DTSTAMP:20260423T190707
CREATED:20251212T190008Z
LAST-MODIFIED:20251212T191445Z
UID:2722-1768071600-1768082400@djdanlinedance.com
SUMMARY:Fred Astaire Dance Studio Line Dancing
DESCRIPTION:🕺💃🎶 Step onto the dance floor for Line Dancing at Fred Astaire Dance Studios – Collegeville! \nJoin DJ Dan Line Dance on the 2nd Saturday of every month for an evening of fun. \n📍 Fred Astaire Dance Studios – Collegeville\n222 E Main St\, Collegeville\, PA 19426 \n🕖 7:00 PM – 10:00 PM\n💵 $10 cover\nIncludes dancing\, water\, and delicious tomato pie
URL:https://djdanlinedance.com/event/20260110/
LOCATION:Fred Astaire Dance Studios – Collegeville\, 222 E. Main Street\, Collegeville\, PA\, 19426\, United States
CATEGORIES:Line Dancing
ATTACH;FMTTYPE=image/jpeg:https://djdanlinedance.com/wp-content/uploads/2025/12/2722_image_600232011_10231364040780100_4950647777548660860_n.jpg
END:VEVENT
BEGIN:VEVENT
DTSTART;TZID=America/New_York:20260112T180000
DTEND;TZID=America/New_York:20260112T210000
DTSTAMP:20260423T190707
CREATED:20251212T185949Z
LAST-MODIFIED:20251229T183827Z
UID:2711-1768240800-1768251600@djdanlinedance.com
SUMMARY:Line Dancing @ Capri Pizza
DESCRIPTION:Join DJ Dan Line Dance every Monday for an energetic evening filled with your favorite line dances\, delicious food\, and a welcoming community. \n📍 Capri Pizza Restaurant & Bar\n5855 Easton Rd\, Plumsteadville\, PA 18949 \n🕕 6:00 PM – 9:00 PM\n💵 $10 cover \nIncludes a $5 food voucher valid on food orders of $15 or more\nEnjoy a full night of dancing while treating yourself to Capri’s tasty menu. \nPlease note: no powder or dance wax is permitted on the floor to keep the dance space safe for everyone. \nThis night out is the perfect way to kick off your week. Come join the fun! 🎶🕺💃
URL:https://djdanlinedance.com/event/20260112/
LOCATION:Capri Pizza Restaurant & Bar\, 5855 Easton Road\, Plumsteadville\, PA\, 18949\, United States
CATEGORIES:Line Dancing
ATTACH;FMTTYPE=image/png:https://djdanlinedance.com/wp-content/uploads/2025/12/Capri-Cover.png
END:VEVENT
BEGIN:VEVENT
DTSTART;TZID=America/New_York:20260113T183000
DTEND;TZID=America/New_York:20260113T223000
DTSTAMP:20260423T190707
CREATED:20251212T192309Z
LAST-MODIFIED:20251212T192628Z
UID:2737-1768329000-1768343400@djdanlinedance.com
SUMMARY:Line Dancing inside the SunnyBrook Ballroom
DESCRIPTION:SoulJoel Presents:\n\nLine Dancing at SoulJoel’s at SunnyBrookInside the Sunnybrook Ballroom w/ DJ Dan\nBeginner lessons 6:30-7 pmOpen Dance 7-1030pmFull Bar available. No outside food or beverages\nFood available from Gatsby’s Pub 4 to 830pm\nGet tickets here:https://souljoels.com/shop/tickets/linedancingjanuary13th/\n\nAbout DJ Dan:\nDJ for over 20 yearsLine Dancing DJ and instructor for over 4 years.Appearances in bars\, clubs\, and venues in PA and NJ like Rock N Rebel\, Prospectors Dance Venue\, and the Camden Waterfront Arena for the XTU Anniversary Show!!
URL:https://djdanlinedance.com/event/20260113/
LOCATION:SoulJoel’s at Sunnybrook*\, 50 Sunnybrook Road\, Pottstown\, PA\, 19464
CATEGORIES:Line Dancing
ATTACH;FMTTYPE=image/png:https://djdanlinedance.com/wp-content/uploads/2025/12/Black-Cover.png
END:VEVENT
BEGIN:VEVENT
DTSTART;TZID=America/New_York:20260116T180000
DTEND;TZID=America/New_York:20260116T230000
DTSTAMP:20260423T190707
CREATED:20251212T192852Z
LAST-MODIFIED:20251212T193038Z
UID:2741-1768586400-1768604400@djdanlinedance.com
SUMMARY:Special Friday Line Dancing inside SunnyBrook
DESCRIPTION:SoulJoel Presents:\n\nLine Dancing inside the SunnyBrook Ballroomw/ DJ Dan (Largest Ballroom East of the Mississippi 14\,000 square feet)\n\nONLY $10 in advance and $15 at the door\nGet tickets here:https://souljoels.com/shop/tickets/fridaylinedancing/\nThe only purchase condition we have is that all tickets are non-refundable. All sales are final.\n\nBeginner lessons 6 to 7pmOpen Dance 7 to 11pm\nFull Bar available. Food available to order from Gatsby’s Pub until 9pmNo outside food or beverage\n\nFREE PARKING!\n\nAbout DJ Dan:\nDJ for over 20 yearsLine Dancing DJ and instructor for over 4 years.\nAppearances in bars\, clubs and venues in PA and NJ like Rock N Rebel\, Prospectors Dance Venue and the Camden Waterfront Arena for the XTU Anniversary Show!
URL:https://djdanlinedance.com/event/20260116/
LOCATION:SoulJoel’s at Sunnybrook*\, 50 Sunnybrook Road\, Pottstown\, PA\, 19464
CATEGORIES:Line Dancing
ATTACH;FMTTYPE=image/png:https://djdanlinedance.com/wp-content/uploads/2025/12/3rd-Friday-Cover.png
END:VEVENT
BEGIN:VEVENT
DTSTART;TZID=America/New_York:20260117T190000
DTEND;TZID=America/New_York:20260117T220000
DTSTAMP:20260423T190707
CREATED:20251212T190013Z
LAST-MODIFIED:20251212T191246Z
UID:2724-1768676400-1768687200@djdanlinedance.com
SUMMARY:Nostalgia 1720 Line Dancing
DESCRIPTION:Join DJ Dan Line Dance on the 3rd Saturday of every month for an evening of great music with our dance family. \n📍 Nostalgia 1720\n136 E Butler Ave\, Chalfont\, PA 18914 \n🕖 7:00 PM – 10:00 PM\n💵 $10 cover\n🍴 BYO Food\n🍹 Drinks available for purchase (no outside drinks) \nCome dance\, laugh\, learn and make memories! 🕺💃🎶
URL:https://djdanlinedance.com/event/20260117/
LOCATION:The Bar at 1720\, 136 East Butler Ave\, Chalfont\, PA\, 18914\, United States
CATEGORIES:Line Dancing
ATTACH;FMTTYPE=image/jpeg:https://djdanlinedance.com/wp-content/uploads/2025/12/2724_image_599628780_10231364065540719_8303383751228711553_n.jpg
END:VEVENT
BEGIN:VEVENT
DTSTART;TZID=America/New_York:20260119T180000
DTEND;TZID=America/New_York:20260119T210000
DTSTAMP:20260423T190707
CREATED:20251228T231128Z
LAST-MODIFIED:20251229T183626Z
UID:2745-1768845600-1768856400@djdanlinedance.com
SUMMARY:Line Dancing @ Capri Pizza
DESCRIPTION:Join DJ Dan Line Dance every Monday for an energetic evening filled with your favorite line dances\, delicious food\, and a welcoming community. \n📍 Capri Pizza Restaurant & Bar\n5855 Easton Rd\, Plumsteadville\, PA 18949 \n🕕 6:00 PM – 9:00 PM\n💵 $10 cover \nIncludes a $5 food voucher valid on food orders of $15 or more\nEnjoy a full night of dancing while treating yourself to Capri’s tasty menu. \nPlease note: no powder or dance wax is permitted on the floor to keep the dance space safe for everyone. \nThis night out is the perfect way to kick off your week. Come join the fun! 🎶🕺💃
URL:https://djdanlinedance.com/event/20260119/
LOCATION:Capri Pizza Restaurant & Bar\, 5855 Easton Road\, Plumsteadville\, PA\, 18949\, United States
CATEGORIES:Line Dancing
ATTACH;FMTTYPE=image/png:https://djdanlinedance.com/wp-content/uploads/2025/12/Capri-Cover.png
END:VEVENT
BEGIN:VEVENT
DTSTART;TZID=America/New_York:20260120T183000
DTEND;TZID=America/New_York:20260120T223000
DTSTAMP:20260423T190707
CREATED:20251229T012309Z
LAST-MODIFIED:20251229T012309Z
UID:2764-1768933800-1768948200@djdanlinedance.com
SUMMARY:Line Dancing at SunnyBrook Ballroom
DESCRIPTION:SoulJoel Presents:\n\nLine Dancing inside the historic SunnyBrook BallroomInside The Ballroom w/ DJ Dan\n\nLargest Ballroom East of the Mississippi (14\,000 square feet)\n\nBeginner lessons 6:30 to 7pmOpen Dance 7 to 1030Full Bar available. Food available to order from Gatsby’s Pub until 830pmNo outside food or beverage\n\nFREE PARKING!\n\nGet tickets here:https://souljoels.com/shop/tickets/linedancingjanuary20th/\n\nAbout DJ Dan:\nDJ for over 20 yearsLine Dancing DJ and instructor for over 4 years.\nAppearances in bars\, clubs and venues in PA and NJ like Rock N Rebel\, Prospectors Dance Venue and the Camden Waterfront Arena for the XTU Anniversary Show!
URL:https://djdanlinedance.com/event/20260120/
LOCATION:SoulJoel’s at Sunnybrook*\, 50 Sunnybrook Road\, Pottstown\, PA\, 19464
CATEGORIES:Line Dancing
ATTACH;FMTTYPE=image/png:https://djdanlinedance.com/wp-content/uploads/2025/12/Blue-Cover.png
END:VEVENT
BEGIN:VEVENT
DTSTART;TZID=America/New_York:20260123T180000
DTEND;TZID=America/New_York:20260123T230000
DTSTAMP:20260423T190707
CREATED:20251229T014518Z
LAST-MODIFIED:20260119T001450Z
UID:2773-1769191200-1769209200@djdanlinedance.com
SUMMARY:SOLD OUT!  Shot of Southern debuts at The SunnyBrook Ballroom + Line Dancing!
DESCRIPTION:SoulJoel Presents:\n\nSpecial Music Event: Shot of Southern inside The SunnyBrook Ballroom\n\nFriday January 23rd\, 2026\n\nDoors open at 6pm\, music from 7 to 10pm\n\nTickets are ONLY $20 in advance and $25 at the door inside The Historic SunnyBrook Ballroom\n\nAll tickets will be seated at tables inside the ballroom. Parties of 6 or more may reserve a table together!\n\nDoors open at 6pm\, Show starts at 7pm\n\nFull bar available inside the ballroom.\n\nFood can be ordered before the show inside the ballroom to be delivered at your table\n\n50 SunnyBrook Road Pottstown\, PA 19464\n\nGet tickets here:https://souljoels.com/shop/tickets/shotofsouthern/
URL:https://djdanlinedance.com/event/20260123/
LOCATION:SoulJoel’s at Sunnybrook*\, 50 Sunnybrook Road\, Pottstown\, PA\, 19464
CATEGORIES:Line Dancing
ATTACH;FMTTYPE=image/jpeg:https://djdanlinedance.com/wp-content/uploads/2025/12/20260123-Cover.jpg
END:VEVENT
BEGIN:VEVENT
DTSTART;TZID=America/New_York:20260124T200000
DTEND;TZID=America/New_York:20260124T230000
DTSTAMP:20260423T190707
CREATED:20251229T013038Z
LAST-MODIFIED:20251229T013038Z
UID:2767-1769284800-1769295600@djdanlinedance.com
SUMMARY:Line Dancing at the Trolley Barn Public Market - JANUARY
DESCRIPTION:Line Dancing at Trolley Barn!\n\nMark your calendars for the 4th Saturday of every month — 8 – 11PM8 – 9PM Lessons9 – 11PM Open Dance\n\nThis is the perfect way to spend your Saturday night – bring your friends\, enjoy great food and drink from our vendors before heading downstairs to hit the dance floor!\n\n$5 cover charge
URL:https://djdanlinedance.com/event/20260124/
LOCATION:PA
CATEGORIES:Line Dancing
ATTACH;FMTTYPE=image/jpeg:https://djdanlinedance.com/wp-content/uploads/2025/12/20260124-Cover.jpg
END:VEVENT
BEGIN:VEVENT
DTSTART;TZID=America/New_York:20260126T180000
DTEND;TZID=America/New_York:20260126T210000
DTSTAMP:20260423T190707
CREATED:20251228T231143Z
LAST-MODIFIED:20251229T183556Z
UID:2749-1769450400-1769461200@djdanlinedance.com
SUMMARY:Line Dancing @ Capri Pizza
DESCRIPTION:Join DJ Dan Line Dance every Monday for an energetic evening filled with your favorite line dances\, delicious food\, and a welcoming community. \n📍 Capri Pizza Restaurant & Bar\n5855 Easton Rd\, Plumsteadville\, PA 18949 \n🕕 6:00 PM – 9:00 PM\n💵 $10 cover \nIncludes a $5 food voucher valid on food orders of $15 or more\nEnjoy a full night of dancing while treating yourself to Capri’s tasty menu. \nPlease note: no powder or dance wax is permitted on the floor to keep the dance space safe for everyone. \nThis night out is the perfect way to kick off your week. Come join the fun! 🎶🕺💃
URL:https://djdanlinedance.com/event/20260126/
LOCATION:Capri Pizza Restaurant & Bar\, 5855 Easton Road\, Plumsteadville\, PA\, 18949\, United States
CATEGORIES:Line Dancing
ATTACH;FMTTYPE=image/png:https://djdanlinedance.com/wp-content/uploads/2025/12/Capri-Cover.png
END:VEVENT
BEGIN:VEVENT
DTSTART;TZID=America/New_York:20260127T183000
DTEND;TZID=America/New_York:20260127T223000
DTSTAMP:20260423T190707
CREATED:20251229T013730Z
LAST-MODIFIED:20251229T013730Z
UID:2770-1769538600-1769553000@djdanlinedance.com
SUMMARY:Line Dancing at SunnyBrook Ballroom
DESCRIPTION:SoulJoel Presents:\n\nLine Dancing inside the historic SunnyBrook BallroomInside the Sunnybrook Ballroom w/ DJ Dan\n\nBeginner lessons 6:30-7 pmOpen Dance 7-1030pm\n\nFull Bar available. No outside food or beverages\nFood available from Gatsby’s Pub 4 to 1030pm\n\nGet tickets here:https://souljoels.com/shop/tickets/linedancingjanuary20th/\n\nAbout DJ Dan:\nDJ for over 20 yearsLine Dancing DJ and instructor for over 4 years.Appearances in bars\, clubs\, and venues in PA and NJ like Rock N Rebel\, Prospectors Dance Venue\, and the Camden Waterfront Arena for the XTU Anniversary Show!!
URL:https://djdanlinedance.com/event/20260127/
LOCATION:SoulJoel’s at Sunnybrook*\, 50 Sunnybrook Road\, Pottstown\, PA\, 19464
CATEGORIES:Line Dancing
ATTACH;FMTTYPE=image/png:https://djdanlinedance.com/wp-content/uploads/2025/12/Grey-Cover.png
END:VEVENT
BEGIN:VEVENT
DTSTART;TZID=America/New_York:20260130T190000
DTEND;TZID=America/New_York:20260130T220000
DTSTAMP:20260423T190707
CREATED:20251228T231153Z
LAST-MODIFIED:20260130T171453Z
UID:2753-1769799600-1769810400@djdanlinedance.com
SUMMARY:Line Dancing @ Keelersville Club
DESCRIPTION:Join DJ Dan Line Dance on the for an evening of great music\, dancing\, and fun for all ages. \n📍 Keelersville Club\n2522 Ridge Rd\, Perkasie\, PA 18944 \n📅 Friday\, January 30th\n🕖 7:00 PM – 10:00 PM\n💵 $10 cover\n👥 All Ages\n❌ No outside food or beverages \nThis monthly event is perfect for letting loose\, learning new steps\, and enjoying a lively night out. Come dance\, laugh\, and make memories! 🕺💃🎶
URL:https://djdanlinedance.com/event/20260130/
LOCATION:Keelersville Club\, 2522 Ridge Rd\, Perkasie\, PA\, 18944\, United States
CATEGORIES:Line Dancing
ATTACH;FMTTYPE=image/jpeg:https://djdanlinedance.com/wp-content/uploads/2025/12/2753_image_607949384_10231545387393652_1010271541326468456_n.jpg
END:VEVENT
BEGIN:VEVENT
DTSTART;TZID=America/New_York:20260131T190000
DTEND;TZID=America/New_York:20260131T220000
DTSTAMP:20260423T190707
CREATED:20251228T231158Z
LAST-MODIFIED:20251228T232954Z
UID:2755-1769886000-1769896800@djdanlinedance.com
SUMMARY:Line Dancing @ Cedars Banquet Hall
DESCRIPTION:🎉 NEW VENUE ALERT! 🎉\nJoin us for an exciting night of Line Dancing at Cedars Banquet Hall with DJ Dan Line Dance! \n📍 Cedars Banquet Hall\n810 W Germantown Pike\, Norristown\, PA 19403 \n📅 Saturday\, January 31st\n🕖 7:00 PM – 10:00 PM\n💵 $10 cover\n👨‍👩‍👧‍👦 All Ages \nEnjoy a fun\, high-energy night of line dancing in a spacious new venue with a beautiful dance floor. Snacks and beverages will be available for purchase\, and guests are welcome to BYOB adult beverages. \nThis is the perfect night to come dance\, socialize\, and check out an exciting new location. Don’t miss it—let’s pack the dance floor! 🕺💃🎶
URL:https://djdanlinedance.com/event/20260131/
LOCATION:Norristown Cedar Club
CATEGORIES:Line Dancing
ATTACH;FMTTYPE=image/jpeg:https://djdanlinedance.com/wp-content/uploads/2025/12/2755_image_607611934_10231545584758586_7479692795311598655_n.jpg
END:VEVENT
END:VCALENDAR