BEGIN:VCALENDAR
VERSION:2.0
PRODID:-//DJ Dan Line Dance - ECPv6.15.20//NONSGML v1.0//EN
CALSCALE:GREGORIAN
METHOD:PUBLISH
X-ORIGINAL-URL:https://djdanlinedance.com
X-WR-CALDESC:Events for DJ Dan Line Dance
REFRESH-INTERVAL;VALUE=DURATION:PT1H
X-Robots-Tag:noindex
X-PUBLISHED-TTL:PT1H
BEGIN:VTIMEZONE
TZID:America/New_York
BEGIN:DAYLIGHT
TZOFFSETFROM:-0500
TZOFFSETTO:-0400
TZNAME:EDT
DTSTART:20230312T070000
END:DAYLIGHT
BEGIN:STANDARD
TZOFFSETFROM:-0400
TZOFFSETTO:-0500
TZNAME:EST
DTSTART:20231105T060000
END:STANDARD
BEGIN:DAYLIGHT
TZOFFSETFROM:-0500
TZOFFSETTO:-0400
TZNAME:EDT
DTSTART:20240310T070000
END:DAYLIGHT
BEGIN:STANDARD
TZOFFSETFROM:-0400
TZOFFSETTO:-0500
TZNAME:EST
DTSTART:20241103T060000
END:STANDARD
BEGIN:DAYLIGHT
TZOFFSETFROM:-0500
TZOFFSETTO:-0400
TZNAME:EDT
DTSTART:20250309T070000
END:DAYLIGHT
BEGIN:STANDARD
TZOFFSETFROM:-0400
TZOFFSETTO:-0500
TZNAME:EST
DTSTART:20251102T060000
END:STANDARD
END:VTIMEZONE
BEGIN:VEVENT
DTSTART;TZID=America/New_York:20240519T130000
DTEND;TZID=America/New_York:20240519T170000
DTSTAMP:20260425T112323
CREATED:20240423T201042Z
LAST-MODIFIED:20240514T204054Z
UID:928-1716123600-1716138000@djdanlinedance.com
SUMMARY:Curran's Tacony Country Lunch & Line Dancing
DESCRIPTION:Country lunch & line dancing at Curran’s Tacony on Sunday\, May 19th from 1 PM – 5 PM. \nCover is $20 which includes buffet lunch and line dancing lessons and open dance. \nBuffet menu (included): Meatballs\, Penne alla Vodka\, Caesar salad\, Rolls & Butter \nFull menu & Cash Bar will be available. \nLove photo booths? Make sure you get your turn! It will be $5 for 2 strips of photos. \nSee you there!
URL:https://djdanlinedance.com/event/currans-tacony-country-lunch-line-dancing-20240519/
LOCATION:Curran’s Irish Inn\, 6900 State Road\, Philadelphia\, PA\, 19135\, US
CATEGORIES:Line Dancing
ATTACH;FMTTYPE=image/png:https://djdanlinedance.com/wp-content/uploads/2024/04/Currans-Cover.png
END:VEVENT
END:VCALENDAR