BEGIN:VCALENDAR
VERSION:2.0
PRODID:-//DJ Dan Line Dance - ECPv6.15.20//NONSGML v1.0//EN
CALSCALE:GREGORIAN
METHOD:PUBLISH
X-WR-CALNAME:DJ Dan Line Dance
X-ORIGINAL-URL:https://djdanlinedance.com
X-WR-CALDESC:Events for DJ Dan Line Dance
REFRESH-INTERVAL;VALUE=DURATION:PT1H
X-Robots-Tag:noindex
X-PUBLISHED-TTL:PT1H
BEGIN:VTIMEZONE
TZID:America/New_York
BEGIN:DAYLIGHT
TZOFFSETFROM:-0500
TZOFFSETTO:-0400
TZNAME:EDT
DTSTART:20230312T070000
END:DAYLIGHT
BEGIN:STANDARD
TZOFFSETFROM:-0400
TZOFFSETTO:-0500
TZNAME:EST
DTSTART:20231105T060000
END:STANDARD
BEGIN:DAYLIGHT
TZOFFSETFROM:-0500
TZOFFSETTO:-0400
TZNAME:EDT
DTSTART:20240310T070000
END:DAYLIGHT
BEGIN:STANDARD
TZOFFSETFROM:-0400
TZOFFSETTO:-0500
TZNAME:EST
DTSTART:20241103T060000
END:STANDARD
BEGIN:DAYLIGHT
TZOFFSETFROM:-0500
TZOFFSETTO:-0400
TZNAME:EDT
DTSTART:20250309T070000
END:DAYLIGHT
BEGIN:STANDARD
TZOFFSETFROM:-0400
TZOFFSETTO:-0500
TZNAME:EST
DTSTART:20251102T060000
END:STANDARD
END:VTIMEZONE
BEGIN:VEVENT
DTSTART;TZID=America/New_York:20240621T190000
DTEND;TZID=America/New_York:20240621T220000
DTSTAMP:20260425T094538
CREATED:20240517T171941Z
LAST-MODIFIED:20240517T173106Z
UID:1047-1718996400-1719007200@djdanlinedance.com
SUMMARY:Fred Astaire Dance Studio Line Dancing
DESCRIPTION:Welcome to line dancing at our newest venue! \nYou know the drill – lessons and open dancing throughout the night.\n7 PM – 10 PM\n$10 Cover – includes tomato pie & water\nYou may also bring your own food and drink if you choose. \nSee you on the dance floor!
URL:https://djdanlinedance.com/event/fred-astaire-dance-studio-line-dancing-20240621/
LOCATION:Fred Astaire Dance Studios – Collegeville\, 222 E. Main Street\, Collegeville\, PA\, 19426\, United States
CATEGORIES:Line Dancing
ATTACH;FMTTYPE=image/jpeg:https://djdanlinedance.com/wp-content/uploads/2024/05/1047_image_444146116_825652349619790_2515724096969352797_n.jpg
END:VEVENT
END:VCALENDAR