BEGIN:VCALENDAR
VERSION:2.0
PRODID:-//DJ Dan Line Dance - ECPv6.15.20//NONSGML v1.0//EN
CALSCALE:GREGORIAN
METHOD:PUBLISH
X-WR-CALNAME:DJ Dan Line Dance
X-ORIGINAL-URL:https://djdanlinedance.com
X-WR-CALDESC:Events for DJ Dan Line Dance
REFRESH-INTERVAL;VALUE=DURATION:PT1H
X-Robots-Tag:noindex
X-PUBLISHED-TTL:PT1H
BEGIN:VTIMEZONE
TZID:America/New_York
BEGIN:DAYLIGHT
TZOFFSETFROM:-0500
TZOFFSETTO:-0400
TZNAME:EDT
DTSTART:20240310T070000
END:DAYLIGHT
BEGIN:STANDARD
TZOFFSETFROM:-0400
TZOFFSETTO:-0500
TZNAME:EST
DTSTART:20241103T060000
END:STANDARD
BEGIN:DAYLIGHT
TZOFFSETFROM:-0500
TZOFFSETTO:-0400
TZNAME:EDT
DTSTART:20250309T070000
END:DAYLIGHT
BEGIN:STANDARD
TZOFFSETFROM:-0400
TZOFFSETTO:-0500
TZNAME:EST
DTSTART:20251102T060000
END:STANDARD
BEGIN:DAYLIGHT
TZOFFSETFROM:-0500
TZOFFSETTO:-0400
TZNAME:EDT
DTSTART:20260308T070000
END:DAYLIGHT
BEGIN:STANDARD
TZOFFSETFROM:-0400
TZOFFSETTO:-0500
TZNAME:EST
DTSTART:20261101T060000
END:STANDARD
BEGIN:DAYLIGHT
TZOFFSETFROM:-0500
TZOFFSETTO:-0400
TZNAME:EDT
DTSTART:20270314T070000
END:DAYLIGHT
BEGIN:STANDARD
TZOFFSETFROM:-0400
TZOFFSETTO:-0500
TZNAME:EST
DTSTART:20271107T060000
END:STANDARD
END:VTIMEZONE
BEGIN:VEVENT
DTSTART;TZID=America/New_York:20250611T190000
DTEND;TZID=America/New_York:20250611T220000
DTSTAMP:20260425T063120
CREATED:20250418T193744Z
LAST-MODIFIED:20250418T194309Z
UID:2138-1749668400-1749679200@djdanlinedance.com
SUMMARY:Whitpain Tavern Music Bingo
DESCRIPTION:🎶 Music Bingo at The Whitpain Tavern 🎶 \nJoin us every other Wednesday for an exciting night of Music Bingo! Test your music knowledge and enjoy some friendly competition while grooving to your favorite tunes. Great food\, refreshing drinks\, and fantastic prizes await! \n📍 Location: The Whitpain Tavern\, 1529 Dekalb Pike\, Blue Bell\, PA 19422\n🕖 Time: 7:00 – 10:00 PM\n📅 When: Every other Wednesday \nBring your friends and family for a midweek treat that’s sure to hit all the right notes. See you there! 🎤🕺
URL:https://djdanlinedance.com/event/20250611/
LOCATION:Whitpain Tavern\, 1529 Dekalb Pike\, Blue Bell\, PA\, 19422\, United States
CATEGORIES:Music Bingo
ATTACH;FMTTYPE=image/jpeg:https://djdanlinedance.com/wp-content/uploads/2025/04/2138_image_491916025_1053873236797699_2041427332165987171_n.jpg
END:VEVENT
BEGIN:VEVENT
DTSTART;TZID=America/New_York:20250625T190000
DTEND;TZID=America/New_York:20250625T220000
DTSTAMP:20260425T063120
CREATED:20250418T193805Z
LAST-MODIFIED:20250418T193939Z
UID:2148-1750878000-1750888800@djdanlinedance.com
SUMMARY:Whitpain Tavern Music Bingo
DESCRIPTION:🎶 Music Bingo at The Whitpain Tavern 🎶 \nJoin us every other Wednesday for an exciting night of Music Bingo! Test your music knowledge and enjoy some friendly competition while grooving to your favorite tunes. Great food\, refreshing drinks\, and fantastic prizes await! \n📍 Location: The Whitpain Tavern\, 1529 Dekalb Pike\, Blue Bell\, PA 19422\n🕖 Time: 7:00 – 10:00 PM\n📅 When: Every other Wednesday \nBring your friends and family for a midweek treat that’s sure to hit all the right notes. See you there! 🎤🕺
URL:https://djdanlinedance.com/event/20250625/
LOCATION:Whitpain Tavern\, 1529 Dekalb Pike\, Blue Bell\, PA\, 19422\, United States
CATEGORIES:Music Bingo
ATTACH;FMTTYPE=image/jpeg:https://djdanlinedance.com/wp-content/uploads/2025/04/2148_image_491732001_1053873670130989_5969840739510258923_n.jpg
END:VEVENT
BEGIN:VEVENT
DTSTART;TZID=America/New_York:20250709T190000
DTEND;TZID=America/New_York:20250709T220000
DTSTAMP:20260425T063120
CREATED:20250613T214314Z
LAST-MODIFIED:20250620T194221Z
UID:2264-1752087600-1752098400@djdanlinedance.com
SUMMARY:Whitpain Tavern Music Bingo
DESCRIPTION:🎶 Music Bingo at The Whitpain Tavern 🎶 \nJoin us every other Wednesday for an exciting night of Music Bingo! Test your music knowledge and enjoy some friendly competition while grooving to your favorite tunes. Great food\, refreshing drinks\, and fantastic prizes await! \n📍 Location: The Whitpain Tavern\, 1529 Dekalb Pike\, Blue Bell\, PA 19422\n🕖 Time: 7:00 – 10:00 PM\n📅 When: Every other Wednesday \nBring your friends and family for a midweek treat that’s sure to hit all the right notes. See you there! 🎤🕺
URL:https://djdanlinedance.com/event/20250709/
LOCATION:Whitpain Tavern\, 1529 Dekalb Pike\, Blue Bell\, PA\, 19422\, United States
CATEGORIES:Music Bingo
ATTACH;FMTTYPE=image/jpeg:https://djdanlinedance.com/wp-content/uploads/2025/06/2264_image_505613414_1091273819724307_6145988228037829423_n.jpg
END:VEVENT
BEGIN:VEVENT
DTSTART;TZID=America/New_York:20250723T190000
DTEND;TZID=America/New_York:20250723T220000
DTSTAMP:20260425T063120
CREATED:20250613T214317Z
LAST-MODIFIED:20250620T194218Z
UID:2266-1753297200-1753308000@djdanlinedance.com
SUMMARY:Whitpain Tavern Music Bingo
DESCRIPTION:🎶 Music Bingo at The Whitpain Tavern 🎶 \nJoin us every other Wednesday for an exciting night of Music Bingo! Test your music knowledge and enjoy some friendly competition while grooving to your favorite tunes. Great food\, refreshing drinks\, and fantastic prizes await! \n📍 Location: The Whitpain Tavern\, 1529 Dekalb Pike\, Blue Bell\, PA 19422\n🕖 Time: 7:00 – 10:00 PM\n📅 When: Every other Wednesday \nBring your friends and family for a midweek treat that’s sure to hit all the right notes. See you there! 🎤🕺
URL:https://djdanlinedance.com/event/20250723/
LOCATION:Whitpain Tavern\, 1529 Dekalb Pike\, Blue Bell\, PA\, 19422\, United States
CATEGORIES:Music Bingo
ATTACH;FMTTYPE=image/jpeg:https://djdanlinedance.com/wp-content/uploads/2025/06/2266_image_505782400_1091274176390938_247754063909619886_n.jpg
END:VEVENT
BEGIN:VEVENT
DTSTART;TZID=America/New_York:20250806T190000
DTEND;TZID=America/New_York:20250806T220000
DTSTAMP:20260425T063120
CREATED:20250620T203501Z
LAST-MODIFIED:20250620T205100Z
UID:2295-1754506800-1754517600@djdanlinedance.com
SUMMARY:Whitpain Tavern Music Bingo
DESCRIPTION:🎶 Music Bingo at The Whitpain Tavern 🎶 \nJoin us every other Wednesday for an exciting night of Music Bingo! Test your music knowledge and enjoy some friendly competition while grooving to your favorite tunes. Great food\, refreshing drinks\, and fantastic prizes await! \n📍 Location: The Whitpain Tavern\, 1529 Dekalb Pike\, Blue Bell\, PA 19422\n🕖 Time: 7:00 – 10:00 PM\n📅 When: Every other Wednesday \nBring your friends and family for a midweek treat that’s sure to hit all the right notes. See you there! 🎤🕺
URL:https://djdanlinedance.com/event/20250806/
LOCATION:Whitpain Tavern\, 1529 Dekalb Pike\, Blue Bell\, PA\, 19422\, United States
CATEGORIES:Music Bingo
ATTACH;FMTTYPE=image/jpeg:https://djdanlinedance.com/wp-content/uploads/2025/06/2295_image_502567055_1099498272235195_4261863117717504318_n.jpg
END:VEVENT
BEGIN:VEVENT
DTSTART;TZID=America/New_York:20250820T190000
DTEND;TZID=America/New_York:20250820T220000
DTSTAMP:20260425T063120
CREATED:20250620T203603Z
LAST-MODIFIED:20250620T205042Z
UID:2314-1755716400-1755727200@djdanlinedance.com
SUMMARY:Whitpain Tavern Music Bingo
DESCRIPTION:🎶 Music Bingo at The Whitpain Tavern 🎶 \nJoin us every other Wednesday for an exciting night of Music Bingo! Test your music knowledge and enjoy some friendly competition while grooving to your favorite tunes. Great food\, refreshing drinks\, and fantastic prizes await! \n📍 Location: The Whitpain Tavern\, 1529 Dekalb Pike\, Blue Bell\, PA 19422\n🕖 Time: 7:00 – 10:00 PM\n📅 When: Every other Wednesday \nBring your friends and family for a midweek treat that’s sure to hit all the right notes. See you there! 🎤🕺
URL:https://djdanlinedance.com/event/20250820/
LOCATION:Whitpain Tavern\, 1529 Dekalb Pike\, Blue Bell\, PA\, 19422\, United States
CATEGORIES:Music Bingo
ATTACH;FMTTYPE=image/jpeg:https://djdanlinedance.com/wp-content/uploads/2025/06/2314_image_502570350_1099498692235153_5095653816493450270_n.jpg
END:VEVENT
BEGIN:VEVENT
DTSTART;TZID=America/New_York:20250903T190000
DTEND;TZID=America/New_York:20250903T220000
DTSTAMP:20260425T063120
CREATED:20250801T211111Z
LAST-MODIFIED:20250816T213049Z
UID:2388-1756926000-1756936800@djdanlinedance.com
SUMMARY:Whitpain Tavern Music Bingo
DESCRIPTION:🎶 Music Bingo at The Whitpain Tavern 🎶 \nJoin us every other Wednesday for an exciting night of Music Bingo! Test your music knowledge and enjoy some friendly competition while grooving to your favorite tunes. Great food\, refreshing drinks\, and fantastic prizes await! \n📍 Location: The Whitpain Tavern\, 1529 Dekalb Pike\, Blue Bell\, PA 19422\n🕖 Time: 7:00 – 10:00 PM\n📅 When: Every other Wednesday \nBring your friends and family for a midweek treat that’s sure to hit all the right notes. See you there! 🎤🕺
URL:https://djdanlinedance.com/event/20250903/
LOCATION:Whitpain Tavern\, 1529 Dekalb Pike\, Blue Bell\, PA\, 19422\, United States
CATEGORIES:Music Bingo
ATTACH;FMTTYPE=image/jpeg:https://djdanlinedance.com/wp-content/uploads/2025/08/2388_image_526607817_1131892062329149_7525774584634355548_n.jpg
END:VEVENT
BEGIN:VEVENT
DTSTART;TZID=America/New_York:20250917T190000
DTEND;TZID=America/New_York:20250917T220000
DTSTAMP:20260425T063120
CREATED:20250801T211140Z
LAST-MODIFIED:20250816T213031Z
UID:2402-1758135600-1758146400@djdanlinedance.com
SUMMARY:Whitpain Tavern Music Bingo
DESCRIPTION:🎶 Music Bingo at The Whitpain Tavern 🎶 \nJoin us every other Wednesday for an exciting night of Music Bingo! Test your music knowledge and enjoy some friendly competition while grooving to your favorite tunes. Great food\, refreshing drinks\, and fantastic prizes await! \n📍 Location: The Whitpain Tavern\, 1529 Dekalb Pike\, Blue Bell\, PA 19422\n🕖 Time: 7:00 – 10:00 PM\n📅 When: Every other Wednesday \nBring your friends and family for a midweek treat that’s sure to hit all the right notes. See you there! 🎤🕺
URL:https://djdanlinedance.com/event/20250917/
LOCATION:Whitpain Tavern\, 1529 Dekalb Pike\, Blue Bell\, PA\, 19422\, United States
CATEGORIES:Music Bingo
ATTACH;FMTTYPE=image/jpeg:https://djdanlinedance.com/wp-content/uploads/2025/08/2402_image_526883357_1131892542329101_166117262523171525_n.jpg
END:VEVENT
BEGIN:VEVENT
DTSTART;TZID=America/New_York:20251001T190000
DTEND;TZID=America/New_York:20251001T220000
DTSTAMP:20260425T063120
CREATED:20250906T144702Z
LAST-MODIFIED:20250912T202522Z
UID:2463-1759345200-1759356000@djdanlinedance.com
SUMMARY:Whitpain Tavern Music Bingo
DESCRIPTION:🎶 Music Bingo at The Whitpain Tavern 🎶 \nJoin us every other Wednesday for an exciting night of Music Bingo! Test your music knowledge and enjoy some friendly competition while grooving to your favorite tunes. Great food\, refreshing drinks\, and fantastic prizes await! \n📍 Location: The Whitpain Tavern\, 1529 Dekalb Pike\, Blue Bell\, PA 19422\n🕖 Time: 7:00 – 10:00 PM\n📅 When: Every other Wednesday \nBring your friends and family for a midweek treat that’s sure to hit all the right notes. See you there! 🎤🕺
URL:https://djdanlinedance.com/event/20251001/
LOCATION:Whitpain Tavern\, 1529 Dekalb Pike\, Blue Bell\, PA\, 19422\, United States
CATEGORIES:Music Bingo
ATTACH;FMTTYPE=image/jpeg:https://djdanlinedance.com/wp-content/uploads/2025/09/2463_image_541452897_1156687429849612_3336974817451664246_n.jpg
END:VEVENT
BEGIN:VEVENT
DTSTART;TZID=America/New_York:20251015T190000
DTEND;TZID=America/New_York:20251015T190000
DTSTAMP:20260425T063120
CREATED:20250906T144737Z
LAST-MODIFIED:20251006T204558Z
UID:2477-1760554800-1760554800@djdanlinedance.com
SUMMARY:Whitpain Tavern Music Bingo
DESCRIPTION:🎶 Music Bingo at The Whitpain Tavern 🎶 \nJoin us every other Wednesday for an exciting night of Music Bingo! Test your music knowledge and enjoy some friendly competition while grooving to your favorite tunes. Great food\, refreshing drinks\, and fantastic prizes await! \n📍 Location: The Whitpain Tavern\, 1529 Dekalb Pike\, Blue Bell\, PA 19422\n🕖 Time: 7:00 PM\n📅 When: Every other Wednesday \nBring your friends and family for a midweek treat that’s sure to hit all the right notes. See you there! 🎤🕺
URL:https://djdanlinedance.com/event/20251015/
LOCATION:Whitpain Tavern\, 1529 Dekalb Pike\, Blue Bell\, PA\, 19422\, United States
CATEGORIES:Music Bingo
ATTACH;FMTTYPE=image/png:https://djdanlinedance.com/wp-content/uploads/2025/09/Whitpain-Music-Bingo-Cover.png
END:VEVENT
BEGIN:VEVENT
DTSTART;TZID=America/New_York:20251029T190000
DTEND;TZID=America/New_York:20251029T190000
DTSTAMP:20260425T063120
CREATED:20250906T144803Z
LAST-MODIFIED:20251006T204448Z
UID:2489-1761764400-1761764400@djdanlinedance.com
SUMMARY:Whitpain Tavern Music Bingo
DESCRIPTION:🎶 Music Bingo at The Whitpain Tavern 🎶 \nJoin us every other Wednesday for an exciting night of Music Bingo! Test your music knowledge and enjoy some friendly competition while grooving to your favorite tunes. Great food\, refreshing drinks\, and fantastic prizes await! \n📍 Location: The Whitpain Tavern\, 1529 Dekalb Pike\, Blue Bell\, PA 19422\n🕖 Time: 7:00 PM\n📅 When: Every other Wednesday \nBring your friends and family for a midweek treat that’s sure to hit all the right notes. See you there! 🎤🕺
URL:https://djdanlinedance.com/event/20251029/
LOCATION:Whitpain Tavern\, 1529 Dekalb Pike\, Blue Bell\, PA\, 19422\, United States
CATEGORIES:Music Bingo
ATTACH;FMTTYPE=image/png:https://djdanlinedance.com/wp-content/uploads/2025/09/Whitpain-Music-Bingo-Cover.png
END:VEVENT
BEGIN:VEVENT
DTSTART;TZID=America/New_York:20251112T190000
DTEND;TZID=America/New_York:20251112T190000
DTSTAMP:20260425T063120
CREATED:20250906T144831Z
LAST-MODIFIED:20251006T204732Z
UID:2501-1762974000-1762974000@djdanlinedance.com
SUMMARY:Whitpain Tavern Music Bingo
DESCRIPTION:🎶 Music Bingo at The Whitpain Tavern 🎶 \nJoin us every other Wednesday for an exciting night of Music Bingo! Test your music knowledge and enjoy some friendly competition while grooving to your favorite tunes. Great food\, refreshing drinks\, and fantastic prizes await! \n📍 Location: The Whitpain Tavern\, 1529 Dekalb Pike\, Blue Bell\, PA 19422\n🕖 Time: 7:00 PM\n📅 When: Every other Wednesday \nBring your friends and family for a midweek treat that’s sure to hit all the right notes. See you there! 🎤🕺
URL:https://djdanlinedance.com/event/20251112/
LOCATION:Whitpain Tavern\, 1529 Dekalb Pike\, Blue Bell\, PA\, 19422\, United States
CATEGORIES:Music Bingo
ATTACH;FMTTYPE=image/png:https://djdanlinedance.com/wp-content/uploads/2025/09/Whitpain-Music-Bingo-Cover.png
END:VEVENT
BEGIN:VEVENT
DTSTART;TZID=America/New_York:20251203T190000
DTEND;TZID=America/New_York:20251203T190000
DTSTAMP:20260425T063120
CREATED:20251105T202656Z
LAST-MODIFIED:20251130T021542Z
UID:2652-1764788400-1764788400@djdanlinedance.com
SUMMARY:Whitpain Tavern Music Bingo
DESCRIPTION:🎶 Music Bingo at The Whitpain Tavern 🎶 \nJoin us every other Wednesday for an exciting night of Music Bingo! Test your music knowledge and enjoy some friendly competition while grooving to your favorite tunes. Great food\, refreshing drinks\, and fantastic prizes await! \n📍 Location: The Whitpain Tavern\, 1529 Dekalb Pike\, Blue Bell\, PA 19422\n🕖 Time: 7:00 PM\n📅 When: Every other Wednesday \nBring your friends and family for a midweek treat that’s sure to hit all the right notes. See you there! 🎤🕺
URL:https://djdanlinedance.com/event/20251203/
LOCATION:Whitpain Tavern\, 1529 Dekalb Pike\, Blue Bell\, PA\, 19422\, United States
CATEGORIES:Music Bingo
ATTACH;FMTTYPE=image/jpeg:https://djdanlinedance.com/wp-content/uploads/2025/11/2652_image_577031772_1211518177699870_1494500715961917089_n.jpg
END:VEVENT
BEGIN:VEVENT
DTSTART;TZID=America/New_York:20251217T190000
DTEND;TZID=America/New_York:20251217T190000
DTSTAMP:20260425T063120
CREATED:20251105T202710Z
LAST-MODIFIED:20251130T025755Z
UID:2654-1765998000-1765998000@djdanlinedance.com
SUMMARY:Whitpain Tavern Music Bingo
DESCRIPTION:🎶 Music Bingo at The Whitpain Tavern 🎶 \nJoin us every other Wednesday for an exciting night of Music Bingo! Test your music knowledge and enjoy some friendly competition while grooving to your favorite tunes. Great food\, refreshing drinks\, and fantastic prizes await! \n📍 Location: The Whitpain Tavern\, 1529 Dekalb Pike\, Blue Bell\, PA 19422\n🕖 Time: 7:00 PM\n📅 When: Every other Wednesday \nBring your friends and family for a midweek treat that’s sure to hit all the right notes. See you there! 🎤🕺
URL:https://djdanlinedance.com/event/20251217/
LOCATION:Whitpain Tavern\, 1529 Dekalb Pike\, Blue Bell\, PA\, 19422\, United States
CATEGORIES:Music Bingo
ATTACH;FMTTYPE=image/jpeg:https://djdanlinedance.com/wp-content/uploads/2025/11/2654_image_574893281_1211518727699815_4143506961987623766_n.jpg
END:VEVENT
BEGIN:VEVENT
DTSTART;TZID=America/New_York:20260114T190000
DTEND;TZID=America/New_York:20260114T190000
DTSTAMP:20260425T063120
CREATED:20251212T185956Z
LAST-MODIFIED:20251229T183756Z
UID:2715-1768417200-1768417200@djdanlinedance.com
SUMMARY:Music Bingo @ Whitpain Tavern
DESCRIPTION:Get ready to sing and win at Music Bingo at The Whitpain Tavern!\nJoin DJ Dan Line Dance every other Wednesday for a lively night where your favorite songs become your bingo cards. \n📍 The Whitpain Tavern\n1529 Dekalb Pike\, Blue Bell\, PA 19422 \n🕖 7:00 PM\n💵 Free to play! \nTest your music knowledge\, enjoy great drinks\, and have a blast with friends. This event is all about fun\, music\, and prizes! 🎶🎉📝
URL:https://djdanlinedance.com/event/20260114/
LOCATION:Whitpain Tavern\, 1529 Dekalb Pike\, Blue Bell\, PA\, 19422\, United States
CATEGORIES:Music Bingo
ATTACH;FMTTYPE=image/png:https://djdanlinedance.com/wp-content/uploads/2025/12/Whitpain-Music-Bingo-Cover.png
END:VEVENT
BEGIN:VEVENT
DTSTART;TZID=America/New_York:20260128T190000
DTEND;TZID=America/New_York:20260128T190000
DTSTAMP:20260425T063120
CREATED:20251228T231146Z
LAST-MODIFIED:20251229T183449Z
UID:2751-1769626800-1769626800@djdanlinedance.com
SUMMARY:Music Bingo @ Whitpain Tavern
DESCRIPTION:Get ready to sing and win at Music Bingo at The Whitpain Tavern!\nJoin DJ Dan Line Dance every other Wednesday for a lively night where your favorite songs become your bingo cards. \n📍 The Whitpain Tavern\n1529 Dekalb Pike\, Blue Bell\, PA 19422 \n🕖 7:00 PM\n💵 Free to play! \nTest your music knowledge\, enjoy great drinks\, and have a blast with friends. This event is all about fun\, music\, and prizes! 🎶🎉📝
URL:https://djdanlinedance.com/event/20260128/
LOCATION:Whitpain Tavern\, 1529 Dekalb Pike\, Blue Bell\, PA\, 19422\, United States
CATEGORIES:Music Bingo
ATTACH;FMTTYPE=image/png:https://djdanlinedance.com/wp-content/uploads/2025/12/Whitpain-Music-Bingo-Cover.png
END:VEVENT
BEGIN:VEVENT
DTSTART;TZID=America/New_York:20260211T190000
DTEND;TZID=America/New_York:20260211T190000
DTSTAMP:20260425T063120
CREATED:20260107T183035Z
LAST-MODIFIED:20260107T193122Z
UID:2801-1770836400-1770836400@djdanlinedance.com
SUMMARY:Music Bingo @ Whitpain Tavern
DESCRIPTION:Get ready to sing and win at Music Bingo at The Whitpain Tavern!\nJoin DJ Dan Line Dance every other Wednesday for a lively night where your favorite songs become your bingo cards. \n📍 The Whitpain Tavern\n1529 Dekalb Pike\, Blue Bell\, PA 19422 \n🕖 7:00 PM\n💵 Free to play! \nTest your music knowledge\, enjoy great drinks\, and have a blast with friends. This event is all about fun\, music\, and prizes! 🎶🎉📝
URL:https://djdanlinedance.com/event/20260211/
LOCATION:Whitpain Tavern\, 1529 Dekalb Pike\, Blue Bell\, PA\, 19422\, United States
CATEGORIES:Music Bingo
ATTACH;FMTTYPE=image/jpeg:https://djdanlinedance.com/wp-content/uploads/2026/01/2801_image_612227084_10231657600558911_8721253313933561211_n.jpg
END:VEVENT
BEGIN:VEVENT
DTSTART;TZID=America/New_York:20260225T190000
DTEND;TZID=America/New_York:20260225T190000
DTSTAMP:20260425T063120
CREATED:20260107T183056Z
LAST-MODIFIED:20260107T193107Z
UID:2811-1772046000-1772046000@djdanlinedance.com
SUMMARY:Music Bingo @ Whitpain Tavern
DESCRIPTION:Get ready to sing and win at Music Bingo at The Whitpain Tavern!\nJoin DJ Dan Line Dance every other Wednesday for a lively night where your favorite songs become your bingo cards. \n📍 The Whitpain Tavern\n1529 Dekalb Pike\, Blue Bell\, PA 19422 \n🕖 7:00 PM\n💵 Free to play! \nTest your music knowledge\, enjoy great drinks\, and have a blast with friends. This event is all about fun\, music\, and prizes! 🎶🎉📝
URL:https://djdanlinedance.com/event/20260225/
LOCATION:Whitpain Tavern\, 1529 Dekalb Pike\, Blue Bell\, PA\, 19422\, United States
CATEGORIES:Music Bingo
ATTACH;FMTTYPE=image/jpeg:https://djdanlinedance.com/wp-content/uploads/2026/01/2811_image_612661866_10231657634679764_7545295267627940419_n.jpg
END:VEVENT
BEGIN:VEVENT
DTSTART;TZID=America/New_York:20260311T190000
DTEND;TZID=America/New_York:20260311T190000
DTSTAMP:20260425T063120
CREATED:20260130T215617Z
LAST-MODIFIED:20260204T165255Z
UID:2931-1773255600-1773255600@djdanlinedance.com
SUMMARY:Music Bingo @ Whitpain Tavern
DESCRIPTION:Get ready to sing and win at Music Bingo at The Whitpain Tavern!\nJoin DJ Dan Line Dance every other Wednesday for a lively night where your favorite songs become your bingo cards. \n📍 The Whitpain Tavern\n1529 Dekalb Pike\, Blue Bell\, PA 19422 \n🕖 7:00 PM\n💵 Free to play! \nTest your music knowledge\, enjoy great drinks\, and have a blast with friends. This event is all about fun\, music\, and prizes! 🎶🎉📝
URL:https://djdanlinedance.com/event/20260311/
LOCATION:Whitpain Tavern\, 1529 Dekalb Pike\, Blue Bell\, PA\, 19422\, United States
CATEGORIES:Music Bingo
ATTACH;FMTTYPE=image/jpeg:https://djdanlinedance.com/wp-content/uploads/2026/01/2931_image_624439676_10231912152682555_17256760162787162_n.jpg
END:VEVENT
BEGIN:VEVENT
DTSTART;TZID=America/New_York:20260325T190000
DTEND;TZID=America/New_York:20260325T190000
DTSTAMP:20260425T063120
CREATED:20260130T215625Z
LAST-MODIFIED:20260204T165253Z
UID:2935-1774465200-1774465200@djdanlinedance.com
SUMMARY:Music Bingo @ Whitpain Tavern
DESCRIPTION:Get ready to sing and win at Music Bingo at The Whitpain Tavern!\nJoin DJ Dan Line Dance every other Wednesday for a lively night where your favorite songs become your bingo cards. \n📍 The Whitpain Tavern\n1529 Dekalb Pike\, Blue Bell\, PA 19422 \n🕖 7:00 PM\n💵 Free to play! \nTest your music knowledge\, enjoy great drinks\, and have a blast with friends. This event is all about fun\, music\, and prizes! 🎶🎉📝
URL:https://djdanlinedance.com/event/20260325/
LOCATION:Whitpain Tavern\, 1529 Dekalb Pike\, Blue Bell\, PA\, 19422\, United States
CATEGORIES:Music Bingo
ATTACH;FMTTYPE=image/jpeg:https://djdanlinedance.com/wp-content/uploads/2026/01/2935_image_625404180_10231912159122716_6437131066950401904_n.jpg
END:VEVENT
BEGIN:VEVENT
DTSTART;TZID=America/New_York:20260408T190000
DTEND;TZID=America/New_York:20260408T190000
DTSTAMP:20260425T063120
CREATED:20260311T195044Z
LAST-MODIFIED:20260311T200208Z
UID:3053-1775674800-1775674800@djdanlinedance.com
SUMMARY:Music Bingo @ Whitpain Tavern
DESCRIPTION:Get ready to sing and win at Music Bingo at The Whitpain Tavern!\nJoin DJ Dan Line Dance every other Wednesday for a lively night where your favorite songs become your bingo cards. \n📍 The Whitpain Tavern\n1529 Dekalb Pike\, Blue Bell\, PA 19422 \n🕖 7:00 PM\n💵 Free to play! \nTest your music knowledge\, enjoy great drinks\, and have a blast with friends. This event is all about fun\, music\, and prizes! 🎶🎉📝
URL:https://djdanlinedance.com/event/20260408/
LOCATION:Whitpain Tavern\, 1529 Dekalb Pike\, Blue Bell\, PA\, 19422\, United States
CATEGORIES:Music Bingo
ATTACH;FMTTYPE=image/jpeg:https://djdanlinedance.com/wp-content/uploads/2026/03/3053_image_650373550_10232434586503074_2648270937906230838_n.jpg
END:VEVENT
BEGIN:VEVENT
DTSTART;TZID=America/New_York:20260506T190000
DTEND;TZID=America/New_York:20260506T190000
DTSTAMP:20260425T063120
CREATED:20260424T160606Z
LAST-MODIFIED:20260424T161345Z
UID:3169-1778094000-1778094000@djdanlinedance.com
SUMMARY:Music Bingo @ Whitpain Tavern
DESCRIPTION:Get ready to sing and win at Music Bingo at The Whitpain Tavern!\nJoin DJ Dan Line Dance every other Wednesday for a lively night where your favorite songs become your bingo cards. \n📍 The Whitpain Tavern\n1529 Dekalb Pike\, Blue Bell\, PA 19422 \n🕖 7:00 PM\n💵 Free to play! \nTest your music knowledge\, enjoy great drinks\, and have a blast with friends. This event is all about fun\, music\, and prizes! 🎶🎉📝
URL:https://djdanlinedance.com/event/20260506/
LOCATION:Whitpain Tavern\, 1529 Dekalb Pike\, Blue Bell\, PA\, 19422\, United States
CATEGORIES:Music Bingo
ATTACH;FMTTYPE=image/jpeg:https://djdanlinedance.com/wp-content/uploads/2026/04/3169_image_666389708_10232785894125545_7130614999150429033_n.jpg
END:VEVENT
BEGIN:VEVENT
DTSTART;TZID=America/New_York:20260520T190000
DTEND;TZID=America/New_York:20260520T190000
DTSTAMP:20260425T063120
CREATED:20260424T160615Z
LAST-MODIFIED:20260424T160933Z
UID:3175-1779303600-1779303600@djdanlinedance.com
SUMMARY:Music Bingo @ Whitpain Tavern
DESCRIPTION:Get ready to sing and win at Music Bingo at The Whitpain Tavern!\nJoin DJ Dan Line Dance every other Wednesday for a lively night where your favorite songs become your bingo cards. \n📍 The Whitpain Tavern\n1529 Dekalb Pike\, Blue Bell\, PA 19422 \n🕖 7:00 PM\n💵 Free to play! \nTest your music knowledge\, enjoy great drinks\, and have a blast with friends. This event is all about fun\, music\, and prizes! 🎶🎉📝
URL:https://djdanlinedance.com/event/20260520/
LOCATION:Whitpain Tavern\, 1529 Dekalb Pike\, Blue Bell\, PA\, 19422\, United States
CATEGORIES:Music Bingo
ATTACH;FMTTYPE=image/jpeg:https://djdanlinedance.com/wp-content/uploads/2026/04/3175_image_672676327_10232938823108674_4895682852242781294_n.jpg
END:VEVENT
END:VCALENDAR