BEGIN:VCALENDAR
VERSION:2.0
PRODID:-//DJ Dan Line Dance - ECPv6.15.20//NONSGML v1.0//EN
CALSCALE:GREGORIAN
METHOD:PUBLISH
X-ORIGINAL-URL:https://djdanlinedance.com
X-WR-CALDESC:Events for DJ Dan Line Dance
REFRESH-INTERVAL;VALUE=DURATION:PT1H
X-Robots-Tag:noindex
X-PUBLISHED-TTL:PT1H
BEGIN:VTIMEZONE
TZID:America/New_York
BEGIN:DAYLIGHT
TZOFFSETFROM:-0500
TZOFFSETTO:-0400
TZNAME:EDT
DTSTART:20230312T070000
END:DAYLIGHT
BEGIN:STANDARD
TZOFFSETFROM:-0400
TZOFFSETTO:-0500
TZNAME:EST
DTSTART:20231105T060000
END:STANDARD
BEGIN:DAYLIGHT
TZOFFSETFROM:-0500
TZOFFSETTO:-0400
TZNAME:EDT
DTSTART:20240310T070000
END:DAYLIGHT
BEGIN:STANDARD
TZOFFSETFROM:-0400
TZOFFSETTO:-0500
TZNAME:EST
DTSTART:20241103T060000
END:STANDARD
BEGIN:DAYLIGHT
TZOFFSETFROM:-0500
TZOFFSETTO:-0400
TZNAME:EDT
DTSTART:20250309T070000
END:DAYLIGHT
BEGIN:STANDARD
TZOFFSETFROM:-0400
TZOFFSETTO:-0500
TZNAME:EST
DTSTART:20251102T060000
END:STANDARD
BEGIN:DAYLIGHT
TZOFFSETFROM:-0500
TZOFFSETTO:-0400
TZNAME:EDT
DTSTART:20260308T070000
END:DAYLIGHT
BEGIN:STANDARD
TZOFFSETFROM:-0400
TZOFFSETTO:-0500
TZNAME:EST
DTSTART:20261101T060000
END:STANDARD
END:VTIMEZONE
BEGIN:VEVENT
DTSTART;TZID=America/New_York:20250416T190000
DTEND;TZID=America/New_York:20250416T220000
DTSTAMP:20260423T235943
CREATED:20250302T073847Z
LAST-MODIFIED:20250302T074011Z
UID:1954-1744830000-1744840800@djdanlinedance.com
SUMMARY:Whitpain Tavern Music Bingo
DESCRIPTION:🎶 Music Bingo at The Whitpain Tavern 🎶 \nJoin us every other Wednesday for an exciting night of Music Bingo! Test your music knowledge and enjoy some friendly competition while grooving to your favorite tunes. Great food\, refreshing drinks\, and fantastic prizes await! \n📍 Location: The Whitpain Tavern\, 1529 Dekalb Pike\, Blue Bell\, PA 19422\n🕖 Time: 7:00 – 10:00 PM\n📅 When: Every other Wednesday \nBring your friends and family for a midweek treat that’s sure to hit all the right notes. See you there! 🎤🕺
URL:https://djdanlinedance.com/event/whitpain-tavern-music-bingo-20250416/
LOCATION:Whitpain Tavern\, 1529 Dekalb Pike\, Blue Bell\, PA\, 19422\, United States
CATEGORIES:Music Bingo
ATTACH;FMTTYPE=image/jpeg:https://djdanlinedance.com/wp-content/uploads/2025/03/1954_image_480785051_1017811557070534_8698406441226290867_n.jpg
END:VEVENT
BEGIN:VEVENT
DTSTART;TZID=America/New_York:20250402T190000
DTEND;TZID=America/New_York:20250402T220000
DTSTAMP:20260423T235943
CREATED:20250302T073839Z
LAST-MODIFIED:20250302T073947Z
UID:1952-1743620400-1743631200@djdanlinedance.com
SUMMARY:Whitpain Tavern Music Bingo
DESCRIPTION:🎶 Music Bingo at The Whitpain Tavern 🎶 \nJoin us every other Wednesday for an exciting night of Music Bingo! Test your music knowledge and enjoy some friendly competition while grooving to your favorite tunes. Great food\, refreshing drinks\, and fantastic prizes await! \n📍 Location: The Whitpain Tavern\, 1529 Dekalb Pike\, Blue Bell\, PA 19422\n🕖 Time: 7:00 – 10:00 PM\n📅 When: Every other Wednesday \nBring your friends and family for a midweek treat that’s sure to hit all the right notes. See you there! 🎤🕺
URL:https://djdanlinedance.com/event/whitpain-tavern-music-bingo-20250402/
LOCATION:Whitpain Tavern\, 1529 Dekalb Pike\, Blue Bell\, PA\, 19422\, United States
CATEGORIES:Music Bingo
ATTACH;FMTTYPE=image/jpeg:https://djdanlinedance.com/wp-content/uploads/2025/03/1952_image_481066635_1017811053737251_8853631786101972456_n.jpg
END:VEVENT
BEGIN:VEVENT
DTSTART;TZID=America/New_York:20250319T190000
DTEND;TZID=America/New_York:20250319T220000
DTSTAMP:20260423T235943
CREATED:20250121T182851Z
LAST-MODIFIED:20250121T183014Z
UID:1866-1742410800-1742421600@djdanlinedance.com
SUMMARY:Whitpain Tavern Music Bingo
DESCRIPTION:🎶 Music Bingo at The Whitpain Tavern 🎶 \nJoin us every other Wednesday for an exciting night of Music Bingo! Test your music knowledge and enjoy some friendly competition while grooving to your favorite tunes. Great food\, refreshing drinks\, and fantastic prizes await! \n📍 Location: The Whitpain Tavern\, 1529 Dekalb Pike\, Blue Bell\, PA 19422\n🕖 Time: 7:00 – 10:00 PM\n📅 When: Every other Wednesday \nBring your friends and family for a midweek treat that’s sure to hit all the right notes. See you there! 🎤🕺
URL:https://djdanlinedance.com/event/whitpain-tavern-music-bingo-20250319/
LOCATION:Whitpain Tavern\, 1529 Dekalb Pike\, Blue Bell\, PA\, 19422\, United States
CATEGORIES:Music Bingo
ATTACH;FMTTYPE=image/jpeg:https://djdanlinedance.com/wp-content/uploads/2025/01/1866_image_473757489_987512683433755_5169606331579442980_n.jpg
END:VEVENT
BEGIN:VEVENT
DTSTART;TZID=America/New_York:20250305T190000
DTEND;TZID=America/New_York:20250305T220000
DTSTAMP:20260423T235943
CREATED:20250113T204644Z
LAST-MODIFIED:20250118T221827Z
UID:1811-1741201200-1741212000@djdanlinedance.com
SUMMARY:Whitpain Tavern Music Bingo
DESCRIPTION:🎶 Music Bingo at The Whitpain Tavern 🎶 \nJoin us every other Wednesday for an exciting night of Music Bingo! Test your music knowledge and enjoy some friendly competition while grooving to your favorite tunes. Great food\, refreshing drinks\, and fantastic prizes await! \n📍 Location: The Whitpain Tavern\, 1529 Dekalb Pike\, Blue Bell\, PA 19422\n🕖 Time: 7:00 – 10:00 PM\n📅 When: Every other Wednesday \nBring your friends and family for a midweek treat that’s sure to hit all the right notes. See you there! 🎤🕺
URL:https://djdanlinedance.com/event/whitpain-tavern-music-bingo-20250305/
LOCATION:Whitpain Tavern\, 1529 Dekalb Pike\, Blue Bell\, PA\, 19422\, United States
CATEGORIES:Music Bingo
ATTACH;FMTTYPE=image/jpeg:https://djdanlinedance.com/wp-content/uploads/2025/01/1811_image_473388027_984026623782361_2276035413442568874_n.jpg
END:VEVENT
BEGIN:VEVENT
DTSTART;TZID=America/New_York:20250219T190000
DTEND;TZID=America/New_York:20250219T220000
DTSTAMP:20260423T235943
CREATED:20250113T204640Z
LAST-MODIFIED:20250118T221838Z
UID:1809-1739991600-1740002400@djdanlinedance.com
SUMMARY:Whitpain Tavern Music Bingo
DESCRIPTION:🎶 Music Bingo at The Whitpain Tavern 🎶 \nJoin us every other Wednesday for an exciting night of Music Bingo! Test your music knowledge and enjoy some friendly competition while grooving to your favorite tunes. Great food\, refreshing drinks\, and fantastic prizes await! \n📍 Location: The Whitpain Tavern\, 1529 Dekalb Pike\, Blue Bell\, PA 19422\n🕖 Time: 7:00 – 10:00 PM\n📅 When: Every other Wednesday \nBring your friends and family for a midweek treat that’s sure to hit all the right notes. See you there! 🎤🕺
URL:https://djdanlinedance.com/event/whitpain-tavern-music-bingo-20250219/
LOCATION:Whitpain Tavern\, 1529 Dekalb Pike\, Blue Bell\, PA\, 19422\, United States
CATEGORIES:Music Bingo
ATTACH;FMTTYPE=image/jpeg:https://djdanlinedance.com/wp-content/uploads/2025/01/1809_image_473319180_984026260449064_8273824226840762438_n.jpg
END:VEVENT
BEGIN:VEVENT
DTSTART;TZID=America/New_York:20250205T190000
DTEND;TZID=America/New_York:20250205T220000
DTSTAMP:20260423T235943
CREATED:20250113T204633Z
LAST-MODIFIED:20250118T213516Z
UID:1807-1738782000-1738792800@djdanlinedance.com
SUMMARY:Whitpain Tavern Music Bingo
DESCRIPTION:🎶 Music Bingo at The Whitpain Tavern 🎶 \nJoin us every other Wednesday for an exciting night of Music Bingo! Test your music knowledge and enjoy some friendly competition while grooving to your favorite tunes. Great food\, refreshing drinks\, and fantastic prizes await! \n📍 Location: The Whitpain Tavern\, 1529 Dekalb Pike\, Blue Bell\, PA 19422\n🕖 Time: 7:00 – 10:00 PM\n📅 When: Every other Wednesday \nBring your friends and family for a midweek treat that’s sure to hit all the right notes. See you there! 🎤🕺
URL:https://djdanlinedance.com/event/whitpain-tavern-music-bingo-20250205/
LOCATION:Whitpain Tavern\, 1529 Dekalb Pike\, Blue Bell\, PA\, 19422\, United States
CATEGORIES:Music Bingo
ATTACH;FMTTYPE=image/jpeg:https://djdanlinedance.com/wp-content/uploads/2025/01/1807_image_469327659_957516336433390_4620881493111731632_n.jpg
END:VEVENT
BEGIN:VEVENT
DTSTART;TZID=America/New_York:20250122T190000
DTEND;TZID=America/New_York:20250122T220000
DTSTAMP:20260423T235943
CREATED:20241222T192354Z
LAST-MODIFIED:20250113T184123Z
UID:1720-1737572400-1737583200@djdanlinedance.com
SUMMARY:Whitpain Tavern Music Bingo
DESCRIPTION:🎶 Music Bingo at The Whitpain Tavern 🎶 \nJoin us every other Wednesday for an exciting night of Music Bingo! Test your music knowledge and enjoy some friendly competition while grooving to your favorite tunes. Great food\, refreshing drinks\, and fantastic prizes await! \n📍 Location: The Whitpain Tavern\, 1529 Dekalb Pike\, Blue Bell\, PA 19422\n🕖 Time: 7:00 – 10:00 PM\n📅 When: Every other Wednesday \nBring your friends and family for a midweek treat that’s sure to hit all the right notes. See you there! 🎤🕺
URL:https://djdanlinedance.com/event/whitpain-tavern-music-bingo-20250122/
LOCATION:Whitpain Tavern\, 1529 Dekalb Pike\, Blue Bell\, PA\, 19422\, United States
CATEGORIES:Music Bingo
ATTACH;FMTTYPE=image/jpeg:https://djdanlinedance.com/wp-content/uploads/2024/12/1720_image_469219799_957515976433426_6344212344540097107_n.jpg
END:VEVENT
BEGIN:VEVENT
DTSTART;TZID=America/New_York:20250108T190000
DTEND;TZID=America/New_York:20250108T220000
DTSTAMP:20260423T235943
CREATED:20241222T192348Z
LAST-MODIFIED:20250103T183904Z
UID:1718-1736362800-1736373600@djdanlinedance.com
SUMMARY:Whitpain Tavern Music Bingo
DESCRIPTION:🎶 Music Bingo at The Whitpain Tavern 🎶 \nJoin us every other Wednesday for an exciting night of Music Bingo! Test your music knowledge and enjoy some friendly competition while grooving to your favorite tunes. Great food\, refreshing drinks\, and fantastic prizes await! \n📍 Location: The Whitpain Tavern\, 1529 Dekalb Pike\, Blue Bell\, PA 19422\n🕖 Time: 7:00 – 10:00 PM\n📅 When: Every other Wednesday \nBring your friends and family for a midweek treat that’s sure to hit all the right notes. See you there! 🎤🕺
URL:https://djdanlinedance.com/event/whitpain-tavern-music-bingo-20250108/
LOCATION:Whitpain Tavern\, 1529 Dekalb Pike\, Blue Bell\, PA\, 19422\, United States
CATEGORIES:Music Bingo
ATTACH;FMTTYPE=image/jpeg:https://djdanlinedance.com/wp-content/uploads/2024/12/1718_image_469414945_957515523100138_4123778910605882206_n.jpg
END:VEVENT
BEGIN:VEVENT
DTSTART;TZID=America/New_York:20241211T190000
DTEND;TZID=America/New_York:20241211T220000
DTSTAMP:20260423T235943
CREATED:20241101T154827Z
LAST-MODIFIED:20241101T160520Z
UID:1646-1733943600-1733954400@djdanlinedance.com
SUMMARY:Whitpain Tavern Music Bingo
DESCRIPTION:We are at Whitpain Tavern to play Music Bingo every other Wednesday through the winter! \nBring your friends\, get some great food and drink and win some prizes!
URL:https://djdanlinedance.com/event/whitpain-tavern-music-bingo-20241211/
LOCATION:Whitpain Tavern\, 1529 Dekalb Pike\, Blue Bell\, PA\, 19422\, United States
CATEGORIES:Music Bingo
ATTACH;FMTTYPE=image/jpeg:https://djdanlinedance.com/wp-content/uploads/2024/11/1646_image_465267986_934351675416523_452406569177667623_n.jpg
END:VEVENT
BEGIN:VEVENT
DTSTART;TZID=America/New_York:20241120T190000
DTEND;TZID=America/New_York:20241120T220000
DTSTAMP:20260423T235943
CREATED:20241025T180531Z
LAST-MODIFIED:20241025T180720Z
UID:1574-1732129200-1732140000@djdanlinedance.com
SUMMARY:Whitpain Tavern Music Bingo
DESCRIPTION:We are at Whitpain Tavern to play Music Bingo every other Wednesday through the winter! \nBring your friends\, get some great food and drink and win some prizes!
URL:https://djdanlinedance.com/event/whitpain-tavern-music-bingo-20241120/
LOCATION:Whitpain Tavern\, 1529 Dekalb Pike\, Blue Bell\, PA\, 19422\, United States
CATEGORIES:Music Bingo
ATTACH;FMTTYPE=image/jpeg:https://djdanlinedance.com/wp-content/uploads/2024/10/1574_image_464570781_929536495898041_3103848939869440118_n.jpg
END:VEVENT
BEGIN:VEVENT
DTSTART;TZID=America/New_York:20241106T190000
DTEND;TZID=America/New_York:20241106T220000
DTSTAMP:20260423T235943
CREATED:20241025T180519Z
LAST-MODIFIED:20241025T180759Z
UID:1572-1730919600-1730930400@djdanlinedance.com
SUMMARY:Whitpain Tavern Music Bingo
DESCRIPTION:We are at Whitpain Tavern to play Music Bingo every other Wednesday through the winter! \nBring your friends\, get some great food and drink and win some prizes!
URL:https://djdanlinedance.com/event/whitpain-tavern-music-bingo-20241106/
LOCATION:Whitpain Tavern\, 1529 Dekalb Pike\, Blue Bell\, PA\, 19422\, United States
CATEGORIES:Music Bingo
ATTACH;FMTTYPE=image/jpeg:https://djdanlinedance.com/wp-content/uploads/2024/10/1572_image_461692711_910622907789400_2170578685985828996_n.jpg
END:VEVENT
BEGIN:VEVENT
DTSTART;TZID=America/New_York:20240911T190000
DTEND;TZID=America/New_York:20240911T220000
DTSTAMP:20260423T235943
CREATED:20240810T214756Z
LAST-MODIFIED:20240810T214850Z
UID:1394-1726081200-1726092000@djdanlinedance.com
SUMMARY:Whitpain Tavern Music Bingo
DESCRIPTION:It’s the 2nd Wednesday of the month so you know what that means – we’re back at Whitpain Tavern to play Music Bingo! \nBring your friends\, get some great food and drink and win some prizes!
URL:https://djdanlinedance.com/event/whitpain-tavern-music-bingo-20240911/
LOCATION:Whitpain Tavern\, 1529 Dekalb Pike\, Blue Bell\, PA\, 19422\, United States
CATEGORIES:Music Bingo
ATTACH;FMTTYPE=image/jpeg:https://djdanlinedance.com/wp-content/uploads/2024/08/1394_image_453502670_871493418369016_7422438995682488218_n.jpg
END:VEVENT
BEGIN:VEVENT
DTSTART;TZID=America/New_York:20240814T190000
DTEND;TZID=America/New_York:20240814T220000
DTSTAMP:20260423T235943
CREATED:20240628T164506Z
LAST-MODIFIED:20240628T164634Z
UID:1253-1723662000-1723672800@djdanlinedance.com
SUMMARY:Whitpain Tavern Music Bingo
DESCRIPTION:It’s the 2nd Wednesday of the month so you know what that means – we’re back at Whitpain Tavern to play Music Bingo! \nBring your friends\, get some great food and drink and win some prizes!
URL:https://djdanlinedance.com/event/whitpain-tavern-music-bingo-20240814/
LOCATION:Whitpain Tavern\, 1529 Dekalb Pike\, Blue Bell\, PA\, 19422\, United States
CATEGORIES:Music Bingo
ATTACH;FMTTYPE=image/jpeg:https://djdanlinedance.com/wp-content/uploads/2024/06/1253_image_449377102_851242503727441_6779949956939730227_n.jpg
END:VEVENT
BEGIN:VEVENT
DTSTART;TZID=America/New_York:20240725T170000
DTEND;TZID=America/New_York:20240725T210000
DTSTAMP:20260423T235943
CREATED:20240708T171541Z
LAST-MODIFIED:20240708T172002Z
UID:1293-1721926800-1721941200@djdanlinedance.com
SUMMARY:Summer Family Series ☀️
DESCRIPTION:Join The Broad Street Grind\, DJ Dan Line Dance & Sandcastle Winery for this Family Friendly Event! Bring your crew and enjoy this month’s themed Thursday – Music Bingo & Trivia🪩 \nDoors open at 5 PM & entry is free! \nCheck out the menu available for purchase🥙\, “to-go” snacks\, ☕️coffees & tea. Sandcastle Winery will be there to provide the delicious\, local wine! 🍷
URL:https://djdanlinedance.com/event/summer-family-series-%e2%98%80%ef%b8%8f-20240725/
LOCATION:PA
CATEGORIES:Music Bingo,Trivia
ATTACH;FMTTYPE=image/jpeg:https://djdanlinedance.com/wp-content/uploads/2024/07/1293_image_449839410_857307209787637_8441967995860303_n.jpg
END:VEVENT
BEGIN:VEVENT
DTSTART;TZID=America/New_York:20240710T190000
DTEND;TZID=America/New_York:20240710T220000
DTSTAMP:20260423T235943
CREATED:20240517T172037Z
LAST-MODIFIED:20240517T172855Z
UID:1062-1720638000-1720648800@djdanlinedance.com
SUMMARY:Whitpain Tavern Music Bingo
DESCRIPTION:It’s the 2nd Wednesday of the month so you know what that means – we’re back at Whitpain Tavern to play Music Bingo! \nBring your friends\, get some great food and drink and win some prizes!
URL:https://djdanlinedance.com/event/whitpain-tavern-music-bingo-20240710/
LOCATION:Whitpain Tavern\, 1529 Dekalb Pike\, Blue Bell\, PA\, 19422\, United States
CATEGORIES:Music Bingo
ATTACH;FMTTYPE=image/jpeg:https://djdanlinedance.com/wp-content/uploads/2024/05/1062_image_443734598_824333919751633_6405539373895520160_n.jpg
END:VEVENT
BEGIN:VEVENT
DTSTART;TZID=America/New_York:20240622T120000
DTEND;TZID=America/New_York:20240622T220000
DTSTAMP:20260423T235943
CREATED:20240426T214105Z
LAST-MODIFIED:20240506T144454Z
UID:1009-1719057600-1719093600@djdanlinedance.com
SUMMARY:Drag Show Bingo (2 sessions)
DESCRIPTION:Join us at IBEW Local 98 on June 22\, 2024 for a day of Bingo\, raffles\, and live performances. Experience the talent of Morgan Morgan Morgan\, Kali Coutour\, and Divinity Cruzz\, appearing for the first time at Laurel House. There will be cash prizes for all winners!\n\nThe cost is $40 and includes 10 games. You may also reserve a table for 10 for $350.\n\nWe will be hosting two shows in the afternoon and evening\, at 1 PM and 7 PM. For the afternoon show\, doors open at 12 PM\, and for the evening show\, doors open at 6 PM.\n\nThis event is BYO for beverages and food.\n\nAll proceeds raised will go to support Laurel House’s domestic violence programs.\n\nFor questions\, please contact Diane at dhelm@laurel-house.org.
URL:https://djdanlinedance.com/event/drag-show-bingo-20240622/
LOCATION:IBEW Local 98\, 3900 Ridge Pike\, Collegeville\, PA\, 19426
CATEGORIES:Music Bingo
ATTACH;FMTTYPE=image/jpeg:https://djdanlinedance.com/wp-content/uploads/2024/04/Drag-Show-Bingo-2024-Cover.jpg
END:VEVENT
BEGIN:VEVENT
DTSTART;TZID=America/New_York:20240612T190000
DTEND;TZID=America/New_York:20240612T220000
DTSTAMP:20260423T235943
CREATED:20240424T170041Z
LAST-MODIFIED:20240424T170137Z
UID:986-1718218800-1718229600@djdanlinedance.com
SUMMARY:Whitpain Tavern Music Bingo
DESCRIPTION:It’s the 2nd Wednesday of the month so you know what that means – we’re back at Whitpain Tavern to play Music Bingo! \nBring your friends\, get some great food and drink and win some prizes!
URL:https://djdanlinedance.com/event/whitpain-tavern-music-bingo-20240612/
LOCATION:Whitpain Tavern\, 1529 Dekalb Pike\, Blue Bell\, PA\, 19422\, United States
CATEGORIES:Music Bingo
ATTACH;FMTTYPE=image/jpeg:https://djdanlinedance.com/wp-content/uploads/2024/04/986_image_438093268_810939354424423_8092493407268830935_n.jpg
END:VEVENT
BEGIN:VEVENT
DTSTART;TZID=America/New_York:20240508T190000
DTEND;TZID=America/New_York:20240508T220000
DTSTAMP:20260423T235943
CREATED:20240319T213526Z
LAST-MODIFIED:20240319T214321Z
UID:767-1715194800-1715205600@djdanlinedance.com
SUMMARY:Whitpain Tavern Music Bingo
DESCRIPTION:It’s the 2nd Wednesday of the month so you know what that means – we’re back at Whitpain Tavern to play Music Bingo! \nBring your friends\, get some great food and drink and win some prizes!
URL:https://djdanlinedance.com/event/whitpain-tavern-music-bingo-20240508/
LOCATION:Whitpain Tavern\, 1529 Dekalb Pike\, Blue Bell\, PA\, 19422\, United States
CATEGORIES:Music Bingo
ATTACH;FMTTYPE=image/jpeg:https://djdanlinedance.com/wp-content/uploads/2024/03/767_image_432929564_788011730050519_2118366127453671341_n.jpg
END:VEVENT
BEGIN:VEVENT
DTSTART;TZID=America/New_York:20240417T190000
DTEND;TZID=America/New_York:20240417T220000
DTSTAMP:20260423T235943
CREATED:20240410T222205Z
LAST-MODIFIED:20240410T222306Z
UID:899-1713380400-1713391200@djdanlinedance.com
SUMMARY:Whitpain Tavern Music Bingo
DESCRIPTION:SURPRISE – It’s a 2nd week of Bingo this month! \nBring your friends\, get some great food and drink and win some prizes!
URL:https://djdanlinedance.com/event/whitpain-tavern-music-bingo-20240417/
LOCATION:Whitpain Tavern\, 1529 Dekalb Pike\, Blue Bell\, PA\, 19422\, United States
CATEGORIES:Music Bingo
ATTACH;FMTTYPE=image/jpeg:https://djdanlinedance.com/wp-content/uploads/2024/04/899_image_434769374_803220061863019_8494837763789211473_n.jpg
END:VEVENT
BEGIN:VEVENT
DTSTART;TZID=America/New_York:20240410T190000
DTEND;TZID=America/New_York:20240410T220000
DTSTAMP:20260423T235943
CREATED:20240319T210710Z
LAST-MODIFIED:20240319T211401Z
UID:718-1712775600-1712786400@djdanlinedance.com
SUMMARY:Whitpain Tavern Music Bingo
DESCRIPTION:It’s the 2nd Wednesday of the month so you know what that means – we’re back at Whitpain Tavern to play Music Bingo! \nBring your friends\, get some great food and drink and win some prizes!
URL:https://djdanlinedance.com/event/whitpain-tavern-music-bingo-20240410/
LOCATION:Whitpain Tavern\, 1529 Dekalb Pike\, Blue Bell\, PA\, 19422\, United States
CATEGORIES:Music Bingo
ATTACH;FMTTYPE=image/jpeg:https://djdanlinedance.com/wp-content/uploads/2024/03/718_image_427823301_770134861838206_1387876027952465950_n.jpg
END:VEVENT
END:VCALENDAR