BEGIN:VCALENDAR
VERSION:2.0
PRODID:-//DJ Dan Line Dance - ECPv6.15.20//NONSGML v1.0//EN
CALSCALE:GREGORIAN
METHOD:PUBLISH
X-ORIGINAL-URL:https://djdanlinedance.com
X-WR-CALDESC:Events for DJ Dan Line Dance
REFRESH-INTERVAL;VALUE=DURATION:PT1H
X-Robots-Tag:noindex
X-PUBLISHED-TTL:PT1H
BEGIN:VTIMEZONE
TZID:America/New_York
BEGIN:DAYLIGHT
TZOFFSETFROM:-0500
TZOFFSETTO:-0400
TZNAME:EDT
DTSTART:20230312T070000
END:DAYLIGHT
BEGIN:STANDARD
TZOFFSETFROM:-0400
TZOFFSETTO:-0500
TZNAME:EST
DTSTART:20231105T060000
END:STANDARD
BEGIN:DAYLIGHT
TZOFFSETFROM:-0500
TZOFFSETTO:-0400
TZNAME:EDT
DTSTART:20240310T070000
END:DAYLIGHT
BEGIN:STANDARD
TZOFFSETFROM:-0400
TZOFFSETTO:-0500
TZNAME:EST
DTSTART:20241103T060000
END:STANDARD
BEGIN:DAYLIGHT
TZOFFSETFROM:-0500
TZOFFSETTO:-0400
TZNAME:EDT
DTSTART:20250309T070000
END:DAYLIGHT
BEGIN:STANDARD
TZOFFSETFROM:-0400
TZOFFSETTO:-0500
TZNAME:EST
DTSTART:20251102T060000
END:STANDARD
BEGIN:DAYLIGHT
TZOFFSETFROM:-0500
TZOFFSETTO:-0400
TZNAME:EDT
DTSTART:20260308T070000
END:DAYLIGHT
BEGIN:STANDARD
TZOFFSETFROM:-0400
TZOFFSETTO:-0500
TZNAME:EST
DTSTART:20261101T060000
END:STANDARD
END:VTIMEZONE
BEGIN:VEVENT
DTSTART;TZID=America/New_York:20250423T190000
DTEND;TZID=America/New_York:20250423T220000
DTSTAMP:20260424T012324
CREATED:20250302T074145Z
LAST-MODIFIED:20250302T074315Z
UID:1964-1745434800-1745445600@djdanlinedance.com
SUMMARY:Whitpain Tavern Trivia
DESCRIPTION:🧠 Trivia Night at The Whitpain Tavern 🧠 \nThink you’ve got what it takes to be a trivia champ? Join us every other Wednesday for a fun and challenging Trivia Night! Show off your knowledge across a variety of topics and compete for awesome prizes. \n📍 Location: The Whitpain Tavern\, 1529 Dekalb Pike\, Blue Bell\, PA 19422\n🕖 Time: 7:00 – 10:00 PM\n📅 When: Every other Wednesday \nGather your smartest friends and come out for a great night of laughs\, food\, and drinks. Test your wits and take home bragging rights! 🏆
URL:https://djdanlinedance.com/event/whitpain-tavern-trivia-20250423/
LOCATION:Whitpain Tavern\, 1529 Dekalb Pike\, Blue Bell\, PA\, 19422\, United States
CATEGORIES:Trivia
ATTACH;FMTTYPE=image/jpeg:https://djdanlinedance.com/wp-content/uploads/2025/03/1964_image_476434791_1017820587069631_3079992876719019975_n.jpg
END:VEVENT
BEGIN:VEVENT
DTSTART;TZID=America/New_York:20250409T190000
DTEND;TZID=America/New_York:20250409T220000
DTSTAMP:20260424T012324
CREATED:20250302T074139Z
LAST-MODIFIED:20250302T074257Z
UID:1962-1744225200-1744236000@djdanlinedance.com
SUMMARY:Whitpain Tavern Trivia
DESCRIPTION:🧠 Trivia Night at The Whitpain Tavern 🧠 \nThink you’ve got what it takes to be a trivia champ? Join us every other Wednesday for a fun and challenging Trivia Night! Show off your knowledge across a variety of topics and compete for awesome prizes. \n📍 Location: The Whitpain Tavern\, 1529 Dekalb Pike\, Blue Bell\, PA 19422\n🕖 Time: 7:00 – 10:00 PM\n📅 When: Every other Wednesday \nGather your smartest friends and come out for a great night of laughs\, food\, and drinks. Test your wits and take home bragging rights! 🏆
URL:https://djdanlinedance.com/event/whitpain-tavern-trivia-20250409/
LOCATION:Whitpain Tavern\, 1529 Dekalb Pike\, Blue Bell\, PA\, 19422\, United States
CATEGORIES:Trivia
ATTACH;FMTTYPE=image/jpeg:https://djdanlinedance.com/wp-content/uploads/2025/03/1962_image_480919127_1017816050403418_3750246756697177987_n.jpg
END:VEVENT
BEGIN:VEVENT
DTSTART;TZID=America/New_York:20250326T190000
DTEND;TZID=America/New_York:20250326T220000
DTSTAMP:20260424T012324
CREATED:20250121T183051Z
LAST-MODIFIED:20250121T183409Z
UID:1869-1743015600-1743026400@djdanlinedance.com
SUMMARY:Whitpain Tavern Trivia
DESCRIPTION:🧠 Trivia Night at The Whitpain Tavern 🧠 \nThink you’ve got what it takes to be a trivia champ? Join us every other Wednesday for a fun and challenging Trivia Night! Show off your knowledge across a variety of topics and compete for awesome prizes. \n📍 Location: The Whitpain Tavern\, 1529 Dekalb Pike\, Blue Bell\, PA 19422\n🕖 Time: 7:00 – 10:00 PM\n📅 When: Every other Wednesday \nGather your smartest friends and come out for a great night of laughs\, food\, and drinks. Test your wits and take home bragging rights! 🏆
URL:https://djdanlinedance.com/event/whitpain-tavern-trivia-20250326/
LOCATION:Whitpain Tavern\, 1529 Dekalb Pike\, Blue Bell\, PA\, 19422\, United States
CATEGORIES:Trivia
ATTACH;FMTTYPE=image/jpeg:https://djdanlinedance.com/wp-content/uploads/2025/01/1869_image_474533423_987513236767033_1348244905686755587_n.jpg
END:VEVENT
BEGIN:VEVENT
DTSTART;TZID=America/New_York:20250312T190000
DTEND;TZID=America/New_York:20250312T220000
DTSTAMP:20260424T012324
CREATED:20250113T204723Z
LAST-MODIFIED:20250118T221806Z
UID:1818-1741806000-1741816800@djdanlinedance.com
SUMMARY:Whitpain Tavern Trivia
DESCRIPTION:🧠 Trivia Night at The Whitpain Tavern 🧠 \nThink you’ve got what it takes to be a trivia champ? Join us every other Wednesday for a fun and challenging Trivia Night! Show off your knowledge across a variety of topics and compete for awesome prizes. \n📍 Location: The Whitpain Tavern\, 1529 Dekalb Pike\, Blue Bell\, PA 19422\n🕖 Time: 7:00 – 10:00 PM\n📅 When: Every other Wednesday \nGather your smartest friends and come out for a great night of laughs\, food\, and drinks. Test your wits and take home bragging rights! 🏆
URL:https://djdanlinedance.com/event/whitpain-tavern-trivia-20250312/
LOCATION:Whitpain Tavern\, 1529 Dekalb Pike\, Blue Bell\, PA\, 19422\, United States
CATEGORIES:Trivia
ATTACH;FMTTYPE=image/jpeg:https://djdanlinedance.com/wp-content/uploads/2025/01/1818_image_473348513_984025800449110_2101339052598544622_n.jpg
END:VEVENT
BEGIN:VEVENT
DTSTART;TZID=America/New_York:20250226T190000
DTEND;TZID=America/New_York:20250226T220000
DTSTAMP:20260424T012324
CREATED:20250113T204720Z
LAST-MODIFIED:20250118T221815Z
UID:1816-1740596400-1740607200@djdanlinedance.com
SUMMARY:Whitpain Tavern Trivia
DESCRIPTION:🧠 Trivia Night at The Whitpain Tavern 🧠 \nThink you’ve got what it takes to be a trivia champ? Join us every other Wednesday for a fun and challenging Trivia Night! Show off your knowledge across a variety of topics and compete for awesome prizes. \n📍 Location: The Whitpain Tavern\, 1529 Dekalb Pike\, Blue Bell\, PA 19422\n🕖 Time: 7:00 – 10:00 PM\n📅 When: Every other Wednesday \nGather your smartest friends and come out for a great night of laughs\, food\, and drinks. Test your wits and take home bragging rights! 🏆
URL:https://djdanlinedance.com/event/whitpain-tavern-trivia-20250226/
LOCATION:Whitpain Tavern\, 1529 Dekalb Pike\, Blue Bell\, PA\, 19422\, United States
CATEGORIES:Trivia
ATTACH;FMTTYPE=image/jpeg:https://djdanlinedance.com/wp-content/uploads/2025/01/1816_image_473568976_984025510449139_4178607680183948849_n.jpg
END:VEVENT
BEGIN:VEVENT
DTSTART;TZID=America/New_York:20250212T190000
DTEND;TZID=America/New_York:20250212T220000
DTSTAMP:20260424T012324
CREATED:20250113T204713Z
LAST-MODIFIED:20250118T220902Z
UID:1814-1739386800-1739397600@djdanlinedance.com
SUMMARY:Whitpain Tavern Trivia
DESCRIPTION:🧠 Trivia Night at The Whitpain Tavern 🧠 \nThink you’ve got what it takes to be a trivia champ? Join us every other Wednesday for a fun and challenging Trivia Night! Show off your knowledge across a variety of topics and compete for awesome prizes. \n📍 Location: The Whitpain Tavern\, 1529 Dekalb Pike\, Blue Bell\, PA 19422\n🕖 Time: 7:00 – 10:00 PM\n📅 When: Every other Wednesday \nGather your smartest friends and come out for a great night of laughs\, food\, and drinks. Test your wits and take home bragging rights! 🏆
URL:https://djdanlinedance.com/event/whitpain-tavern-trivia-20250212/
LOCATION:Whitpain Tavern\, 1529 Dekalb Pike\, Blue Bell\, PA\, 19422\, United States
CATEGORIES:Trivia
ATTACH;FMTTYPE=image/jpeg:https://djdanlinedance.com/wp-content/uploads/2025/01/1814_image_473423423_984025193782504_662290004858147558_n.jpg
END:VEVENT
BEGIN:VEVENT
DTSTART;TZID=America/New_York:20250129T190000
DTEND;TZID=America/New_York:20250129T220000
DTSTAMP:20260424T012324
CREATED:20241222T192422Z
LAST-MODIFIED:20250113T184055Z
UID:1725-1738177200-1738188000@djdanlinedance.com
SUMMARY:Whitpain Tavern Trivia
DESCRIPTION:🧠 Trivia Night at The Whitpain Tavern 🧠 \nThink you’ve got what it takes to be a trivia champ? Join us every other Wednesday for a fun and challenging Trivia Night! Show off your knowledge across a variety of topics and compete for awesome prizes. \n📍 Location: The Whitpain Tavern\, 1529 Dekalb Pike\, Blue Bell\, PA 19422\n🕖 Time: 7:00 – 10:00 PM\n📅 When: Every other Wednesday \nGather your smartest friends and come out for a great night of laughs\, food\, and drinks. Test your wits and take home bragging rights! 🏆
URL:https://djdanlinedance.com/event/whitpain-tavern-trivia-20250129/
LOCATION:Whitpain Tavern\, 1529 Dekalb Pike\, Blue Bell\, PA\, 19422\, United States
CATEGORIES:Trivia
ATTACH;FMTTYPE=image/jpeg:https://djdanlinedance.com/wp-content/uploads/2024/12/1725_image_469366099_957517909766566_2583084363089248035_n.jpg
END:VEVENT
BEGIN:VEVENT
DTSTART;TZID=America/New_York:20250115T190000
DTEND;TZID=America/New_York:20250115T220000
DTSTAMP:20260424T012324
CREATED:20241222T192414Z
LAST-MODIFIED:20250110T224344Z
UID:1723-1736967600-1736978400@djdanlinedance.com
SUMMARY:Whitpain Tavern Trivia
DESCRIPTION:🧠 Trivia Night at The Whitpain Tavern 🧠 \nThink you’ve got what it takes to be a trivia champ? Join us every other Wednesday for a fun and challenging Trivia Night! Show off your knowledge across a variety of topics and compete for awesome prizes. \n📍 Location: The Whitpain Tavern\, 1529 Dekalb Pike\, Blue Bell\, PA 19422\n🕖 Time: 7:00 – 10:00 PM\n📅 When: Every other Wednesday \nGather your smartest friends and come out for a great night of laughs\, food\, and drinks. Test your wits and take home bragging rights! 🏆
URL:https://djdanlinedance.com/event/whitpain-tavern-trivia-20250115/
LOCATION:Whitpain Tavern\, 1529 Dekalb Pike\, Blue Bell\, PA\, 19422\, United States
CATEGORIES:Trivia
ATTACH;FMTTYPE=image/jpeg:https://djdanlinedance.com/wp-content/uploads/2024/12/1723_image_469119800_957517569766600_6701571175413504052_n.jpg
END:VEVENT
BEGIN:VEVENT
DTSTART;TZID=America/New_York:20241218T190000
DTEND;TZID=America/New_York:20241218T220000
DTSTAMP:20260424T012324
CREATED:20241101T154727Z
LAST-MODIFIED:20241101T160923Z
UID:1643-1734548400-1734559200@djdanlinedance.com
SUMMARY:Whitpain Tavern Trivia
DESCRIPTION:We are at Whitpain Tavern for Trivia Night every other Wednesday through the winter! \nPut your thinking caps on\, bring your friends\, grab some food/drinks and maybe even win some prizes!
URL:https://djdanlinedance.com/event/whitpain-tavern-trivia-20241218/
LOCATION:Whitpain Tavern\, 1529 Dekalb Pike\, Blue Bell\, PA\, 19422\, United States
CATEGORIES:Trivia
ATTACH;FMTTYPE=image/jpeg:https://djdanlinedance.com/wp-content/uploads/2024/11/1643_image_465287877_934341375417553_8883468286493934890_n.jpg
END:VEVENT
BEGIN:VEVENT
DTSTART;TZID=America/New_York:20241204T190000
DTEND;TZID=America/New_York:20241204T220000
DTSTAMP:20260424T012324
CREATED:20241101T154718Z
LAST-MODIFIED:20241101T160113Z
UID:1641-1733338800-1733349600@djdanlinedance.com
SUMMARY:Whitpain Tavern Trivia
DESCRIPTION:We are at Whitpain Tavern for Trivia Night every other Wednesday through the winter! \nPut your thinking caps on\, bring your friends\, grab some food/drinks and maybe even win some prizes!
URL:https://djdanlinedance.com/event/whitpain-tavern-trivia-20241204/
LOCATION:Whitpain Tavern\, 1529 Dekalb Pike\, Blue Bell\, PA\, 19422\, United States
CATEGORIES:Trivia
ATTACH;FMTTYPE=image/jpeg:https://djdanlinedance.com/wp-content/uploads/2024/11/1641_image_465127742_934340812084276_6794441215380326515_n.jpg
END:VEVENT
BEGIN:VEVENT
DTSTART;TZID=America/New_York:20241113T190000
DTEND;TZID=America/New_York:20241113T220000
DTSTAMP:20260424T012324
CREATED:20241025T180605Z
LAST-MODIFIED:20241025T180844Z
UID:1577-1731524400-1731535200@djdanlinedance.com
SUMMARY:Whitpain Tavern Trivia
DESCRIPTION:We are at Whitpain Tavern for Trivia Night every other Wednesday through the winter! \nPut your thinking caps on\, bring your friends\, grab some food/drinks and maybe even win some prizes!
URL:https://djdanlinedance.com/event/whitpain-tavern-trivia-20241113/
LOCATION:Whitpain Tavern\, 1529 Dekalb Pike\, Blue Bell\, PA\, 19422\, United States
CATEGORIES:Trivia
ATTACH;FMTTYPE=image/jpeg:https://djdanlinedance.com/wp-content/uploads/2024/10/1577_image_464419814_929537852564572_6212810538930590440_n.jpg
END:VEVENT
BEGIN:VEVENT
DTSTART;TZID=America/New_York:20241023T190000
DTEND;TZID=America/New_York:20241023T220000
DTSTAMP:20260424T012324
CREATED:20240906T153233Z
LAST-MODIFIED:20240906T153312Z
UID:1486-1729710000-1729720800@djdanlinedance.com
SUMMARY:Whitpain Tavern Trivia
DESCRIPTION:It’s our 4th Whitpain Wednesday this month which means it is Trivia Night!. Each month will bring a different theme. \nPut your thinking caps on\, bring your friends\, grab some food/drinks and maybe even win some prizes!
URL:https://djdanlinedance.com/event/whitpain-tavern-trivia-20241023/
LOCATION:Whitpain Tavern\, 1529 Dekalb Pike\, Blue Bell\, PA\, 19422\, United States
CATEGORIES:Trivia
ATTACH;FMTTYPE=image/jpeg:https://djdanlinedance.com/wp-content/uploads/2024/09/1486_image_458288963_893216712863353_3927103447681749722_n.jpg
END:VEVENT
BEGIN:VEVENT
DTSTART;TZID=America/New_York:20240925T190000
DTEND;TZID=America/New_York:20240925T220000
DTSTAMP:20260424T012324
CREATED:20240810T215853Z
LAST-MODIFIED:20240810T215939Z
UID:1405-1727290800-1727301600@djdanlinedance.com
SUMMARY:Whitpain Tavern Trivia
DESCRIPTION:It’s our 4th Whitpain Wednesday this month which means it is Trivia Night!. Each month will bring a different theme. \nPut your thinking caps on\, bring your friends\, grab some food/drinks and maybe even win some prizes!
URL:https://djdanlinedance.com/event/whitpain-tavern-trivia-20240925/
LOCATION:Whitpain Tavern\, 1529 Dekalb Pike\, Blue Bell\, PA\, 19422\, United States
CATEGORIES:Trivia
ATTACH;FMTTYPE=image/jpeg:https://djdanlinedance.com/wp-content/uploads/2024/08/1405_image_454994761_877120601139631_2630008295129712273_n.jpg
END:VEVENT
BEGIN:VEVENT
DTSTART;TZID=America/New_York:20240828T190000
DTEND;TZID=America/New_York:20240828T220000
DTSTAMP:20260424T012324
CREATED:20240628T164525Z
LAST-MODIFIED:20240628T164610Z
UID:1256-1724871600-1724882400@djdanlinedance.com
SUMMARY:Whitpain Tavern Trivia
DESCRIPTION:It’s our 4th Whitpain Wednesday this month which means it is Trivia Night!. Each month will bring a different theme. \nPut your thinking caps on\, bring your friends\, grab some food/drinks and maybe even win some prizes!
URL:https://djdanlinedance.com/event/whitpain-tavern-trivia-20240828/
LOCATION:Whitpain Tavern\, 1529 Dekalb Pike\, Blue Bell\, PA\, 19422\, United States
CATEGORIES:Trivia
ATTACH;FMTTYPE=image/jpeg:https://djdanlinedance.com/wp-content/uploads/2024/06/1256_image_449515585_851250967059928_1649929080894401515_n.jpg
END:VEVENT
BEGIN:VEVENT
DTSTART;TZID=America/New_York:20240725T170000
DTEND;TZID=America/New_York:20240725T210000
DTSTAMP:20260424T012324
CREATED:20240708T171541Z
LAST-MODIFIED:20240708T172002Z
UID:1293-1721926800-1721941200@djdanlinedance.com
SUMMARY:Summer Family Series ☀️
DESCRIPTION:Join The Broad Street Grind\, DJ Dan Line Dance & Sandcastle Winery for this Family Friendly Event! Bring your crew and enjoy this month’s themed Thursday – Music Bingo & Trivia🪩 \nDoors open at 5 PM & entry is free! \nCheck out the menu available for purchase🥙\, “to-go” snacks\, ☕️coffees & tea. Sandcastle Winery will be there to provide the delicious\, local wine! 🍷
URL:https://djdanlinedance.com/event/summer-family-series-%e2%98%80%ef%b8%8f-20240725/
LOCATION:PA
CATEGORIES:Music Bingo,Trivia
ATTACH;FMTTYPE=image/jpeg:https://djdanlinedance.com/wp-content/uploads/2024/07/1293_image_449839410_857307209787637_8441967995860303_n.jpg
END:VEVENT
BEGIN:VEVENT
DTSTART;TZID=America/New_York:20240724T190000
DTEND;TZID=America/New_York:20240724T220000
DTSTAMP:20260424T012324
CREATED:20240517T172059Z
LAST-MODIFIED:20240517T172738Z
UID:1065-1721847600-1721858400@djdanlinedance.com
SUMMARY:Whitpain Tavern Trivia
DESCRIPTION:It’s our 4th Whitpain Wednesday this month which means it is Trivia Night!. Each month will bring a different theme. \nPut your thinking caps on\, bring your friends\, grab some food/drinks and maybe even win some prizes!
URL:https://djdanlinedance.com/event/whitpain-tavern-trivia-20240724/
LOCATION:Whitpain Tavern\, 1529 Dekalb Pike\, Blue Bell\, PA\, 19422\, United States
CATEGORIES:Trivia
ATTACH;FMTTYPE=image/jpeg:https://djdanlinedance.com/wp-content/uploads/2024/05/1065_image_440800224_824334419751583_2099556196411373995_n.jpg
END:VEVENT
BEGIN:VEVENT
DTSTART;TZID=America/New_York:20240626T190000
DTEND;TZID=America/New_York:20240626T220000
DTSTAMP:20260424T012324
CREATED:20240424T170054Z
LAST-MODIFIED:20240424T170201Z
UID:989-1719428400-1719439200@djdanlinedance.com
SUMMARY:Whitpain Tavern Trivia
DESCRIPTION:It’s our 4th Whitpain Wednesday this month which means it is Trivia Night!. Each month will bring a different theme. \nPut your thinking caps on\, bring your friends\, grab some food/drinks and maybe even win some prizes!
URL:https://djdanlinedance.com/event/whitpain-tavern-trivia-20240626/
LOCATION:Whitpain Tavern\, 1529 Dekalb Pike\, Blue Bell\, PA\, 19422\, United States
CATEGORIES:Trivia
ATTACH;FMTTYPE=image/jpeg:https://djdanlinedance.com/wp-content/uploads/2024/04/989_image_438787013_810940771090948_5077995131867015530_n.jpg
END:VEVENT
BEGIN:VEVENT
DTSTART;TZID=America/New_York:20240522T190000
DTEND;TZID=America/New_York:20240522T220000
DTSTAMP:20260424T012324
CREATED:20240328T173955Z
LAST-MODIFIED:20240328T174217Z
UID:809-1716404400-1716415200@djdanlinedance.com
SUMMARY:Whitpain Tavern Trivia
DESCRIPTION:It’s our 4th Whitpain Wednesday this month which means it is Trivia Night!. Each month will bring a different theme. \nPut your thinking caps on\, bring your friends\, grab some food/drinks and maybe even win some prizes!
URL:https://djdanlinedance.com/event/whitpain-tavern-trivia-20240522/
LOCATION:Whitpain Tavern\, 1529 Dekalb Pike\, Blue Bell\, PA\, 19422\, United States
CATEGORIES:Trivia
ATTACH;FMTTYPE=image/jpeg:https://djdanlinedance.com/wp-content/uploads/2024/03/809_image_432953120_795417602643265_7456009654850005841_n.jpg
END:VEVENT
END:VCALENDAR