BEGIN:VCALENDAR
VERSION:2.0
PRODID:-//DJ Dan Line Dance - ECPv6.15.20//NONSGML v1.0//EN
CALSCALE:GREGORIAN
METHOD:PUBLISH
X-WR-CALNAME:DJ Dan Line Dance
X-ORIGINAL-URL:https://djdanlinedance.com
X-WR-CALDESC:Events for DJ Dan Line Dance
REFRESH-INTERVAL;VALUE=DURATION:PT1H
X-Robots-Tag:noindex
X-PUBLISHED-TTL:PT1H
BEGIN:VTIMEZONE
TZID:America/New_York
BEGIN:DAYLIGHT
TZOFFSETFROM:-0500
TZOFFSETTO:-0400
TZNAME:EDT
DTSTART:20230312T070000
END:DAYLIGHT
BEGIN:STANDARD
TZOFFSETFROM:-0400
TZOFFSETTO:-0500
TZNAME:EST
DTSTART:20231105T060000
END:STANDARD
BEGIN:DAYLIGHT
TZOFFSETFROM:-0500
TZOFFSETTO:-0400
TZNAME:EDT
DTSTART:20240310T070000
END:DAYLIGHT
BEGIN:STANDARD
TZOFFSETFROM:-0400
TZOFFSETTO:-0500
TZNAME:EST
DTSTART:20241103T060000
END:STANDARD
BEGIN:DAYLIGHT
TZOFFSETFROM:-0500
TZOFFSETTO:-0400
TZNAME:EDT
DTSTART:20250309T070000
END:DAYLIGHT
BEGIN:STANDARD
TZOFFSETFROM:-0400
TZOFFSETTO:-0500
TZNAME:EST
DTSTART:20251102T060000
END:STANDARD
END:VTIMEZONE
BEGIN:VEVENT
DTSTART;TZID=America/New_York:20240403T190000
DTEND;TZID=America/New_York:20240403T220000
DTSTAMP:20260425T234448
CREATED:20240319T203828Z
LAST-MODIFIED:20240319T211047Z
UID:703-1712170800-1712181600@djdanlinedance.com
SUMMARY:Whitpain Tavern Line Dancing
DESCRIPTION:The 1st and 3rd Wednesday each month we will be line dancing at the Whitpain Tavern! \n7:00 pm to 10:00 pm\n$10 Cover Charge\nALL AGES \nBeginner lessons and open dancing! \nBring your dance requests! \nSee ya there!
URL:https://djdanlinedance.com/event/whitpain-tavern-line-dancing-20240403/
LOCATION:Whitpain Tavern\, 1529 Dekalb Pike\, Blue Bell\, PA\, 19422\, United States
CATEGORIES:Line Dancing
ATTACH;FMTTYPE=image/jpeg:https://djdanlinedance.com/wp-content/uploads/2024/03/703_image_427800768_770134598504899_4755509115577762145_n.jpg
END:VEVENT
BEGIN:VEVENT
DTSTART;TZID=America/New_York:20240402T183000
DTEND;TZID=America/New_York:20240402T223000
DTSTAMP:20260425T234448
CREATED:20240319T203822Z
LAST-MODIFIED:20240319T210948Z
UID:700-1712082600-1712097000@djdanlinedance.com
SUMMARY:Line Dancing at SunnyBrook Ballroom
DESCRIPTION:SoulJoel Presents: \nLine Dancing at SoulJoel’s at SunnyBrook\nInside the Sunnybrook Ballroom w/ DJ Dan \nBeginner lessons 6:30-7 pm\nOpen Dance 7-1030pm\nFull Bar available. No outside food or beverages \nFood available from Gatsby’s Pub 4 to 11pm \nGet tickets here:\nhttps://www.souljoels.com/shop/tickets/linedancingapril2nd/ \nAbout DJ Dan: \nDJ for over 20 years\nLine Dancing DJ and instructor for over 4 years.\nAppearances in bars\, clubs\, and venues in PA and NJ like Rock N Rebel\, Prospectors Dance Venue\, and the Camden Waterfront Arena for the XTU Anniversary Show!!
URL:https://djdanlinedance.com/event/line-dancing-at-sunnybrook-ballroom-20240402/
LOCATION:SoulJoel’s at SunnyBrook\, 50 Sunnybrook Rd\, Pottstown\, PA\, 19464\, United States
CATEGORIES:Line Dancing
ATTACH;FMTTYPE=image/jpeg:https://djdanlinedance.com/wp-content/uploads/2024/03/700_image_432779645_788002453384780_3314519038152868435_n.jpg
END:VEVENT
BEGIN:VEVENT
DTSTART;TZID=America/New_York:20240401T190000
DTEND;TZID=America/New_York:20240401T220000
DTSTAMP:20260425T234448
CREATED:20240319T201623Z
LAST-MODIFIED:20240319T210839Z
UID:691-1711998000-1712008800@djdanlinedance.com
SUMMARY:Warminster VFW Line Dancing
DESCRIPTION:Line Dancing at the VFW Warminster! \n7pm to 10pm \n$10 cover \nLessons\, dancing and always lots of fun! \nSee ya there!
URL:https://djdanlinedance.com/event/warminster-vfw-line-dancing-20240401/
LOCATION:Warminster VFW 6493\, 645 Louis Dr\, Warminster\, PA\, 18974\, United States
CATEGORIES:Line Dancing
ATTACH;FMTTYPE=image/jpeg:https://djdanlinedance.com/wp-content/uploads/2024/03/691_image_427756351_770134165171609_3140180263161668774_n.jpg
END:VEVENT
END:VCALENDAR