BEGIN:VCALENDAR
VERSION:2.0
PRODID:-//DJ Dan Line Dance - ECPv6.15.20//NONSGML v1.0//EN
CALSCALE:GREGORIAN
METHOD:PUBLISH
X-ORIGINAL-URL:https://djdanlinedance.com
X-WR-CALDESC:Events for DJ Dan Line Dance
REFRESH-INTERVAL;VALUE=DURATION:PT1H
X-Robots-Tag:noindex
X-PUBLISHED-TTL:PT1H
BEGIN:VTIMEZONE
TZID:America/New_York
BEGIN:DAYLIGHT
TZOFFSETFROM:-0500
TZOFFSETTO:-0400
TZNAME:EDT
DTSTART:20240310T070000
END:DAYLIGHT
BEGIN:STANDARD
TZOFFSETFROM:-0400
TZOFFSETTO:-0500
TZNAME:EST
DTSTART:20241103T060000
END:STANDARD
BEGIN:DAYLIGHT
TZOFFSETFROM:-0500
TZOFFSETTO:-0400
TZNAME:EDT
DTSTART:20250309T070000
END:DAYLIGHT
BEGIN:STANDARD
TZOFFSETFROM:-0400
TZOFFSETTO:-0500
TZNAME:EST
DTSTART:20251102T060000
END:STANDARD
BEGIN:DAYLIGHT
TZOFFSETFROM:-0500
TZOFFSETTO:-0400
TZNAME:EDT
DTSTART:20260308T070000
END:DAYLIGHT
BEGIN:STANDARD
TZOFFSETFROM:-0400
TZOFFSETTO:-0500
TZNAME:EST
DTSTART:20261101T060000
END:STANDARD
END:VTIMEZONE
BEGIN:VEVENT
DTSTART;TZID=America/New_York:20250806T190000
DTEND;TZID=America/New_York:20250806T220000
DTSTAMP:20260424T053428
CREATED:20250620T203501Z
LAST-MODIFIED:20250620T205100Z
UID:2295-1754506800-1754517600@djdanlinedance.com
SUMMARY:Whitpain Tavern Music Bingo
DESCRIPTION:🎶 Music Bingo at The Whitpain Tavern 🎶 \nJoin us every other Wednesday for an exciting night of Music Bingo! Test your music knowledge and enjoy some friendly competition while grooving to your favorite tunes. Great food\, refreshing drinks\, and fantastic prizes await! \n📍 Location: The Whitpain Tavern\, 1529 Dekalb Pike\, Blue Bell\, PA 19422\n🕖 Time: 7:00 – 10:00 PM\n📅 When: Every other Wednesday \nBring your friends and family for a midweek treat that’s sure to hit all the right notes. See you there! 🎤🕺
URL:https://djdanlinedance.com/event/20250806/
LOCATION:Whitpain Tavern\, 1529 Dekalb Pike\, Blue Bell\, PA\, 19422\, United States
CATEGORIES:Music Bingo
ATTACH;FMTTYPE=image/jpeg:https://djdanlinedance.com/wp-content/uploads/2025/06/2295_image_502567055_1099498272235195_4261863117717504318_n.jpg
END:VEVENT
BEGIN:VEVENT
DTSTART;TZID=America/New_York:20250813T190000
DTEND;TZID=America/New_York:20250813T220000
DTSTAMP:20260424T053428
CREATED:20250620T203519Z
LAST-MODIFIED:20250620T204903Z
UID:2306-1755111600-1755122400@djdanlinedance.com
SUMMARY:Whitpain Tavern Trivia
DESCRIPTION:🧠 Trivia Night at The Whitpain Tavern 🧠 \nThink you’ve got what it takes to be a trivia champ? Join us every other Wednesday for a fun and challenging Trivia Night! Show off your knowledge across a variety of topics and compete for awesome prizes. \n📍 Location: The Whitpain Tavern\, 1529 Dekalb Pike\, Blue Bell\, PA 19422\n🕖 Time: 7:00 – 10:00 PM\n📅 When: Every other Wednesday \nGather your smartest friends and come out for a great night of laughs\, food\, and drinks. Test your wits and take home bragging rights! 🏆
URL:https://djdanlinedance.com/event/20250813/
LOCATION:Whitpain Tavern\, 1529 Dekalb Pike\, Blue Bell\, PA\, 19422\, United States
CATEGORIES:Trivia
ATTACH;FMTTYPE=image/jpeg:https://djdanlinedance.com/wp-content/uploads/2025/06/2306_image_509437267_1099499135568442_6104240332638629521_n.jpg
END:VEVENT
BEGIN:VEVENT
DTSTART;TZID=America/New_York:20250820T190000
DTEND;TZID=America/New_York:20250820T220000
DTSTAMP:20260424T053428
CREATED:20250620T203603Z
LAST-MODIFIED:20250620T205042Z
UID:2314-1755716400-1755727200@djdanlinedance.com
SUMMARY:Whitpain Tavern Music Bingo
DESCRIPTION:🎶 Music Bingo at The Whitpain Tavern 🎶 \nJoin us every other Wednesday for an exciting night of Music Bingo! Test your music knowledge and enjoy some friendly competition while grooving to your favorite tunes. Great food\, refreshing drinks\, and fantastic prizes await! \n📍 Location: The Whitpain Tavern\, 1529 Dekalb Pike\, Blue Bell\, PA 19422\n🕖 Time: 7:00 – 10:00 PM\n📅 When: Every other Wednesday \nBring your friends and family for a midweek treat that’s sure to hit all the right notes. See you there! 🎤🕺
URL:https://djdanlinedance.com/event/20250820/
LOCATION:Whitpain Tavern\, 1529 Dekalb Pike\, Blue Bell\, PA\, 19422\, United States
CATEGORIES:Music Bingo
ATTACH;FMTTYPE=image/jpeg:https://djdanlinedance.com/wp-content/uploads/2025/06/2314_image_502570350_1099498692235153_5095653816493450270_n.jpg
END:VEVENT
BEGIN:VEVENT
DTSTART;TZID=America/New_York:20250827T190000
DTEND;TZID=America/New_York:20250827T220000
DTSTAMP:20260424T053428
CREATED:20250620T203613Z
LAST-MODIFIED:20250620T204844Z
UID:2320-1756321200-1756332000@djdanlinedance.com
SUMMARY:Whitpain Tavern Trivia
DESCRIPTION:🧠 Trivia Night at The Whitpain Tavern 🧠 \nThink you’ve got what it takes to be a trivia champ? Join us every other Wednesday for a fun and challenging Trivia Night! Show off your knowledge across a variety of topics and compete for awesome prizes. \n📍 Location: The Whitpain Tavern\, 1529 Dekalb Pike\, Blue Bell\, PA 19422\n🕖 Time: 7:00 – 10:00 PM\n📅 When: Every other Wednesday \nGather your smartest friends and come out for a great night of laughs\, food\, and drinks. Test your wits and take home bragging rights! 🏆
URL:https://djdanlinedance.com/event/20250827/
LOCATION:Whitpain Tavern\, 1529 Dekalb Pike\, Blue Bell\, PA\, 19422\, United States
CATEGORIES:Trivia
ATTACH;FMTTYPE=image/jpeg:https://djdanlinedance.com/wp-content/uploads/2025/06/2320_image_509435268_1099499615568394_8445215596460015461_n.jpg
END:VEVENT
END:VCALENDAR