BEGIN:VCALENDAR
VERSION:2.0
PRODID:-//DJ Dan Line Dance - ECPv6.15.20//NONSGML v1.0//EN
CALSCALE:GREGORIAN
METHOD:PUBLISH
X-ORIGINAL-URL:https://djdanlinedance.com
X-WR-CALDESC:Events for DJ Dan Line Dance
REFRESH-INTERVAL;VALUE=DURATION:PT1H
X-Robots-Tag:noindex
X-PUBLISHED-TTL:PT1H
BEGIN:VTIMEZONE
TZID:America/New_York
BEGIN:DAYLIGHT
TZOFFSETFROM:-0500
TZOFFSETTO:-0400
TZNAME:EDT
DTSTART:20230312T070000
END:DAYLIGHT
BEGIN:STANDARD
TZOFFSETFROM:-0400
TZOFFSETTO:-0500
TZNAME:EST
DTSTART:20231105T060000
END:STANDARD
BEGIN:DAYLIGHT
TZOFFSETFROM:-0500
TZOFFSETTO:-0400
TZNAME:EDT
DTSTART:20240310T070000
END:DAYLIGHT
BEGIN:STANDARD
TZOFFSETFROM:-0400
TZOFFSETTO:-0500
TZNAME:EST
DTSTART:20241103T060000
END:STANDARD
BEGIN:DAYLIGHT
TZOFFSETFROM:-0500
TZOFFSETTO:-0400
TZNAME:EDT
DTSTART:20250309T070000
END:DAYLIGHT
BEGIN:STANDARD
TZOFFSETFROM:-0400
TZOFFSETTO:-0500
TZNAME:EST
DTSTART:20251102T060000
END:STANDARD
END:VTIMEZONE
BEGIN:VEVENT
DTSTART;TZID=America/New_York:20241231T190000
DTEND;TZID=America/New_York:20241231T235900
DTSTAMP:20260425T122039
CREATED:20241101T154607Z
LAST-MODIFIED:20241222T191723Z
UID:1638-1735671600-1735689540@djdanlinedance.com
SUMMARY:Special Event: New Year's Eve Line Dancing inside SunnyBrook Ballroom
DESCRIPTION:SoulJoel Presents \nSpecial Event: New Year’s Eve Line Dancing inside SunnyBrook Ballroom w/ DJ Dan \nBeginner lessons 7 to 8pm\nOpen Dance 8pm to 12am Full Bar available. Order food from Gatsby’s Pub at the bar to be delivered directly to your table! \nTickets are $10 in advance and $15 at the door\nGet tickets here:\nhttps://www.souljoels.com/shop/tickets/nyelinedancing/ ‎ \nAbout DJ Dan:\nDJ for over 20 years\nLine Dancing DJ and instructor for over 4 years.\nAppearances in bars\, clubs and venues in PA and NJ like Rock N Rebel\, Prospectors Dance Venue and the Camden Waterfront Arena for the XTU Anniversary Show!
URL:https://djdanlinedance.com/event/special-event-new-years-eve-line-dancing-inside-sunnybrook-ballroom-20241231/
LOCATION:PA
CATEGORIES:Line Dancing
ATTACH;FMTTYPE=image/png:https://djdanlinedance.com/wp-content/uploads/2024/11/20241231-Cover.png
END:VEVENT
END:VCALENDAR