BEGIN:VCALENDAR
VERSION:2.0
PRODID:-//DJ Dan Line Dance - ECPv6.15.20//NONSGML v1.0//EN
CALSCALE:GREGORIAN
METHOD:PUBLISH
X-ORIGINAL-URL:https://djdanlinedance.com
X-WR-CALDESC:Events for DJ Dan Line Dance
REFRESH-INTERVAL;VALUE=DURATION:PT1H
X-Robots-Tag:noindex
X-PUBLISHED-TTL:PT1H
BEGIN:VTIMEZONE
TZID:America/New_York
BEGIN:DAYLIGHT
TZOFFSETFROM:-0500
TZOFFSETTO:-0400
TZNAME:EDT
DTSTART:20240310T070000
END:DAYLIGHT
BEGIN:STANDARD
TZOFFSETFROM:-0400
TZOFFSETTO:-0500
TZNAME:EST
DTSTART:20241103T060000
END:STANDARD
BEGIN:DAYLIGHT
TZOFFSETFROM:-0500
TZOFFSETTO:-0400
TZNAME:EDT
DTSTART:20250309T070000
END:DAYLIGHT
BEGIN:STANDARD
TZOFFSETFROM:-0400
TZOFFSETTO:-0500
TZNAME:EST
DTSTART:20251102T060000
END:STANDARD
BEGIN:DAYLIGHT
TZOFFSETFROM:-0500
TZOFFSETTO:-0400
TZNAME:EDT
DTSTART:20260308T070000
END:DAYLIGHT
BEGIN:STANDARD
TZOFFSETFROM:-0400
TZOFFSETTO:-0500
TZNAME:EST
DTSTART:20261101T060000
END:STANDARD
END:VTIMEZONE
BEGIN:VEVENT
DTSTART;TZID=America/New_York:20250214T180000
DTEND;TZID=America/New_York:20250214T220000
DTSTAMP:20260425T121931
CREATED:20250113T204309Z
LAST-MODIFIED:20250118T220941Z
UID:1776-1739556000-1739570400@djdanlinedance.com
SUMMARY:Red Hill Valentine's Day Dinner & Line Dancing
DESCRIPTION:👢 Valentine’s Day Dinner & Line Dancing at Red Hill Fire Company Social Club 👢 \nBring your boots & appetites and join us for Valentine’s Day Dinner followed by Line Dancing! You’ll share some great food and follow that with DJ Dan playing all your favorite dance tunes. \n📍 Location: Red Hill Fire Company Social Club\, 82 E 5th St\, Red Hill\, PA 18076\n🕖 6:00 PM – 7:00 PM Dinner\n🕖 7:00 PM – 10:00 PM Dancing\n📅 When: Friday\, February 14th \n$20 Cover Dinner & Dancing\n$10 Cover Dancing only \nDinner includes pasta\, meatballs\, chicken parm\, salad\, garlic bread & dessert.\nNo outside food or drink may be brought on premises. \nDon’t miss out—it’s the perfect way to celebrate the holiday! 🎶💃
URL:https://djdanlinedance.com/event/red-hill-valentines-day-dinner-line-dancing-20250214/
LOCATION:Red Hill Fire Company Social Club\, 126 E 5th St\, Red Hill\, PA\, 18076\, United States
CATEGORIES:Line Dancing
ATTACH;FMTTYPE=image/jpeg:https://djdanlinedance.com/wp-content/uploads/2025/01/1776_image_473323197_984036640448026_8821276025435782501_n.jpg
END:VEVENT
END:VCALENDAR