BEGIN:VCALENDAR
VERSION:2.0
PRODID:-//DJ Dan Line Dance - ECPv6.15.20//NONSGML v1.0//EN
CALSCALE:GREGORIAN
METHOD:PUBLISH
X-WR-CALNAME:DJ Dan Line Dance
X-ORIGINAL-URL:https://djdanlinedance.com
X-WR-CALDESC:Events for DJ Dan Line Dance
REFRESH-INTERVAL;VALUE=DURATION:PT1H
X-Robots-Tag:noindex
X-PUBLISHED-TTL:PT1H
BEGIN:VTIMEZONE
TZID:America/New_York
BEGIN:DAYLIGHT
TZOFFSETFROM:-0500
TZOFFSETTO:-0400
TZNAME:EDT
DTSTART:20250309T070000
END:DAYLIGHT
BEGIN:STANDARD
TZOFFSETFROM:-0400
TZOFFSETTO:-0500
TZNAME:EST
DTSTART:20251102T060000
END:STANDARD
BEGIN:DAYLIGHT
TZOFFSETFROM:-0500
TZOFFSETTO:-0400
TZNAME:EDT
DTSTART:20260308T070000
END:DAYLIGHT
BEGIN:STANDARD
TZOFFSETFROM:-0400
TZOFFSETTO:-0500
TZNAME:EST
DTSTART:20261101T060000
END:STANDARD
BEGIN:DAYLIGHT
TZOFFSETFROM:-0500
TZOFFSETTO:-0400
TZNAME:EDT
DTSTART:20270314T070000
END:DAYLIGHT
BEGIN:STANDARD
TZOFFSETFROM:-0400
TZOFFSETTO:-0500
TZNAME:EST
DTSTART:20271107T060000
END:STANDARD
END:VTIMEZONE
BEGIN:VEVENT
DTSTART;TZID=America/New_York:20260202T180000
DTEND;TZID=America/New_York:20260202T210000
DTSTAMP:20260423T190909
CREATED:20260107T183008Z
LAST-MODIFIED:20260107T184825Z
UID:2791-1770055200-1770066000@djdanlinedance.com
SUMMARY:Line Dancing @ Capri Pizza
DESCRIPTION:Join DJ Dan Line Dance every Monday for an energetic evening filled with your favorite line dances\, delicious food\, and a welcoming community. \n📍 Capri Pizza Restaurant & Bar\n5855 Easton Rd\, Plumsteadville\, PA 18949 \n🕕 6:00 PM – 9:00 PM\n💵 $10 cover \nIncludes a $5 food voucher valid on food orders of $15 or more\nEnjoy a full night of dancing while treating yourself to Capri’s tasty menu. \nPlease note: no powder or dance wax is permitted on the floor to keep the dance space safe for everyone. \nThis night out is the perfect way to kick off your week. Come join the fun! 🎶🕺💃
URL:https://djdanlinedance.com/event/20260202/
LOCATION:Capri Pizza Restaurant & Bar\, 5855 Easton Road\, Plumsteadville\, PA\, 18949\, United States
CATEGORIES:Line Dancing
ATTACH;FMTTYPE=image/jpeg:https://djdanlinedance.com/wp-content/uploads/2026/01/2791_image_613109775_10231657542437458_3401030753838225686_n.jpg
END:VEVENT
BEGIN:VEVENT
DTSTART;TZID=America/New_York:20260203T183000
DTEND;TZID=America/New_York:20260203T223000
DTSTAMP:20260423T190909
CREATED:20260107T194423Z
LAST-MODIFIED:20260107T194627Z
UID:2836-1770143400-1770157800@djdanlinedance.com
SUMMARY:Line Dancing at SunnyBrook Ballroom
DESCRIPTION:SoulJoel Presents:\n\nLine Dancing inside the historic SunnyBrook BallroomInside The Ballroom w/ DJ Dan\n\nLargest Ballroom East of the Mississippi (14\,000 square feet)\n\nBeginner lessons 6:30 to 7pmOpen Dance 7 to 1030Full Bar available. Food available to order from Gatsby’s Pub until 830pmNo outside food or beverageBottles of water are $1\n\nFREE PARKING!\n\nGet tickets here:https://souljoels.com/shop/tickets/linedancingfebruary3rd/\n\nAbout DJ Dan:\nDJ for over 20 yearsLine Dancing DJ and instructor for over 4 years.\nAppearances in bars\, clubs and venues in PA and NJ like Rock N Rebel\, Prospectors Dance Venue and the Camden Waterfront Arena for the XTU Anniversary Show!
URL:https://djdanlinedance.com/event/20260203/
LOCATION:SoulJoel’s at Sunnybrook*\, 50 Sunnybrook Road\, Pottstown\, PA\, 19464
CATEGORIES:Line Dancing
ATTACH;FMTTYPE=image/png:https://djdanlinedance.com/wp-content/uploads/2026/01/Orange-Cover.png
END:VEVENT
BEGIN:VEVENT
DTSTART;TZID=America/New_York:20260206T190000
DTEND;TZID=America/New_York:20260206T220000
DTSTAMP:20260423T190909
CREATED:20260107T183021Z
LAST-MODIFIED:20260107T185047Z
UID:2795-1770404400-1770415200@djdanlinedance.com
SUMMARY:Line Dancing @ Nostalgia 1720
DESCRIPTION:Join DJ Dan Line Dance on the 1st Friday of every month for an evening packed with great music and an awesome crowd. \n📍 Nostalgia 1720\n136 E Butler Ave\, Chalfont\, PA 18914 \n🕖 7:00 PM – 10:00 PM\n💵 $10 cover \nBring your own food and enjoy a relaxed\, social atmosphere. Drinks are available for purchase at the venue — no outside beverages permitted. \nCome dance\, laugh\, and make memories with DJ Dan Line Dance! 🎶🕺💃
URL:https://djdanlinedance.com/event/20260206/
LOCATION:The Bar at 1720\, 136 East Butler Ave\, Chalfont\, PA\, 18914\, United States
CATEGORIES:Line Dancing
ATTACH;FMTTYPE=image/jpeg:https://djdanlinedance.com/wp-content/uploads/2026/01/2795_image_613190150_10231657565278029_7653924203250352654_n.jpg
END:VEVENT
BEGIN:VEVENT
DTSTART;TZID=America/New_York:20260207T190000
DTEND;TZID=America/New_York:20260207T220000
DTSTAMP:20260423T190909
CREATED:20260107T183026Z
LAST-MODIFIED:20260107T185519Z
UID:2797-1770490800-1770501600@djdanlinedance.com
SUMMARY:Line Dancing with DJ Dan at Hausman’s Fruit Farm
DESCRIPTION:Join DJ Dan Line Dance on the 1st Saturday of every month for an evening of great music\, good vibes\, and plenty of dancing. \n📍 Hausman’s Fruit Farm\n2822 Limeport Pike\, Coopersburg\, PA 18036 \n🕖 7:00 PM – 10:00 PM\n💵 $5 cover \nLight snacks and refreshments will be available for purchase to keep you fueled throughout the night. \nCome dance\, laugh\, and make memories in the barn—see you there! 🎶🕺💃
URL:https://djdanlinedance.com/event/20260207/
LOCATION:Hausman’s Fruit Farm\, 2822 Limeport Pike\, Coopersburg\, PA\, 18036\, United States
CATEGORIES:Line Dancing
ATTACH;FMTTYPE=image/jpeg:https://djdanlinedance.com/wp-content/uploads/2026/01/2797_image_612318050_10231657584478509_3589446273288105717_n.jpg
END:VEVENT
BEGIN:VEVENT
DTSTART;TZID=America/New_York:20260209T180000
DTEND;TZID=America/New_York:20260209T210000
DTSTAMP:20260423T190909
CREATED:20260107T183030Z
LAST-MODIFIED:20260204T162600Z
UID:2799-1770660000-1770670800@djdanlinedance.com
SUMMARY:Line Dancing @ Capri Pizza
DESCRIPTION:Join DJ Dan Line Dance every Monday for an energetic evening filled with your favorite line dances\, delicious food\, and a welcoming community. \n📍 Capri Pizza Restaurant & Bar\n5855 Easton Rd\, Plumsteadville\, PA 18949 \n🕕 6:00 PM – 9:00 PM\n💵 $10 cover \nIncludes a $5 food voucher valid on food orders of $15 or more\nEnjoy a full night of dancing while treating yourself to Capri’s tasty menu. \nPlease note: no powder or dance wax is permitted on the floor to keep the dance space safe for everyone. \nThis night out is the perfect way to kick off your week. Come join the fun! 🎶🕺💃
URL:https://djdanlinedance.com/event/20260209/
LOCATION:Capri Pizza Restaurant & Bar\, 5855 Easton Road\, Plumsteadville\, PA\, 18949\, United States
CATEGORIES:Line Dancing
ATTACH;FMTTYPE=image/jpeg:https://djdanlinedance.com/wp-content/uploads/2026/01/2799_image_613511044_10231657590398657_5792310059621104362_n.jpg
END:VEVENT
BEGIN:VEVENT
DTSTART;TZID=America/New_York:20260210T183000
DTEND;TZID=America/New_York:20260210T223000
DTSTAMP:20260423T190909
CREATED:20260107T195104Z
LAST-MODIFIED:20260107T195104Z
UID:2839-1770748200-1770762600@djdanlinedance.com
SUMMARY:Line Dancing at SunnyBrook Ballroom
DESCRIPTION:SoulJoel Presents:\n\nLine Dancing inside the historic SunnyBrook BallroomInside The Ballroom w/ DJ Dan\n\nLargest Ballroom East of the Mississippi (14\,000 square feet)\n\nBeginner lessons 6:30 to 7pm\nOpen Dance 7 to 1030Full Bar available. Food available to order from Gatsby’s Pub.No outside food or beverage\n\nFREE PARKING!\n\nGet tickets here:https://souljoels.com/shop/tickets/linedancingfebruary10th/\n\nAbout DJ Dan:\nDJ for over 20 yearsLine Dancing DJ and instructor for over 4 years.\nAppearances in bars\, clubs and venues in PA and NJ like Rock N Rebel\, Prospectors Dance Venue and the Camden Waterfront Arena for the XTU Anniversary Show!
URL:https://djdanlinedance.com/event/20260210/
LOCATION:SoulJoel’s at Sunnybrook*\, 50 Sunnybrook Road\, Pottstown\, PA\, 19464
CATEGORIES:Line Dancing
ATTACH;FMTTYPE=image/png:https://djdanlinedance.com/wp-content/uploads/2026/01/Red-Cover.png
END:VEVENT
BEGIN:VEVENT
DTSTART;TZID=America/New_York:20260212T180000
DTEND;TZID=America/New_York:20260212T200000
DTSTAMP:20260423T190909
CREATED:20260211T205027Z
LAST-MODIFIED:20260211T205027Z
UID:2991-1770919200-1770926400@djdanlinedance.com
SUMMARY:Line Dancing @ Brothers Kershner Brewing Co.
DESCRIPTION:Put on your favorite boots and hit the dance floor! \nJoin DJ Dan for a pumped night full of line dancing fun! His show is perfect for ALL line dancers both beginners and experienced alike!
URL:https://djdanlinedance.com/event/20260212/
LOCATION:Brothers Kershner Brewing Co.\, 4119 Skippack Pike\, Skippack\, PA\, 19474\, United States
CATEGORIES:Line Dancing
ATTACH;FMTTYPE=image/jpeg:https://djdanlinedance.com/wp-content/uploads/2026/02/20260212-Cover.jpg
END:VEVENT
BEGIN:VEVENT
DTSTART;TZID=America/New_York:20260213T200000
DTEND;TZID=America/New_York:20260213T230000
DTSTAMP:20260423T190909
CREATED:20260116T222845Z
LAST-MODIFIED:20260116T223243Z
UID:2898-1771012800-1771023600@djdanlinedance.com
SUMMARY:Line Dancing @ Bella Brew Pub
DESCRIPTION:🎉 Come back this month and check out one of our NEW VENUES! Join us for Line Dancing at Bella Brew Pub! \nDance the night away with DJ Dan Line Dance in a fun\, all-ages environment the 2nd Friday of each month! \n📍 Bella Brew Pub\n1355 Gravel Pike\, Perkiomenville\, PA 18074\n🕗 8:00 PM – 11:00 PM\n💵 No cover\n🍔 Food available until 9 PM / Drinks available all night\n❌ No outside food or drinks\n🔥 Heated concrete patio \nBring your friends\, enjoy great music\, delicious food\, and refreshing drinks\, and show off your best moves on the dance floor. Let’s make it a night to remember! 🕺💃🎶
URL:https://djdanlinedance.com/event/20260213/
LOCATION:Bella Brew Pub\, 1355 N Gravel Pike\, Perkiomenville\, PA\, 18074\, US
CATEGORIES:Line Dancing
ATTACH;FMTTYPE=image/jpeg:https://djdanlinedance.com/wp-content/uploads/2026/01/2898_image_617385894_10231757177568274_3035594722942920615_n.jpg
END:VEVENT
BEGIN:VEVENT
DTSTART;TZID=America/New_York:20260214T190000
DTEND;TZID=America/New_York:20260214T220000
DTSTAMP:20260423T190909
CREATED:20260107T183038Z
LAST-MODIFIED:20260107T185632Z
UID:2803-1771095600-1771106400@djdanlinedance.com
SUMMARY:Line Dancing @ Fred Astaire Dance Studio
DESCRIPTION:🕺💃🎶 Step onto the dance floor for Line Dancing at Fred Astaire Dance Studios – Collegeville! \nJoin DJ Dan Line Dance on the 2nd Saturday of every month for an evening of fun. \n📍 Fred Astaire Dance Studios – Collegeville\n222 E Main St\, Collegeville\, PA 19426 \n🕖 7:00 PM – 10:00 PM\n💵 $10 cover\nIncludes dancing\, water\, and delicious tomato pie
URL:https://djdanlinedance.com/event/20260214/
LOCATION:Fred Astaire Dance Studios – Collegeville\, 222 E. Main Street\, Collegeville\, PA\, 19426\, United States
CATEGORIES:Line Dancing
ATTACH;FMTTYPE=image/jpeg:https://djdanlinedance.com/wp-content/uploads/2026/01/2803_image_612689701_10231657614159251_6311480531956536750_n.jpg
END:VEVENT
BEGIN:VEVENT
DTSTART;TZID=America/New_York:20260216T180000
DTEND;TZID=America/New_York:20260216T210000
DTSTAMP:20260423T190909
CREATED:20260107T183042Z
LAST-MODIFIED:20260204T162751Z
UID:2805-1771264800-1771275600@djdanlinedance.com
SUMMARY:Line Dancing @ Capri Pizza
DESCRIPTION:Join DJ Dan Line Dance every Monday for an energetic evening filled with your favorite line dances\, delicious food\, and a welcoming community. \n📍 Capri Pizza Restaurant & Bar\n5855 Easton Rd\, Plumsteadville\, PA 18949 \n🕕 6:00 PM – 9:00 PM\n💵 $10 cover \nIncludes a $5 food voucher valid on food orders of $15 or more\nEnjoy a full night of dancing while treating yourself to Capri’s tasty menu. \nPlease note: no powder or dance wax is permitted on the floor to keep the dance space safe for everyone. \nThis night out is the perfect way to kick off your week. Come join the fun! 🎶🕺💃
URL:https://djdanlinedance.com/event/20260216/
LOCATION:Capri Pizza Restaurant & Bar\, 5855 Easton Road\, Plumsteadville\, PA\, 18949\, United States
CATEGORIES:Line Dancing
ATTACH;FMTTYPE=image/jpeg:https://djdanlinedance.com/wp-content/uploads/2026/01/2805_image_612822476_10231657606199052_8684150661181965944_n.jpg
END:VEVENT
BEGIN:VEVENT
DTSTART;TZID=America/New_York:20260217T183000
DTEND;TZID=America/New_York:20260217T223000
DTSTAMP:20260423T190909
CREATED:20260107T195405Z
LAST-MODIFIED:20260107T195517Z
UID:2841-1771353000-1771367400@djdanlinedance.com
SUMMARY:Line Dancing at SunnyBrook Ballroom
DESCRIPTION:SoulJoel Presents:\n\nLine Dancing inside the historic SunnyBrook BallroomInside the Sunnybrook Ballroom w/ DJ Dan\n\nBeginner lessons 6:30-7 pmOpen Dance 7-1030pmFull Bar available. No outside food or beverages\nFood available from Gatsby’s Pub 4 to 830pm\n\nGet tickets here:https://souljoels.com/shop/tickets/linedancingfebruary17th/\n\nAbout DJ Dan:\nDJ for over 20 yearsLine Dancing DJ and instructor for over 4 years.Appearances in bars\, clubs\, and venues in PA and NJ like Rock N Rebel\, Prospectors Dance Venue\, and the Camden Waterfront Arena for the XTU Anniversary Show!!
URL:https://djdanlinedance.com/event/20260217/
LOCATION:SoulJoel’s at Sunnybrook*\, 50 Sunnybrook Road\, Pottstown\, PA\, 19464
CATEGORIES:Line Dancing
ATTACH;FMTTYPE=image/png:https://djdanlinedance.com/wp-content/uploads/2026/01/Green-Cover.png
END:VEVENT
BEGIN:VEVENT
DTSTART;TZID=America/New_York:20260220T180000
DTEND;TZID=America/New_York:20260220T230000
DTSTAMP:20260423T190909
CREATED:20260130T173206Z
LAST-MODIFIED:20260130T173206Z
UID:2914-1771610400-1771628400@djdanlinedance.com
SUMMARY:Friday Night Line Dancing with WXTU 92.5
DESCRIPTION:SoulJoel Presents:\n\nFriday Night Line Dancing with WXTU 92.5 at SunnyBrook WXTU will be on hand giving away prizes with XTU on air personality Jeff Kurkjain\n\nFriday February 20th\, 2026ONLY $10 in advance and $15 at the doorGet tickets here:https://souljoels.com/shop/tickets/fridaylinedancingxtu/ ‎\n\nBeginner lessons 6 to 7pmOpen Dance 7 to 11pmFull Bar available. Food available to order from Gatsby’s Pub until 9pmNo outside food or beverage\n\nFREE PARKING!\n\nThe only purchase condition we have is that all tickets are non-refundable. All sales are final.\n\nAbout DJ Dan:\nDJ for over 20 yearsLine Dancing DJ and instructor for over 4 years.\nAppearances in bars\, clubs and venues in PA and NJ like Rock N Rebel\, Prospectors Dance Venue and the Camden Waterfront Arena for the XTU Anniversary Show!
URL:https://djdanlinedance.com/event/20260220/
LOCATION:SoulJoel’s at Sunnybrook*\, 50 Sunnybrook Road\, Pottstown\, PA\, 19464
CATEGORIES:Line Dancing
ATTACH;FMTTYPE=image/jpeg:https://djdanlinedance.com/wp-content/uploads/2026/01/20260220-Cover.jpg
END:VEVENT
BEGIN:VEVENT
DTSTART;TZID=America/New_York:20260223T180000
DTEND;TZID=America/New_York:20260223T210000
DTSTAMP:20260423T190909
CREATED:20260107T183051Z
LAST-MODIFIED:20260204T162815Z
UID:2809-1771869600-1771880400@djdanlinedance.com
SUMMARY:Line Dancing @ Capri Pizza
DESCRIPTION:Join DJ Dan Line Dance every Monday for an energetic evening filled with your favorite line dances\, delicious food\, and a welcoming community. \n📍 Capri Pizza Restaurant & Bar\n5855 Easton Rd\, Plumsteadville\, PA 18949 \n🕕 6:00 PM – 9:00 PM\n💵 $10 cover \nIncludes a $5 food voucher valid on food orders of $15 or more\nEnjoy a full night of dancing while treating yourself to Capri’s tasty menu. \nPlease note: no powder or dance wax is permitted on the floor to keep the dance space safe for everyone. \nThis night out is the perfect way to kick off your week. Come join the fun! 🎶🕺💃
URL:https://djdanlinedance.com/event/20260223/
LOCATION:Capri Pizza Restaurant & Bar\, 5855 Easton Road\, Plumsteadville\, PA\, 18949\, United States
CATEGORIES:Line Dancing
ATTACH;FMTTYPE=image/jpeg:https://djdanlinedance.com/wp-content/uploads/2026/01/2809_image_612355249_10231657626839568_7382696922494500028_n.jpg
END:VEVENT
BEGIN:VEVENT
DTSTART;TZID=America/New_York:20260227T190000
DTEND;TZID=America/New_York:20260227T220000
DTSTAMP:20260423T190909
CREATED:20260107T183100Z
LAST-MODIFIED:20260130T172012Z
UID:2813-1772218800-1772229600@djdanlinedance.com
SUMMARY:Line Dancing @ Keelersville Club
DESCRIPTION:Join DJ Dan Line Dance on the for an evening of great music\, dancing\, and fun for all ages. \n📍 Keelersville Club\n2522 Ridge Rd\, Perkasie\, PA 18944 \n📅 4th Friday of Every Month\n🕖 7:00 PM – 10:00 PM\n💵 $10 cover\n👥 All Ages\n❌ No outside food or beverages \nThis monthly event is perfect for letting loose\, learning new steps\, and enjoying a lively night out. Come dance\, laugh\, and make memories! 🕺💃🎶
URL:https://djdanlinedance.com/event/20260227/
LOCATION:Keelersville Club\, 2522 Ridge Rd\, Perkasie\, PA\, 18944\, United States
CATEGORIES:Line Dancing
ATTACH;FMTTYPE=image/jpeg:https://djdanlinedance.com/wp-content/uploads/2026/01/2813_image_612370107_10231657652480209_3115360907547240588_n.jpg
END:VEVENT
BEGIN:VEVENT
DTSTART;TZID=America/New_York:20260228T200000
DTEND;TZID=America/New_York:20260228T230000
DTSTAMP:20260423T190909
CREATED:20260107T183104Z
LAST-MODIFIED:20260224T220316Z
UID:2815-1772308800-1772319600@djdanlinedance.com
SUMMARY:Line Dancing @ Trolley Barn Public Market - FEBRUARY
DESCRIPTION:Line Dancing at Trolley Barn! \nMark your calendars for the 4th Saturday of every month — 8 – 11PM\n8 – 9PM Lessons\n9 – 11PM Open Dance \nThis is the perfect way to spend your Saturday night – bring your friends\, enjoy great food and drink from our vendors before heading downstairs to hit the dance floor! \n$10 – adults\n$5 – 16 years and under
URL:https://djdanlinedance.com/event/20260228/
LOCATION:Trolley Barn Public Market – Quakertown\, 108 E Broad Street\, PA 313\, Quakertown\, PA\, 18951\, United States
CATEGORIES:Line Dancing
ATTACH;FMTTYPE=image/jpeg:https://djdanlinedance.com/wp-content/uploads/2026/01/20260228-Cover-1.jpg
END:VEVENT
END:VCALENDAR