BEGIN:VCALENDAR
VERSION:2.0
PRODID:-//DJ Dan Line Dance - ECPv6.15.20//NONSGML v1.0//EN
CALSCALE:GREGORIAN
METHOD:PUBLISH
X-WR-CALNAME:DJ Dan Line Dance
X-ORIGINAL-URL:https://djdanlinedance.com
X-WR-CALDESC:Events for DJ Dan Line Dance
REFRESH-INTERVAL;VALUE=DURATION:PT1H
X-Robots-Tag:noindex
X-PUBLISHED-TTL:PT1H
BEGIN:VTIMEZONE
TZID:America/New_York
BEGIN:DAYLIGHT
TZOFFSETFROM:-0500
TZOFFSETTO:-0400
TZNAME:EDT
DTSTART:20240310T070000
END:DAYLIGHT
BEGIN:STANDARD
TZOFFSETFROM:-0400
TZOFFSETTO:-0500
TZNAME:EST
DTSTART:20241103T060000
END:STANDARD
BEGIN:DAYLIGHT
TZOFFSETFROM:-0500
TZOFFSETTO:-0400
TZNAME:EDT
DTSTART:20250309T070000
END:DAYLIGHT
BEGIN:STANDARD
TZOFFSETFROM:-0400
TZOFFSETTO:-0500
TZNAME:EST
DTSTART:20251102T060000
END:STANDARD
BEGIN:DAYLIGHT
TZOFFSETFROM:-0500
TZOFFSETTO:-0400
TZNAME:EDT
DTSTART:20260308T070000
END:DAYLIGHT
BEGIN:STANDARD
TZOFFSETFROM:-0400
TZOFFSETTO:-0500
TZNAME:EST
DTSTART:20261101T060000
END:STANDARD
END:VTIMEZONE
BEGIN:VEVENT
DTSTART;TZID=America/New_York:20250418T190000
DTEND;TZID=America/New_York:20250418T220000
DTSTAMP:20260424T101055
CREATED:20250321T143032Z
LAST-MODIFIED:20250321T144008Z
UID:2047-1745002800-1745013600@djdanlinedance.com
SUMMARY:Nostalgia 1720 Line Dancing
DESCRIPTION:🕺💃 Join us for Line Dancing at Nostalgia 1720 on Friday\, April 18th! \n⏰ Time: 7:00 PM – 10:00 PM\n📍 Venue: Nostalgia 1720\, 136 E Butler Ave\, Chalfont\, PA 18914 \n✨ Cover: $10 per person\n🍽️ Food and drinks available for purchase on-site!\n🚫 No outside food or drink allowed. \nGrab your friends and come make memories on the dance floor! \n👉 Mark your calendar! See you there! 🎉
URL:https://djdanlinedance.com/event/nostalgia-1720-line-dancing-20250418/
LOCATION:Nostalgia 1720\, 136 E Butler Ave\, Chalfont\, PA\, 18914\, United States
CATEGORIES:Line Dancing
ATTACH;FMTTYPE=image/jpeg:https://djdanlinedance.com/wp-content/uploads/2025/03/2047_image_484904210_1029894199195603_4591453127427639147_n.jpg
END:VEVENT
END:VCALENDAR