BEGIN:VCALENDAR
VERSION:2.0
PRODID:-//DJ Dan Line Dance - ECPv6.15.20//NONSGML v1.0//EN
CALSCALE:GREGORIAN
METHOD:PUBLISH
X-ORIGINAL-URL:https://djdanlinedance.com
X-WR-CALDESC:Events for DJ Dan Line Dance
REFRESH-INTERVAL;VALUE=DURATION:PT1H
X-Robots-Tag:noindex
X-PUBLISHED-TTL:PT1H
BEGIN:VTIMEZONE
TZID:America/New_York
BEGIN:DAYLIGHT
TZOFFSETFROM:-0500
TZOFFSETTO:-0400
TZNAME:EDT
DTSTART:20240310T070000
END:DAYLIGHT
BEGIN:STANDARD
TZOFFSETFROM:-0400
TZOFFSETTO:-0500
TZNAME:EST
DTSTART:20241103T060000
END:STANDARD
BEGIN:DAYLIGHT
TZOFFSETFROM:-0500
TZOFFSETTO:-0400
TZNAME:EDT
DTSTART:20250309T070000
END:DAYLIGHT
BEGIN:STANDARD
TZOFFSETFROM:-0400
TZOFFSETTO:-0500
TZNAME:EST
DTSTART:20251102T060000
END:STANDARD
BEGIN:DAYLIGHT
TZOFFSETFROM:-0500
TZOFFSETTO:-0400
TZNAME:EDT
DTSTART:20260308T070000
END:DAYLIGHT
BEGIN:STANDARD
TZOFFSETFROM:-0400
TZOFFSETTO:-0500
TZNAME:EST
DTSTART:20261101T060000
END:STANDARD
END:VTIMEZONE
BEGIN:VEVENT
DTSTART;TZID=America/New_York:20250623T180000
DTEND;TZID=America/New_York:20250623T210000
DTSTAMP:20260424T065257
CREATED:20250602T193629Z
LAST-MODIFIED:20250602T195329Z
UID:2198-1750701600-1750712400@djdanlinedance.com
SUMMARY:Capri Pizza Line Dancing
DESCRIPTION:👢 Line Dancing at Capri Pizza 👢 \nKick off your week with some line dancing fun! \n📍 Location: Capri Pizza Restaurant & Bar\, 5855 Easton Rd\, Plumsteadville\, PA 18949\n🕖 Time: 6:00 PM – 9:00 PM\n📅 When: EVERY Monday! \n$10 Cover (Cash)\nCover includes a $5 food voucher that can be used on food orders of $15 or more. \nNOTE: Please refrain from using any powder or dance wax on the floor. \nBring your friends & enjoy the amazing food and atmosphere. Don’t miss it! 🎶💃
URL:https://djdanlinedance.com/event/20250623/
LOCATION:Capri Pizza Restaurant & Bar\, 5855 Easton Road\, Plumsteadville\, PA\, 18949\, United States
ATTACH;FMTTYPE=image/jpeg:https://djdanlinedance.com/wp-content/uploads/2025/06/2198_image_500706867_1078936220958067_232521511974683939_n.jpg
END:VEVENT
END:VCALENDAR