BEGIN:VCALENDAR
VERSION:2.0
PRODID:-//DJ Dan Line Dance - ECPv6.15.20//NONSGML v1.0//EN
CALSCALE:GREGORIAN
METHOD:PUBLISH
X-ORIGINAL-URL:https://djdanlinedance.com
X-WR-CALDESC:Events for DJ Dan Line Dance
REFRESH-INTERVAL;VALUE=DURATION:PT1H
X-Robots-Tag:noindex
X-PUBLISHED-TTL:PT1H
BEGIN:VTIMEZONE
TZID:America/New_York
BEGIN:DAYLIGHT
TZOFFSETFROM:-0500
TZOFFSETTO:-0400
TZNAME:EDT
DTSTART:20250309T070000
END:DAYLIGHT
BEGIN:STANDARD
TZOFFSETFROM:-0400
TZOFFSETTO:-0500
TZNAME:EST
DTSTART:20251102T060000
END:STANDARD
BEGIN:DAYLIGHT
TZOFFSETFROM:-0500
TZOFFSETTO:-0400
TZNAME:EDT
DTSTART:20260308T070000
END:DAYLIGHT
BEGIN:STANDARD
TZOFFSETFROM:-0400
TZOFFSETTO:-0500
TZNAME:EST
DTSTART:20261101T060000
END:STANDARD
BEGIN:DAYLIGHT
TZOFFSETFROM:-0500
TZOFFSETTO:-0400
TZNAME:EDT
DTSTART:20270314T070000
END:DAYLIGHT
BEGIN:STANDARD
TZOFFSETFROM:-0400
TZOFFSETTO:-0500
TZNAME:EST
DTSTART:20271107T060000
END:STANDARD
END:VTIMEZONE
BEGIN:VEVENT
DTSTART;TZID=America/New_York:20260322T140000
DTEND;TZID=America/New_York:20260322T170000
DTSTAMP:20260423T175930
CREATED:20260225T212638Z
LAST-MODIFIED:20260225T214540Z
UID:3017-1774188000-1774198800@djdanlinedance.com
SUMMARY:Line Dancing @ Boo's Brewing Co.
DESCRIPTION:🎉 NEW VENUE ALERT! 🎉 \nJoin DJ Dan Line Dance for an exciting afternoon of Line Dancing at Boo’s Brewing Co. — and get ready to dance on a real wood floor! \n📍 Boo’s Brewing Co.\n4961 River Rd\, Point Pleasant\, PA 18938 \n🕑 2:00 PM – 5:00 PM\n💵 $10 cover\n⭐ $5 for ages 18 & under\n👨‍👩‍👧‍👦 All ages welcome \nEnjoy a fun-filled afternoon of music\, dancing\, and great company in a welcoming new space. Delicious food and drinks are available for purchase — please\, no outside items. \nBring your friends\, bring your energy\, and come enjoy that beautiful wood floor with us! 🕺💃🎶
URL:https://djdanlinedance.com/event/20260322/
LOCATION:Boo’s Brewing Co.\, 4961 River Rd\, Point Pleasant\, PA\, 18950
CATEGORIES:Line Dancing
ATTACH;FMTTYPE=image/jpeg:https://djdanlinedance.com/wp-content/uploads/2026/02/3017_image_642323710_10232210058410012_2141393918064097143_n.jpg
END:VEVENT
END:VCALENDAR