BEGIN:VCALENDAR
VERSION:2.0
PRODID:-//DJ Dan Line Dance - ECPv6.15.20//NONSGML v1.0//EN
CALSCALE:GREGORIAN
METHOD:PUBLISH
X-WR-CALNAME:DJ Dan Line Dance
X-ORIGINAL-URL:https://djdanlinedance.com
X-WR-CALDESC:Events for DJ Dan Line Dance
REFRESH-INTERVAL;VALUE=DURATION:PT1H
X-Robots-Tag:noindex
X-PUBLISHED-TTL:PT1H
BEGIN:VTIMEZONE
TZID:America/New_York
BEGIN:DAYLIGHT
TZOFFSETFROM:-0500
TZOFFSETTO:-0400
TZNAME:EDT
DTSTART:20240310T070000
END:DAYLIGHT
BEGIN:STANDARD
TZOFFSETFROM:-0400
TZOFFSETTO:-0500
TZNAME:EST
DTSTART:20241103T060000
END:STANDARD
BEGIN:DAYLIGHT
TZOFFSETFROM:-0500
TZOFFSETTO:-0400
TZNAME:EDT
DTSTART:20250309T070000
END:DAYLIGHT
BEGIN:STANDARD
TZOFFSETFROM:-0400
TZOFFSETTO:-0500
TZNAME:EST
DTSTART:20251102T060000
END:STANDARD
BEGIN:DAYLIGHT
TZOFFSETFROM:-0500
TZOFFSETTO:-0400
TZNAME:EDT
DTSTART:20260308T070000
END:DAYLIGHT
BEGIN:STANDARD
TZOFFSETFROM:-0400
TZOFFSETTO:-0500
TZNAME:EST
DTSTART:20261101T060000
END:STANDARD
END:VTIMEZONE
BEGIN:VEVENT
DTSTART;TZID=America/New_York:20251003T190000
DTEND;TZID=America/New_York:20251003T220000
DTSTAMP:20260424T075409
CREATED:20250906T144710Z
LAST-MODIFIED:20250926T195303Z
UID:2465-1759518000-1759528800@djdanlinedance.com
SUMMARY:Nostalgia 1720 Line Dancing
DESCRIPTION:🕺💃 Join us for Line Dancing at Nostalgia 1720 every 1st Friday of the month! \n⏰ Time: 7:00 PM – 10:00 PM\n📍 Venue: Nostalgia 1720\, 136 E Butler Ave\, Chalfont\, PA 18914 \n✨ Cover: $10 per person\n BYO Food Drinks Available for purchase (No outside drinks allowed) \nGrab your friends and come make memories on the dance floor! \n👉 Mark your calendar! See you there! 🎉
URL:https://djdanlinedance.com/event/20251003/
LOCATION:Nostalgia 1720\, 136 E Butler Ave\, Chalfont\, PA\, 18914\, United States
CATEGORIES:Line Dancing
ATTACH;FMTTYPE=image/png:https://djdanlinedance.com/wp-content/uploads/2025/09/Friday-R1-Cover.png
END:VEVENT
BEGIN:VEVENT
DTSTART;TZID=America/New_York:20251004T190000
DTEND;TZID=America/New_York:20251004T220000
DTSTAMP:20260424T075409
CREATED:20250912T203331Z
LAST-MODIFIED:20250912T203331Z
UID:2532-1759604400-1759615200@djdanlinedance.com
SUMMARY:Line Dancing With DJ Dan
DESCRIPTION: Line Dancing at Hausman’s Fruit Farm \nBring the whole family and join us for Line Dancing on the 1st Saturday of every month!\n Location: Hausman’s Fruit Farm\, 2822 Limeport Pike\, Coopersburg\, PA 18036 Time: 7:00 PM – 10:00 PM When: 1st Saturday of every month Cover: $5 per person\nLight snacks and refreshments will be available for purchase throughout the evening.\nSee you on the dance floor! 
URL:https://djdanlinedance.com/event/20251004/
LOCATION:Hausman’s Fruit Farm\, 2822 Limeport Pike\, Coopersburg\, PA\, 18036\, United States
CATEGORIES:Line Dancing
ATTACH;FMTTYPE=image/png:https://djdanlinedance.com/wp-content/uploads/2025/09/Hausman-Cover.png
END:VEVENT
BEGIN:VEVENT
DTSTART;TZID=America/New_York:20251006T180000
DTEND;TZID=America/New_York:20251006T210000
DTSTAMP:20260424T075409
CREATED:20250906T144717Z
LAST-MODIFIED:20250912T202739Z
UID:2467-1759773600-1759784400@djdanlinedance.com
SUMMARY:Capri Pizza Line Dancing
DESCRIPTION:👢 Line Dancing at Capri Pizza 👢 \nKick off your week with some line dancing fun! \n📍 Location: Capri Pizza Restaurant & Bar\, 5855 Easton Rd\, Plumsteadville\, PA 18949\n🕖 Time: 6:00 PM – 9:00 PM\n📅 When: EVERY Monday! \n$10 Cover (Cash)\nCover includes a $5 food voucher that can be used on food orders of $15 or more. \nNOTE: Please refrain from using any powder or dance wax on the floor. \nBring your friends & enjoy the amazing food and atmosphere. Don’t miss it! 🎶💃
URL:https://djdanlinedance.com/event/20251006/
LOCATION:Capri Pizza Restaurant & Bar\, 5855 Easton Road\, Plumsteadville\, PA\, 18949\, United States
CATEGORIES:Line Dancing
ATTACH;FMTTYPE=image/jpeg:https://djdanlinedance.com/wp-content/uploads/2025/09/2467_image_541351304_1156696483182040_4315216506524347878_n.jpg
END:VEVENT
BEGIN:VEVENT
DTSTART;TZID=America/New_York:20251007T183000
DTEND;TZID=America/New_York:20251007T223000
DTSTAMP:20260424T075409
CREATED:20250912T203729Z
LAST-MODIFIED:20250912T203729Z
UID:2535-1759861800-1759876200@djdanlinedance.com
SUMMARY:Line Dancing inside SunnyBrook Ballroom
DESCRIPTION:SoulJoel Presents:\n\nLine Dancing inside the historic SunnyBrook BallroomInside the Sunnybrook Ballroom w/ DJ Dan\nBeginner lessons 6:30-7 pmOpen Dance 7-1030pmFull Bar available. Food available from Gatsby’s Pub 4pm until 830pm\nNo outside food or beveragesFREE PARKING\nGet tickets here:https://souljoels.com/shop/tickets/linedancingoctober7th/The only purchase condition we have is that all tickets are non-refundable. All sales are final.\nAbout DJ Dan:\nDJ for over 20 yearsLine Dancing DJ and instructor for over 4 years.Appearances in bars\, clubs\, and venues in PA and NJ like Rock N Rebel\, Prospectors Dance Venue\, and the Camden Waterfront Arena for the XTU Anniversary Show!!
URL:https://djdanlinedance.com/event/20251007/
LOCATION:SoulJoel’s at Sunnybrook*\, 50 Sunnybrook Road\, Pottstown\, PA\, 19464
CATEGORIES:Line Dancing
ATTACH;FMTTYPE=image/png:https://djdanlinedance.com/wp-content/uploads/2025/09/Grey-Cover.png
END:VEVENT
BEGIN:VEVENT
DTSTART;TZID=America/New_York:20251010T190000
DTEND;TZID=America/New_York:20251010T220000
DTSTAMP:20260424T075409
CREATED:20250906T144725Z
LAST-MODIFIED:20250912T202902Z
UID:2471-1760122800-1760133600@djdanlinedance.com
SUMMARY:Red Hill Line Dancing
DESCRIPTION:👢 Line Dancing at Red Hill Fire Company Social Club 👢 \nGet your boots ready and join us for Line Dancing every 2nd Friday of the month! DJ Dan will keep you moving with a mix of classic and modern line dance hits. \n📍 Location: Red Hill Fire Company Social Club\, 82 E 5th St\, Red Hill\, PA 18076\n🕖 Time: 7:00 PM – 10:00 PM\n📅 When: 2nd Friday of every month \n$10 Cover\nAges 12 and under are free \nNo outside food or drink may be brought on premises.\nFood and Drink is available for purchase at the venue. \nDon’t miss out and bring your friends—it’s the perfect way to kick off your weekend! 🎶💃
URL:https://djdanlinedance.com/event/20251010/
LOCATION:Red Hill Fire Company Social Club\, 126 E 5th St\, Red Hill\, PA\, 18076\, United States
CATEGORIES:Line Dancing
ATTACH;FMTTYPE=image/jpeg:https://djdanlinedance.com/wp-content/uploads/2025/09/2471_image_541026219_1156699713181717_7143840329666569180_n.jpg
END:VEVENT
BEGIN:VEVENT
DTSTART;TZID=America/New_York:20251011T190000
DTEND;TZID=America/New_York:20251011T220000
DTSTAMP:20260424T075409
CREATED:20250906T144729Z
LAST-MODIFIED:20250912T202939Z
UID:2473-1760209200-1760220000@djdanlinedance.com
SUMMARY:Fred Astaire Dance Studio Line Dancing
DESCRIPTION:👢 Line Dancing at Fred Astaire Dance Studios – Collegeville 👢 \nJoin us every 2nd Saturday of the month for a night of Line Dancing fun! We’ll have you stepping\, stomping\, and sliding to all your favorite tunes. \n📍 Location: Fred Astaire Dance Studios – Collegeville\, 222 E Main St\, Collegeville\, PA 19426\n🕖 Time: 7:00 PM – 10:00 PM\n📅 When: 2nd Saturday of every month \n$10 Cover – includes tomato pie & water\nYou may also bring your own food and drink if you choose. \nGrab your friends and let’s hit the dance floor together! 🎶💃
URL:https://djdanlinedance.com/event/20251011/
LOCATION:Fred Astaire Dance Studios – Collegeville\, 222 E. Main Street\, Collegeville\, PA\, 19426\, United States
CATEGORIES:Line Dancing
ATTACH;FMTTYPE=image/jpeg:https://djdanlinedance.com/wp-content/uploads/2025/09/2473_image_542756166_1156700916514930_662666443060192348_n.jpg
END:VEVENT
BEGIN:VEVENT
DTSTART;TZID=America/New_York:20251013T180000
DTEND;TZID=America/New_York:20251013T210000
DTSTAMP:20260424T075409
CREATED:20250906T144732Z
LAST-MODIFIED:20250922T175953Z
UID:2475-1760378400-1760389200@djdanlinedance.com
SUMMARY:Capri Pizza Line Dancing
DESCRIPTION:👢 Line Dancing at Capri Pizza 👢 \nKick off your week with some line dancing fun! \n📍 Location: Capri Pizza Restaurant & Bar\, 5855 Easton Rd\, Plumsteadville\, PA 18949\n🕖 Time: 6:00 PM – 9:00 PM\n📅 When: EVERY Monday! \n$10 Cover (Cash)\nCover includes a $5 food voucher that can be used on food orders of $15 or more. \nNOTE: Please refrain from using any powder or dance wax on the floor. \nBring your friends & enjoy the amazing food and atmosphere. Don’t miss it! 🎶💃
URL:https://djdanlinedance.com/event/20251013/
LOCATION:Capri Pizza Restaurant & Bar\, 5855 Easton Road\, Plumsteadville\, PA\, 18949\, United States
CATEGORIES:Line Dancing
ATTACH;FMTTYPE=image/jpeg:https://djdanlinedance.com/wp-content/uploads/2025/09/2475_image_541154086_1156696726515349_5193263898340931192_n.jpg
END:VEVENT
BEGIN:VEVENT
DTSTART;TZID=America/New_York:20251014T183000
DTEND;TZID=America/New_York:20251014T223000
DTSTAMP:20260424T075409
CREATED:20250922T175848Z
LAST-MODIFIED:20250922T175848Z
UID:2540-1760466600-1760481000@djdanlinedance.com
SUMMARY:Line Dancing at SunnyBrook Ballroom
DESCRIPTION:SoulJoel Presents:\n\nLine Dancing at SoulJoel’s at SunnyBrookInside the Sunnybrook Ballroom w/ DJ Dan\nBeginner lessons 6:30-7 pmOpen Dance 7-1030pmFull Bar available. No outside food or beverages\nFood available from Gatsby’s Pub 4 to 830pm\nGet tickets here:https://souljoels.com/shop/tickets/linedancingoctober14th/The only purchase condition we have is that all tickets are non-refundable. All sales are final.\n\nAbout DJ Dan:\nDJ for over 20 yearsLine Dancing DJ and instructor for over 4 years.Appearances in bars\, clubs\, and venues in PA and NJ like Rock N Rebel\, Prospectors Dance Venue\, and the Camden Waterfront Arena for the XTU Anniversary Show!!
URL:https://djdanlinedance.com/event/20251014/
LOCATION:SoulJoel’s at Sunnybrook*\, 50 Sunnybrook Road\, Pottstown\, PA\, 19464
CATEGORIES:Line Dancing
ATTACH;FMTTYPE=image/png:https://djdanlinedance.com/wp-content/uploads/2025/09/Purple-Cover.png
END:VEVENT
BEGIN:VEVENT
DTSTART;TZID=America/New_York:20251017T180000
DTEND;TZID=America/New_York:20251017T230000
DTSTAMP:20260424T075409
CREATED:20250922T180357Z
LAST-MODIFIED:20250922T180357Z
UID:2544-1760724000-1760742000@djdanlinedance.com
SUMMARY:Special Friday Line Dancing inside The Social House
DESCRIPTION:SoulJoel Presents:\nLine Dancing inside the Social House at SunnyBrookw/ DJ Dan\nONLY $10 in advance and $15 at the door\n\nBeginner lessons 6 to 7pmOpen Dance 7 to 11pmFull Bar available. Food available to order from Gatsby’s Pub until 9pmNo outside food or beverage\nFREE PARKING!\nGet tickets here:https://souljoels.com/shop/tickets/fridaylinedancingoctober/The only purchase condition we have is that all tickets are non-refundable. All sales are final.\n\n\nAbout DJ Dan:\nDJ for over 20 yearsLine Dancing DJ and instructor for over 4 years.\nAppearances in bars\, clubs and venues in PA and NJ like Rock N Rebel\, Prospectors Dance Venue and the Camden Waterfront Arena for the XTU Anniversary Show!
URL:https://djdanlinedance.com/event/20251017/
LOCATION:SoulJoel’s at Sunnybrook*\, 50 Sunnybrook Road\, Pottstown\, PA\, 19464
CATEGORIES:Line Dancing
ATTACH;FMTTYPE=image/jpeg:https://djdanlinedance.com/wp-content/uploads/2025/09/3rd-Friday-Cover.jpg
END:VEVENT
BEGIN:VEVENT
DTSTART;TZID=America/New_York:20251018T190000
DTEND;TZID=America/New_York:20251018T220000
DTSTAMP:20260424T075409
CREATED:20250906T144741Z
LAST-MODIFIED:20250926T195804Z
UID:2479-1760814000-1760824800@djdanlinedance.com
SUMMARY:Nostalgia 1720 Line Dancing
DESCRIPTION:🕺💃 Join us for Line Dancing at Nostalgia 1720 every 3rd Saturday of the month! \n⏰ Time: 7:00 PM – 10:00 PM\n📍 Venue: Nostalgia 1720\, 136 E Butler Ave\, Chalfont\, PA 18914 \n✨ Cover: $10 per person\n BYO Food Drinks Available for purchase (No outside drinks allowed) \nGrab your friends and come make memories on the dance floor! \n👉 Mark your calendar! See you there! 🎉
URL:https://djdanlinedance.com/event/20251018/
LOCATION:Nostalgia 1720\, 136 E Butler Ave\, Chalfont\, PA\, 18914\, United States
CATEGORIES:Line Dancing
ATTACH;FMTTYPE=image/png:https://djdanlinedance.com/wp-content/uploads/2025/09/Saturday-R1-Cover.png
END:VEVENT
BEGIN:VEVENT
DTSTART;TZID=America/New_York:20251020T180000
DTEND;TZID=America/New_York:20251020T210000
DTSTAMP:20260424T075409
CREATED:20250906T144744Z
LAST-MODIFIED:20250922T180759Z
UID:2481-1760983200-1760994000@djdanlinedance.com
SUMMARY:Capri Pizza Line Dancing
DESCRIPTION:👢 Line Dancing at Capri Pizza 👢 \nKick off your week with some line dancing fun! \n📍 Location: Capri Pizza Restaurant & Bar\, 5855 Easton Rd\, Plumsteadville\, PA 18949\n🕖 Time: 6:00 PM – 9:00 PM\n📅 When: EVERY Monday! \n$10 Cover (Cash)\nCover includes a $5 food voucher that can be used on food orders of $15 or more. \nNOTE: Please refrain from using any powder or dance wax on the floor. \nBring your friends & enjoy the amazing food and atmosphere. Don’t miss it! 🎶💃
URL:https://djdanlinedance.com/event/20251020/
LOCATION:Capri Pizza Restaurant & Bar\, 5855 Easton Road\, Plumsteadville\, PA\, 18949\, United States
CATEGORIES:Line Dancing
ATTACH;FMTTYPE=image/jpeg:https://djdanlinedance.com/wp-content/uploads/2025/09/2481_image_540961579_1156697336515288_5829876306651379449_n.jpg
END:VEVENT
BEGIN:VEVENT
DTSTART;TZID=America/New_York:20251021T183000
DTEND;TZID=America/New_York:20251021T223000
DTSTAMP:20260424T075409
CREATED:20250922T181009Z
LAST-MODIFIED:20250922T181145Z
UID:2548-1761071400-1761085800@djdanlinedance.com
SUMMARY:Line Dancing at SunnyBrook Ballroom
DESCRIPTION:SoulJoel Presents:\nLine Dancing inside the historic SunnyBrook BallroomInside The Ballroom w/ DJ Dan\nLargest Ballroom East of the Mississippi (14\,000 square feet)\nBeginner lessons 6:30 to 7pmOpen Dance 7 to 1030Full Bar available. Food available to order from Gatsby’s Pub until 830pmNo outside food or beverageBottles of water are $1\nFREE PARKING!\nGet tickets here:https://souljoels.com/shop/tickets/linedancingoctober21st/The only purchase condition we have is that all tickets are non-refundable. All sales are final.\n\nAbout DJ Dan:\nDJ for over 20 yearsLine Dancing DJ and instructor for over 4 years.\nAppearances in bars\, clubs and venues in PA and NJ like Rock N Rebel\, Prospectors Dance Venue and the Camden Waterfront Arena for the XTU Anniversary Show!
URL:https://djdanlinedance.com/event/20251021/
LOCATION:SoulJoel’s at Sunnybrook*\, 50 Sunnybrook Road\, Pottstown\, PA\, 19464
CATEGORIES:Line Dancing
ATTACH;FMTTYPE=image/png:https://djdanlinedance.com/wp-content/uploads/2025/08/Orange-Cover.png
END:VEVENT
BEGIN:VEVENT
DTSTART;TZID=America/New_York:20251024T190000
DTEND;TZID=America/New_York:20251024T220000
DTSTAMP:20260424T075409
CREATED:20250906T144754Z
LAST-MODIFIED:20250922T181350Z
UID:2485-1761332400-1761343200@djdanlinedance.com
SUMMARY:Keelersville Club Line Dancing
DESCRIPTION:🎵 Line Dancing at the Keelersville Club! 🎵 \n📍 Location: Keelersville Club\, 2522 Ridge Rd\, Perkasie\, PA 18944\n📅 4th Friday of every month\n⏰ Time: 7:00 PM – 10:00 PM\n💲 Cover Charge: $10 per person \n🕺💃 Bring your dancing shoes and enjoy a fun-filled evening of great music\, good vibes\, and plenty of dancing! \n👉 Spread the word\, and we’ll see you on the dance floor! 🎉
URL:https://djdanlinedance.com/event/20251024/
LOCATION:Keelersville Club\, 2522 Ridge Rd\, Perkasie\, PA\, 18944\, United States
CATEGORIES:Line Dancing
ATTACH;FMTTYPE=image/png:https://djdanlinedance.com/wp-content/uploads/2025/09/Keelersville-R1-Cover.png
END:VEVENT
BEGIN:VEVENT
DTSTART;TZID=America/New_York:20251027T180000
DTEND;TZID=America/New_York:20251027T210000
DTSTAMP:20260424T075409
CREATED:20250906T144758Z
LAST-MODIFIED:20250922T181637Z
UID:2487-1761588000-1761598800@djdanlinedance.com
SUMMARY:Capri Pizza Line Dancing
DESCRIPTION:👢 Line Dancing at Capri Pizza 👢 \nKick off your week with some line dancing fun! \n📍 Location: Capri Pizza Restaurant & Bar\, 5855 Easton Rd\, Plumsteadville\, PA 18949\n🕖 Time: 6:00 PM – 9:00 PM\n📅 When: EVERY Monday! \n$10 Cover (Cash)\nCover includes a $5 food voucher that can be used on food orders of $15 or more. \nNOTE: Please refrain from using any powder or dance wax on the floor. \nBring your friends & enjoy the amazing food and atmosphere. Don’t miss it! 🎶💃
URL:https://djdanlinedance.com/event/20251027/
LOCATION:Capri Pizza Restaurant & Bar\, 5855 Easton Road\, Plumsteadville\, PA\, 18949\, United States
CATEGORIES:Line Dancing
ATTACH;FMTTYPE=image/jpeg:https://djdanlinedance.com/wp-content/uploads/2025/09/2487_image_542103303_1156697669848588_6724847083127410745_n.jpg
END:VEVENT
BEGIN:VEVENT
DTSTART;TZID=America/New_York:20251028T183000
DTEND;TZID=America/New_York:20251028T223000
DTSTAMP:20260424T075409
CREATED:20250922T181825Z
LAST-MODIFIED:20250922T181825Z
UID:2558-1761676200-1761690600@djdanlinedance.com
SUMMARY:Line Dancing at SunnyBrook Ballroom
DESCRIPTION:SoulJoel Presents:\n\nLine Dancing inside the historic SunnyBrook BallroomInside the Sunnybrook Ballroom w/ DJ Dan\nBeginner lessons 6:30-7 pmOpen Dance 7-1030pmFull Bar available. No outside food or beverages\nFood available from Gatsby’s Pub 4 to 830pm\nGet tickets here:https://souljoels.com/shop/tickets/linedancingoctober28th/The only purchase condition we have is that all tickets are non-refundable. All sales are final.\n\nAbout DJ Dan:\nDJ for over 20 yearsLine Dancing DJ and instructor for over 4 years.Appearances in bars\, clubs\, and venues in PA and NJ like Rock N Rebel\, Prospectors Dance Venue\, and the Camden Waterfront Arena for the XTU Anniversary Show!!
URL:https://djdanlinedance.com/event/20251028/
LOCATION:SoulJoel’s at Sunnybrook*\, 50 Sunnybrook Road\, Pottstown\, PA\, 19464
CATEGORIES:Line Dancing
ATTACH;FMTTYPE=image/png:https://djdanlinedance.com/wp-content/uploads/2025/08/Red-Cover.png
END:VEVENT
BEGIN:VEVENT
DTSTART;TZID=America/New_York:20251031T190000
DTEND;TZID=America/New_York:20251031T230000
DTSTAMP:20260424T075409
CREATED:20251016T175507Z
LAST-MODIFIED:20251018T202429Z
UID:2594-1761937200-1761951600@djdanlinedance.com
SUMMARY:Nostalgia 1720 Line Dancing
DESCRIPTION:🎃👻 Halloween Line Dancing Party at Nostalgia 1720! 👻🎃 \nJoin DJ Dan Line Dance for a ‘spooktacular’ Halloween celebration filled with great music\, dancing\, and plenty of festive fun for everyone! 💃🕺 \n📅 Friday\, October 31\, 2025\n⏰ 7:00 PM – 11:00 PM\n📍 Nostalgia 1720\, 136 E Butler Ave\, Chalfont\, PA 18914 \n💵 $10 Cover | All Ages Welcome\n🍹 Drink Specials all night long (🚫 No outside beverages permitted)\n🍔 Food Menu featuring light fare available for purchase \n🧛 Costume Contest & Prizes – Show off your best spooky\, funny\, or creative costumes! \nBring your friends\, wear your best costume\, and dance all night with us! 🎶 \n👉 Mark your calendar! See you there!
URL:https://djdanlinedance.com/event/20251031/
LOCATION:Nostalgia 1720\, 136 E Butler Ave\, Chalfont\, PA\, 18914\, United States
CATEGORIES:Line Dancing
ATTACH;FMTTYPE=image/jpeg:https://djdanlinedance.com/wp-content/uploads/2025/10/2594_image_565168377_1194427202742301_8137048909751425949_n.jpg
END:VEVENT
END:VCALENDAR