BEGIN:VCALENDAR
VERSION:2.0
PRODID:-//DJ Dan Line Dance - ECPv6.15.20//NONSGML v1.0//EN
CALSCALE:GREGORIAN
METHOD:PUBLISH
X-ORIGINAL-URL:https://djdanlinedance.com
X-WR-CALDESC:Events for DJ Dan Line Dance
REFRESH-INTERVAL;VALUE=DURATION:PT1H
X-Robots-Tag:noindex
X-PUBLISHED-TTL:PT1H
BEGIN:VTIMEZONE
TZID:America/New_York
BEGIN:DAYLIGHT
TZOFFSETFROM:-0500
TZOFFSETTO:-0400
TZNAME:EDT
DTSTART:20250309T070000
END:DAYLIGHT
BEGIN:STANDARD
TZOFFSETFROM:-0400
TZOFFSETTO:-0500
TZNAME:EST
DTSTART:20251102T060000
END:STANDARD
BEGIN:DAYLIGHT
TZOFFSETFROM:-0500
TZOFFSETTO:-0400
TZNAME:EDT
DTSTART:20260308T070000
END:DAYLIGHT
BEGIN:STANDARD
TZOFFSETFROM:-0400
TZOFFSETTO:-0500
TZNAME:EST
DTSTART:20261101T060000
END:STANDARD
BEGIN:DAYLIGHT
TZOFFSETFROM:-0500
TZOFFSETTO:-0400
TZNAME:EDT
DTSTART:20270314T070000
END:DAYLIGHT
BEGIN:STANDARD
TZOFFSETFROM:-0400
TZOFFSETTO:-0500
TZNAME:EST
DTSTART:20271107T060000
END:STANDARD
END:VTIMEZONE
BEGIN:VEVENT
DTSTART;TZID=America/New_York:20260512T183000
DTEND;TZID=America/New_York:20260512T213000
DTSTAMP:20260423T174545
CREATED:20260410T200754Z
LAST-MODIFIED:20260410T201236Z
UID:3129-1778610600-1778621400@djdanlinedance.com
SUMMARY:Line Dancing @ Cedars Banquet Hall
DESCRIPTION:🎉 Line Dancing at Cedars Banquet Hall! 🎉 \nJoin us each week for a full evening of fun\, music\, and nonstop dancing in a spacious venue perfect for hitting the floor.  \n📍 Cedars Banquet Hall\n810 W Germantown Pike\, Norristown\, PA 19403 \n📅 Every Tuesday Night\n🕡 6:30 PM – 9:30 PM\n💵 $10 cover\n👨‍👩‍👧‍👦 All Ages \nTuesday nights are all about great energy and great company! \n🥨 Snacks & beverages available for purchase\n🍺 BYOB adult beverages welcome \nMake Tuesdays your favorite night of the week — grab your friends and let’s dance! 🕺💃🎶
URL:https://djdanlinedance.com/event/20260512/
LOCATION:Cedars Banquet Hall and Catering\, Cedars Banquet Hall and Catering 810 W Germantown Pike\, East Norriton\, PA\, 19403\, US
CATEGORIES:Line Dancing
ATTACH;FMTTYPE=image/jpeg:https://djdanlinedance.com/wp-content/uploads/2026/04/3129_image_667813411_10232864132001443_1960156697507222058_n.jpg
END:VEVENT
BEGIN:VEVENT
DTSTART;TZID=America/New_York:20260518T183000
DTEND;TZID=America/New_York:20260518T213000
DTSTAMP:20260423T174545
CREATED:20260410T200114Z
LAST-MODIFIED:20260410T200114Z
UID:3123-1779129000-1779139800@djdanlinedance.com
SUMMARY:Line Dancing @ Capri Pizza
DESCRIPTION:Join DJ Dan Line Dance every Monday for an energetic evening filled with your favorite line dances\, delicious food\, and a welcoming community. \n📍 Capri Pizza Restaurant & Bar\n5855 Easton Rd\, Plumsteadville\, PA 18949\n🕕 6:30 PM – 9:30 PM\n💵 $10 cover \nPlease note: no powder or dance wax is permitted on the floor to keep the dance space safe for everyone. \nThis night out is the perfect way to kick off your week. Come join the fun! 🎶🕺💃
URL:https://djdanlinedance.com/event/20260518/
LOCATION:Capri Pizza Restaurant & Bar\, 5855 Easton Road\, Plumsteadville\, PA\, 18949\, United States
CATEGORIES:Line Dancing
ATTACH;FMTTYPE=image/jpeg:https://djdanlinedance.com/wp-content/uploads/2026/03/Capri-Cover.jpg
END:VEVENT
BEGIN:VEVENT
DTSTART;TZID=America/New_York:20260519T183000
DTEND;TZID=America/New_York:20260519T213000
DTSTAMP:20260423T174545
CREATED:20260410T200757Z
LAST-MODIFIED:20260410T201249Z
UID:3131-1779215400-1779226200@djdanlinedance.com
SUMMARY:Line Dancing @ Cedars Banquet Hall
DESCRIPTION:🎉 Line Dancing at Cedars Banquet Hall! 🎉 \nJoin us each week for a full evening of fun\, music\, and nonstop dancing in a spacious venue perfect for hitting the floor.  \n📍 Cedars Banquet Hall\n810 W Germantown Pike\, Norristown\, PA 19403 \n📅 Every Tuesday Night\n🕡 6:30 PM – 9:30 PM\n💵 $10 cover\n👨‍👩‍👧‍👦 All Ages \nTuesday nights are all about great energy and great company! \n🥨 Snacks & beverages available for purchase\n🍺 BYOB adult beverages welcome \nMake Tuesdays your favorite night of the week — grab your friends and let’s dance! 🕺💃🎶
URL:https://djdanlinedance.com/event/20260519/
LOCATION:Cedars Banquet Hall and Catering\, Cedars Banquet Hall and Catering 810 W Germantown Pike\, East Norriton\, PA\, 19403\, US
CATEGORIES:Line Dancing
ATTACH;FMTTYPE=image/jpeg:https://djdanlinedance.com/wp-content/uploads/2026/04/3131_image_668914773_10232864139401628_4729785902767055176_n.jpg
END:VEVENT
BEGIN:VEVENT
DTSTART;TZID=America/New_York:20260525T183000
DTEND;TZID=America/New_York:20260525T213000
DTSTAMP:20260423T174545
CREATED:20260410T200322Z
LAST-MODIFIED:20260410T200343Z
UID:3125-1779733800-1779744600@djdanlinedance.com
SUMMARY:Line Dancing @ Capri Pizza
DESCRIPTION:Join DJ Dan Line Dance every Monday for an energetic evening filled with your favorite line dances\, delicious food\, and a welcoming community. \n📍 Capri Pizza Restaurant & Bar\n5855 Easton Rd\, Plumsteadville\, PA 18949\n🕕 6:30 PM – 9:30 PM\n💵 $10 cover \nPlease note: no powder or dance wax is permitted on the floor to keep the dance space safe for everyone. \nThis night out is the perfect way to kick off your week. Come join the fun! 🎶🕺💃
URL:https://djdanlinedance.com/event/20260525/
LOCATION:Capri Pizza Restaurant & Bar\, 5855 Easton Road\, Plumsteadville\, PA\, 18949\, United States
CATEGORIES:Line Dancing
ATTACH;FMTTYPE=image/jpeg:https://djdanlinedance.com/wp-content/uploads/2026/03/Capri-Cover.jpg
END:VEVENT
BEGIN:VEVENT
DTSTART;TZID=America/New_York:20260526T183000
DTEND;TZID=America/New_York:20260526T213000
DTSTAMP:20260423T174545
CREATED:20260410T200801Z
LAST-MODIFIED:20260410T201308Z
UID:3133-1779820200-1779831000@djdanlinedance.com
SUMMARY:Line Dancing @ Cedars Banquet Hall
DESCRIPTION:🎉 Line Dancing at Cedars Banquet Hall! 🎉 \nJoin us each week for a full evening of fun\, music\, and nonstop dancing in a spacious venue perfect for hitting the floor.  \n📍 Cedars Banquet Hall\n810 W Germantown Pike\, Norristown\, PA 19403 \n📅 Every Tuesday Night\n🕡 6:30 PM – 9:30 PM\n💵 $10 cover\n👨‍👩‍👧‍👦 All Ages \nTuesday nights are all about great energy and great company! \n🥨 Snacks & beverages available for purchase\n🍺 BYOB adult beverages welcome \nMake Tuesdays your favorite night of the week — grab your friends and let’s dance! 🕺💃🎶
URL:https://djdanlinedance.com/event/20260526/
LOCATION:Cedars Banquet Hall and Catering\, Cedars Banquet Hall and Catering 810 W Germantown Pike\, East Norriton\, PA\, 19403\, US
CATEGORIES:Line Dancing
ATTACH;FMTTYPE=image/jpeg:https://djdanlinedance.com/wp-content/uploads/2026/04/3133_image_668547818_10232864148241849_5296196348959593513_n.jpg
END:VEVENT
END:VCALENDAR