BEGIN:VCALENDAR
VERSION:2.0
PRODID:-//DJ Dan Line Dance - ECPv6.15.20//NONSGML v1.0//EN
CALSCALE:GREGORIAN
METHOD:PUBLISH
X-ORIGINAL-URL:https://djdanlinedance.com
X-WR-CALDESC:Events for DJ Dan Line Dance
REFRESH-INTERVAL;VALUE=DURATION:PT1H
X-Robots-Tag:noindex
X-PUBLISHED-TTL:PT1H
BEGIN:VTIMEZONE
TZID:America/New_York
BEGIN:DAYLIGHT
TZOFFSETFROM:-0500
TZOFFSETTO:-0400
TZNAME:EDT
DTSTART:20240310T070000
END:DAYLIGHT
BEGIN:STANDARD
TZOFFSETFROM:-0400
TZOFFSETTO:-0500
TZNAME:EST
DTSTART:20241103T060000
END:STANDARD
BEGIN:DAYLIGHT
TZOFFSETFROM:-0500
TZOFFSETTO:-0400
TZNAME:EDT
DTSTART:20250309T070000
END:DAYLIGHT
BEGIN:STANDARD
TZOFFSETFROM:-0400
TZOFFSETTO:-0500
TZNAME:EST
DTSTART:20251102T060000
END:STANDARD
BEGIN:DAYLIGHT
TZOFFSETFROM:-0500
TZOFFSETTO:-0400
TZNAME:EDT
DTSTART:20260308T070000
END:DAYLIGHT
BEGIN:STANDARD
TZOFFSETFROM:-0400
TZOFFSETTO:-0500
TZNAME:EST
DTSTART:20261101T060000
END:STANDARD
END:VTIMEZONE
BEGIN:VEVENT
DTSTART;TZID=America/New_York:20251121T180000
DTEND;TZID=America/New_York:20251121T230000
DTSTAMP:20260424T062244
CREATED:20251024T212555Z
LAST-MODIFIED:20251024T212555Z
UID:2616-1763748000-1763766000@djdanlinedance.com
SUMMARY:Special Friday Line Dancing inside SunnyBrook
DESCRIPTION:SoulJoel Presents: \nLine Dancing inside the SunnyBrook Ballroom\nw/ DJ Dan (Largest Ballroom East of the Mississippi 14\,000 square feet) \nONLY $10 in advance and $15 at the door\nGet tickets here:\nhttps://souljoels.com/shop/tickets/fridaylinedancingnovember/\nThe only purchase condition we have is that all tickets are non-refundable. All sales are final. \nBeginner lessons 6 to 7pm\nOpen Dance 7 to 11pm\nFull Bar available. Food available to order from Gatsby’s Pub until 9pm\nNo outside food or beverage \nFREE PARKING! \nAbout DJ Dan: \nDJ for over 20 years\nLine Dancing DJ and instructor for over 4 years. \nAppearances in bars\, clubs and venues in PA and NJ like Rock N Rebel\, Prospectors Dance Venue and the Camden Waterfront Arena for the XTU Anniversary Show!
URL:https://djdanlinedance.com/event/20251121/
LOCATION:SoulJoel’s at Sunnybrook*\, 50 Sunnybrook Road\, Pottstown\, PA\, 19464
CATEGORIES:Line Dancing
ATTACH;FMTTYPE=image/jpeg:https://djdanlinedance.com/wp-content/uploads/2025/09/3rd-Friday-Cover.jpg
END:VEVENT
END:VCALENDAR