BEGIN:VCALENDAR
VERSION:2.0
PRODID:-//DJ Dan Line Dance - ECPv6.15.20//NONSGML v1.0//EN
CALSCALE:GREGORIAN
METHOD:PUBLISH
X-ORIGINAL-URL:https://djdanlinedance.com
X-WR-CALDESC:Events for DJ Dan Line Dance
REFRESH-INTERVAL;VALUE=DURATION:PT1H
X-Robots-Tag:noindex
X-PUBLISHED-TTL:PT1H
BEGIN:VTIMEZONE
TZID:America/New_York
BEGIN:DAYLIGHT
TZOFFSETFROM:-0500
TZOFFSETTO:-0400
TZNAME:EDT
DTSTART:20250309T070000
END:DAYLIGHT
BEGIN:STANDARD
TZOFFSETFROM:-0400
TZOFFSETTO:-0500
TZNAME:EST
DTSTART:20251102T060000
END:STANDARD
BEGIN:DAYLIGHT
TZOFFSETFROM:-0500
TZOFFSETTO:-0400
TZNAME:EDT
DTSTART:20260308T070000
END:DAYLIGHT
BEGIN:STANDARD
TZOFFSETFROM:-0400
TZOFFSETTO:-0500
TZNAME:EST
DTSTART:20261101T060000
END:STANDARD
BEGIN:DAYLIGHT
TZOFFSETFROM:-0500
TZOFFSETTO:-0400
TZNAME:EDT
DTSTART:20270314T070000
END:DAYLIGHT
BEGIN:STANDARD
TZOFFSETFROM:-0400
TZOFFSETTO:-0500
TZNAME:EST
DTSTART:20271107T060000
END:STANDARD
END:VTIMEZONE
BEGIN:VEVENT
DTSTART;TZID=America/New_York:20260418T190000
DTEND;TZID=America/New_York:20260418T220000
DTSTAMP:20260423T162322
CREATED:20260311T195114Z
LAST-MODIFIED:20260311T195824Z
UID:3071-1776538800-1776549600@djdanlinedance.com
SUMMARY:Line Dancing @ Nostalgia 1720
DESCRIPTION:Join DJ Dan Line Dance on the 3rd Saturday of every month for an evening of great music with our dance family. \n📍 Nostalgia 1720\n136 E Butler Ave\, Chalfont\, PA 18914 \n🕖 7:00 PM – 10:00 PM\n💵 $10 cover\n🍴 BYO Food\n🍹 Drinks available for purchase (no outside drinks) \nCome dance\, laugh\, learn and make memories! 🕺💃🎶
URL:https://djdanlinedance.com/event/20260418/
LOCATION:The Bar at 1720\, 136 East Butler Ave\, Chalfont\, PA\, 18914\, United States
CATEGORIES:Line Dancing
ATTACH;FMTTYPE=image/jpeg:https://djdanlinedance.com/wp-content/uploads/2026/03/3071_image_650535626_10232434634144265_1541650917022387613_n.jpg
END:VEVENT
END:VCALENDAR