BEGIN:VCALENDAR
VERSION:2.0
PRODID:-//DJ Dan Line Dance - ECPv6.15.20//NONSGML v1.0//EN
CALSCALE:GREGORIAN
METHOD:PUBLISH
X-WR-CALNAME:DJ Dan Line Dance
X-ORIGINAL-URL:https://djdanlinedance.com
X-WR-CALDESC:Events for DJ Dan Line Dance
REFRESH-INTERVAL;VALUE=DURATION:PT1H
X-Robots-Tag:noindex
X-PUBLISHED-TTL:PT1H
BEGIN:VTIMEZONE
TZID:America/New_York
BEGIN:DAYLIGHT
TZOFFSETFROM:-0500
TZOFFSETTO:-0400
TZNAME:EDT
DTSTART:20230312T070000
END:DAYLIGHT
BEGIN:STANDARD
TZOFFSETFROM:-0400
TZOFFSETTO:-0500
TZNAME:EST
DTSTART:20231105T060000
END:STANDARD
BEGIN:DAYLIGHT
TZOFFSETFROM:-0500
TZOFFSETTO:-0400
TZNAME:EDT
DTSTART:20240310T070000
END:DAYLIGHT
BEGIN:STANDARD
TZOFFSETFROM:-0400
TZOFFSETTO:-0500
TZNAME:EST
DTSTART:20241103T060000
END:STANDARD
BEGIN:DAYLIGHT
TZOFFSETFROM:-0500
TZOFFSETTO:-0400
TZNAME:EDT
DTSTART:20250309T070000
END:DAYLIGHT
BEGIN:STANDARD
TZOFFSETFROM:-0400
TZOFFSETTO:-0500
TZNAME:EST
DTSTART:20251102T060000
END:STANDARD
END:VTIMEZONE
BEGIN:VEVENT
DTSTART;TZID=America/New_York:20240813T183000
DTEND;TZID=America/New_York:20240813T223000
DTSTAMP:20260425T095525
CREATED:20240722T190302Z
LAST-MODIFIED:20240722T190448Z
UID:1312-1723573800-1723588200@djdanlinedance.com
SUMMARY:Line Dancing at SunnyBrook Ballroom
DESCRIPTION:SoulJoel Presents: \nLine Dancing inside the historic SunnyBrook Ballroom\nInside the Sunnybrook Ballroom w/ DJ Dan \nBeginner lessons 6:30-7 pm\nOpen Dance 7-1030pm\nFull Bar available. Food available from Gatsby’s Pub 4pm until 11pm \nNo outside food or beverages\nFREE PARKING \nGet tickets here:\nhttps://www.souljoels.com/shop/tickets/linedancingaugust13th/ \nAbout DJ Dan: \nDJ for over 20 years\nLine Dancing DJ and instructor for over 4 years.\nAppearances in bars\, clubs\, and venues in PA and NJ like Rock N Rebel\, Prospectors Dance Venue\, and the Camden Waterfront Arena for the XTU Anniversary Show!!
URL:https://djdanlinedance.com/event/line-dancing-at-sunnybrook-ballroom-20240813/
LOCATION:SoulJoel’s at SunnyBrook\, 50 Sunnybrook Rd\, Pottstown\, PA\, 19464\, United States
CATEGORIES:Line Dancing
ATTACH;FMTTYPE=image/jpeg:https://djdanlinedance.com/wp-content/uploads/2024/07/1312_image_450956005_467788292665584_6036956356356208708_n.jpg
END:VEVENT
END:VCALENDAR