BEGIN:VCALENDAR
VERSION:2.0
PRODID:-//DJ Dan Line Dance - ECPv6.15.20//NONSGML v1.0//EN
CALSCALE:GREGORIAN
METHOD:PUBLISH
X-WR-CALNAME:DJ Dan Line Dance
X-ORIGINAL-URL:https://djdanlinedance.com
X-WR-CALDESC:Events for DJ Dan Line Dance
REFRESH-INTERVAL;VALUE=DURATION:PT1H
X-Robots-Tag:noindex
X-PUBLISHED-TTL:PT1H
BEGIN:VTIMEZONE
TZID:America/New_York
BEGIN:DAYLIGHT
TZOFFSETFROM:-0500
TZOFFSETTO:-0400
TZNAME:EDT
DTSTART:20230312T070000
END:DAYLIGHT
BEGIN:STANDARD
TZOFFSETFROM:-0400
TZOFFSETTO:-0500
TZNAME:EST
DTSTART:20231105T060000
END:STANDARD
BEGIN:DAYLIGHT
TZOFFSETFROM:-0500
TZOFFSETTO:-0400
TZNAME:EDT
DTSTART:20240310T070000
END:DAYLIGHT
BEGIN:STANDARD
TZOFFSETFROM:-0400
TZOFFSETTO:-0500
TZNAME:EST
DTSTART:20241103T060000
END:STANDARD
BEGIN:DAYLIGHT
TZOFFSETFROM:-0500
TZOFFSETTO:-0400
TZNAME:EDT
DTSTART:20250309T070000
END:DAYLIGHT
BEGIN:STANDARD
TZOFFSETFROM:-0400
TZOFFSETTO:-0500
TZNAME:EST
DTSTART:20251102T060000
END:STANDARD
END:VTIMEZONE
BEGIN:VEVENT
DTSTART;TZID=America/New_York:20241018T180000
DTEND;TZID=America/New_York:20241018T230000
DTSTAMP:20260425T070519
CREATED:20240921T193822Z
LAST-MODIFIED:20240921T193946Z
UID:1501-1729274400-1729292400@djdanlinedance.com
SUMMARY:Special Event: Line Dancing Friday inside SunnyBrook Ballroom
DESCRIPTION:SoulJoel Presents \nSpecial Event: Line Dancing Friday at SoulJoel’s at SunnyBrook\ninside the Sunnybrook Ballroom w/ DJ Dan \n🔥🔥 Special Announcement 🔥🔥\nWXTU 92.5 will be on hand \nBeginner lessons 6 to 7pm\nOpen Dance 7pm to 11pm Full Bar available. Order food from Gatsby’s Pub at the bar to be delivered directly to your table! \nTickets are $10 in advance and $15 at the door\nGet tickets here: https://www.souljoels.com/shop/tickets/fridaylinedancing/ \nAbout DJ Dan:\nDJ for over 20 years\nLine Dancing DJ and instructor for over 4 years.\nAppearances in bars\, clubs and venues in PA and NJ like Rock N Rebel\, Prospectors Dance Venue and the Camden Waterfront Arena for the XTU Anniversary Show!
URL:https://djdanlinedance.com/event/special-event-line-dancing-friday-inside-sunnybrook-ballroom-20241018/
LOCATION:PA
CATEGORIES:Line Dancing
ATTACH;FMTTYPE=image/jpeg:https://djdanlinedance.com/wp-content/uploads/2024/09/1501_image_460300248_903098181875206_1976531747071639791_n.jpg
END:VEVENT
END:VCALENDAR