BEGIN:VCALENDAR
VERSION:2.0
PRODID:-//DJ Dan Line Dance - ECPv6.15.20//NONSGML v1.0//EN
CALSCALE:GREGORIAN
METHOD:PUBLISH
X-WR-CALNAME:DJ Dan Line Dance
X-ORIGINAL-URL:https://djdanlinedance.com
X-WR-CALDESC:Events for DJ Dan Line Dance
REFRESH-INTERVAL;VALUE=DURATION:PT1H
X-Robots-Tag:noindex
X-PUBLISHED-TTL:PT1H
BEGIN:VTIMEZONE
TZID:America/New_York
BEGIN:DAYLIGHT
TZOFFSETFROM:-0500
TZOFFSETTO:-0400
TZNAME:EDT
DTSTART:20230312T070000
END:DAYLIGHT
BEGIN:STANDARD
TZOFFSETFROM:-0400
TZOFFSETTO:-0500
TZNAME:EST
DTSTART:20231105T060000
END:STANDARD
BEGIN:DAYLIGHT
TZOFFSETFROM:-0500
TZOFFSETTO:-0400
TZNAME:EDT
DTSTART:20240310T070000
END:DAYLIGHT
BEGIN:STANDARD
TZOFFSETFROM:-0400
TZOFFSETTO:-0500
TZNAME:EST
DTSTART:20241103T060000
END:STANDARD
BEGIN:DAYLIGHT
TZOFFSETFROM:-0500
TZOFFSETTO:-0400
TZNAME:EDT
DTSTART:20250309T070000
END:DAYLIGHT
BEGIN:STANDARD
TZOFFSETFROM:-0400
TZOFFSETTO:-0500
TZNAME:EST
DTSTART:20251102T060000
END:STANDARD
END:VTIMEZONE
BEGIN:VEVENT
DTSTART;TZID=America/New_York:20240907T110000
DTEND;TZID=America/New_York:20240907T150000
DTSTAMP:20260425T112229
CREATED:20240821T193650Z
LAST-MODIFIED:20240821T193905Z
UID:1419-1725706800-1725721200@djdanlinedance.com
SUMMARY:Gala Apple Festival
DESCRIPTION:Bring the Family out to pick Gala apples.\nEverything apple\, caramel apples\, apple cider\, slushies\, hot apple dumplings served with ice cream\, apple pies\, breads and so much more!\nHot food grilled 10-5 both days\nApple butter making the old fashioned way (Saturday Only)\nOld fashioned Cider pressing all weekend\nFree Hayride to the orchard for Apple Picking\nFree kids activities\nBarrel Trains*weather pending\nPony Rides* Weather pending\nGoat Snuggling*\nOur baked items are homemade from scratch on our bakery here on the farm.\nLive Music\, Certain Times\nLine Dancing\nProduct Taste Testing\n*Activities with this symbol will have a small fee
URL:https://djdanlinedance.com/event/gala-apple-festival-20240907/
LOCATION:PA
CATEGORIES:Line Dancing
ATTACH;FMTTYPE=image/jpeg:https://djdanlinedance.com/wp-content/uploads/2024/08/1419_image_450483511_895123882659777_1560263576116873930_n.jpg
END:VEVENT
END:VCALENDAR