BEGIN:VCALENDAR
VERSION:2.0
PRODID:-//DJ Dan Line Dance - ECPv6.15.20//NONSGML v1.0//EN
CALSCALE:GREGORIAN
METHOD:PUBLISH
X-ORIGINAL-URL:https://djdanlinedance.com
X-WR-CALDESC:Events for DJ Dan Line Dance
REFRESH-INTERVAL;VALUE=DURATION:PT1H
X-Robots-Tag:noindex
X-PUBLISHED-TTL:PT1H
BEGIN:VTIMEZONE
TZID:America/New_York
BEGIN:DAYLIGHT
TZOFFSETFROM:-0500
TZOFFSETTO:-0400
TZNAME:EDT
DTSTART:20230312T070000
END:DAYLIGHT
BEGIN:STANDARD
TZOFFSETFROM:-0400
TZOFFSETTO:-0500
TZNAME:EST
DTSTART:20231105T060000
END:STANDARD
BEGIN:DAYLIGHT
TZOFFSETFROM:-0500
TZOFFSETTO:-0400
TZNAME:EDT
DTSTART:20240310T070000
END:DAYLIGHT
BEGIN:STANDARD
TZOFFSETFROM:-0400
TZOFFSETTO:-0500
TZNAME:EST
DTSTART:20241103T060000
END:STANDARD
BEGIN:DAYLIGHT
TZOFFSETFROM:-0500
TZOFFSETTO:-0400
TZNAME:EDT
DTSTART:20250309T070000
END:DAYLIGHT
BEGIN:STANDARD
TZOFFSETFROM:-0400
TZOFFSETTO:-0500
TZNAME:EST
DTSTART:20251102T060000
END:STANDARD
END:VTIMEZONE
BEGIN:VEVENT
DTSTART;TZID=America/New_York:20240913T190000
DTEND;TZID=America/New_York:20240913T220000
DTSTAMP:20260425T112327
CREATED:20240810T214227Z
LAST-MODIFIED:20240810T214644Z
UID:1369-1726254000-1726264800@djdanlinedance.com
SUMMARY:Red Hill Line Dancing
DESCRIPTION:Line Dancing Every 2nd Friday! \n7pm to 10pm \n$10 Cover\nAges 12 and under are free \nLessons and Dancing \nNo outside food or drink may be brought on premises.\nFood and Drink is available for purchase at the venue.
URL:https://djdanlinedance.com/event/red-hill-line-dancing-20240913/
LOCATION:Red Hill Fire Company Social Club\, 126 E 5th St\, Red Hill\, PA\, 18076\, United States
CATEGORIES:Line Dancing
ATTACH;FMTTYPE=image/jpeg:https://djdanlinedance.com/wp-content/uploads/2024/08/1369_image_453654149_871494155035609_9057205907742191629_n.jpg
END:VEVENT
END:VCALENDAR