BEGIN:VCALENDAR
VERSION:2.0
PRODID:-//DJ Dan Line Dance - ECPv6.15.20//NONSGML v1.0//EN
CALSCALE:GREGORIAN
METHOD:PUBLISH
X-ORIGINAL-URL:https://djdanlinedance.com
X-WR-CALDESC:Events for DJ Dan Line Dance
REFRESH-INTERVAL;VALUE=DURATION:PT1H
X-Robots-Tag:noindex
X-PUBLISHED-TTL:PT1H
BEGIN:VTIMEZONE
TZID:America/New_York
BEGIN:DAYLIGHT
TZOFFSETFROM:-0500
TZOFFSETTO:-0400
TZNAME:EDT
DTSTART:20250309T070000
END:DAYLIGHT
BEGIN:STANDARD
TZOFFSETFROM:-0400
TZOFFSETTO:-0500
TZNAME:EST
DTSTART:20251102T060000
END:STANDARD
BEGIN:DAYLIGHT
TZOFFSETFROM:-0500
TZOFFSETTO:-0400
TZNAME:EDT
DTSTART:20260308T070000
END:DAYLIGHT
BEGIN:STANDARD
TZOFFSETFROM:-0400
TZOFFSETTO:-0500
TZNAME:EST
DTSTART:20261101T060000
END:STANDARD
BEGIN:DAYLIGHT
TZOFFSETFROM:-0500
TZOFFSETTO:-0400
TZNAME:EDT
DTSTART:20270314T070000
END:DAYLIGHT
BEGIN:STANDARD
TZOFFSETFROM:-0400
TZOFFSETTO:-0500
TZNAME:EST
DTSTART:20271107T060000
END:STANDARD
END:VTIMEZONE
BEGIN:VEVENT
DTSTART;TZID=America/New_York:20260317T183000
DTEND;TZID=America/New_York:20260317T213000
DTSTAMP:20260423T174705
CREATED:20260225T212633Z
LAST-MODIFIED:20260304T165916Z
UID:3015-1773772200-1773783000@djdanlinedance.com
SUMMARY:Line Dancing @ Cedars Banquet Hall
DESCRIPTION:🎉 Line Dancing at Cedars Banquet Hall! 🎉 \nJoin us each week for a full evening of fun\, music\, and nonstop dancing in a spacious venue perfect for hitting the floor.  \n📍 Cedars Banquet Hall\n810 W Germantown Pike\, Norristown\, PA 19403 \n📅 Every Tuesday Night\n🕡 6:30 PM – 9:30 PM\n💵 $10 cover\n👨‍👩‍👧‍👦 All Ages \nTuesday nights are all about great energy and great company! \n🥨 Snacks & beverages available for purchase\n🍺 BYOB adult beverages welcome \nMake Tuesdays your favorite night of the week — grab your friends and let’s dance! 🕺💃🎶
URL:https://djdanlinedance.com/event/20260317/
LOCATION:Cedars Banquet Hall and Catering\, Cedars Banquet Hall and Catering 810 W Germantown Pike\, East Norriton\, PA\, 19403\, US
CATEGORIES:Line Dancing
ATTACH;FMTTYPE=image/png:https://djdanlinedance.com/wp-content/uploads/2026/02/Cedars-Banquet-Hall-2026-Tues-3-hour-Cover.png
END:VEVENT
END:VCALENDAR