BEGIN:VCALENDAR
VERSION:2.0
PRODID:-//DJ Dan Line Dance - ECPv6.15.20//NONSGML v1.0//EN
CALSCALE:GREGORIAN
METHOD:PUBLISH
X-WR-CALNAME:DJ Dan Line Dance
X-ORIGINAL-URL:https://djdanlinedance.com
X-WR-CALDESC:Events for DJ Dan Line Dance
REFRESH-INTERVAL;VALUE=DURATION:PT1H
X-Robots-Tag:noindex
X-PUBLISHED-TTL:PT1H
BEGIN:VTIMEZONE
TZID:America/New_York
BEGIN:DAYLIGHT
TZOFFSETFROM:-0500
TZOFFSETTO:-0400
TZNAME:EDT
DTSTART:20240310T070000
END:DAYLIGHT
BEGIN:STANDARD
TZOFFSETFROM:-0400
TZOFFSETTO:-0500
TZNAME:EST
DTSTART:20241103T060000
END:STANDARD
BEGIN:DAYLIGHT
TZOFFSETFROM:-0500
TZOFFSETTO:-0400
TZNAME:EDT
DTSTART:20250309T070000
END:DAYLIGHT
BEGIN:STANDARD
TZOFFSETFROM:-0400
TZOFFSETTO:-0500
TZNAME:EST
DTSTART:20251102T060000
END:STANDARD
BEGIN:DAYLIGHT
TZOFFSETFROM:-0500
TZOFFSETTO:-0400
TZNAME:EDT
DTSTART:20260308T070000
END:DAYLIGHT
BEGIN:STANDARD
TZOFFSETFROM:-0400
TZOFFSETTO:-0500
TZNAME:EST
DTSTART:20261101T060000
END:STANDARD
END:VTIMEZONE
BEGIN:VEVENT
DTSTART;TZID=America/New_York:20250126T130000
DTEND;TZID=America/New_York:20250126T180000
DTSTAMP:20260425T104850
CREATED:20250102T203841Z
LAST-MODIFIED:20250103T171240Z
UID:1738-1737896400-1737914400@djdanlinedance.com
SUMMARY:Keelersville Club Special Event: Beginner Lessons\, Buffet & Line Dancing
DESCRIPTION:🎉 Special Line Dance Event at the Keelersville Club! 🎉 \n📅 Date: Sunday\, January 26th\n🕕 Time: 1 PM – 6 PM\n📍 Location: Keelersville Club\, 2522 Ridge Rd\, Perkasie\, PA 18944\n🎟️ Tickets: $40 per person\nTo purchase tickets\, contact Renee at 267-272-2305 \nHere’s what we have planned: \n👟 Beginner Line Dance Lessons from 1 PM to 3 PM – Easy-to-follow lessons led by DJ Dan!\n🍴 Buffet from 3 PM – 4 PM\n🎶 Line Dancing from 4 PM – 6 PM – Practice the dances you learned earlier in the day plus some other favorites! \nThis special event is a great opportunity to learn\, mingle\, and have a blast. Gather your friends\, grab your tickets\, and we’ll see you on the dance floor!💃🕺
URL:https://djdanlinedance.com/event/keelersville-club-special-event-beginner-lessons-buffet-line-dancing-20250126/
LOCATION:Keelersville Club\, 2522 Ridge Rd\, Perkasie\, PA\, 18944\, United States
CATEGORIES:Line Dancing
ATTACH;FMTTYPE=image/jpeg:https://djdanlinedance.com/wp-content/uploads/2025/01/1738_image_472596817_976540047864352_4253959052379245366_n.jpg
END:VEVENT
END:VCALENDAR