BEGIN:VCALENDAR
VERSION:2.0
PRODID:-//DJ Dan Line Dance - ECPv6.15.20//NONSGML v1.0//EN
CALSCALE:GREGORIAN
METHOD:PUBLISH
X-ORIGINAL-URL:https://djdanlinedance.com
X-WR-CALDESC:Events for DJ Dan Line Dance
REFRESH-INTERVAL;VALUE=DURATION:PT1H
X-Robots-Tag:noindex
X-PUBLISHED-TTL:PT1H
BEGIN:VTIMEZONE
TZID:America/New_York
BEGIN:DAYLIGHT
TZOFFSETFROM:-0500
TZOFFSETTO:-0400
TZNAME:EDT
DTSTART:20240310T070000
END:DAYLIGHT
BEGIN:STANDARD
TZOFFSETFROM:-0400
TZOFFSETTO:-0500
TZNAME:EST
DTSTART:20241103T060000
END:STANDARD
BEGIN:DAYLIGHT
TZOFFSETFROM:-0500
TZOFFSETTO:-0400
TZNAME:EDT
DTSTART:20250309T070000
END:DAYLIGHT
BEGIN:STANDARD
TZOFFSETFROM:-0400
TZOFFSETTO:-0500
TZNAME:EST
DTSTART:20251102T060000
END:STANDARD
BEGIN:DAYLIGHT
TZOFFSETFROM:-0500
TZOFFSETTO:-0400
TZNAME:EDT
DTSTART:20260308T070000
END:DAYLIGHT
BEGIN:STANDARD
TZOFFSETFROM:-0400
TZOFFSETTO:-0500
TZNAME:EST
DTSTART:20261101T060000
END:STANDARD
END:VTIMEZONE
BEGIN:VEVENT
DTSTART;TZID=America/New_York:20250308T130000
DTEND;TZID=America/New_York:20250308T160000
DTSTAMP:20260425T105151
CREATED:20250215T043531Z
LAST-MODIFIED:20250215T043531Z
UID:1934-1741438800-1741449600@djdanlinedance.com
SUMMARY:KDC Saturday Country Line Dancing - BYOB
DESCRIPTION:Giddy up and get ready for a heart-pounding day of fun at our Saturday Line Dancing Extravaganza! Grab your friends and join us for an afternoon filled with country tunes\, laughter\, and of course\, plenty of line dancing. \n\nWhether you’re a seasoned line dancer or new to the scene\, our friendly and energetic instructors will have you boot-scoot-and-boogying in no time. You’ll learn a variety of dances\, from classic favorites to upbeat modern routines.\n\nNo prior dance experience is necessary—just bring your dancing partner and a little bit of country spirit! Let’s make this a day to remember with some boot-stomping fun!
URL:https://djdanlinedance.com/event/kdc-saturday-country-line-dancing-byob-20250308/
LOCATION:Kreative Dance Complex\, 3020 Linden St\, Bethlehem\, Pennsylvania\, 18017
ATTACH;FMTTYPE=image/png:https://djdanlinedance.com/wp-content/uploads/2025/02/KDC-Cover.png
END:VEVENT
BEGIN:VEVENT
DTSTART;TZID=America/New_York:20250308T190000
DTEND;TZID=America/New_York:20250308T220000
DTSTAMP:20260425T105151
CREATED:20250113T204400Z
LAST-MODIFIED:20250118T221409Z
UID:1798-1741460400-1741471200@djdanlinedance.com
SUMMARY:Fred Astaire Dance Studio Line Dancing
DESCRIPTION:👢 Line Dancing at Fred Astaire Dance Studios – Collegeville 👢 \nJoin us every 2nd Saturday of the month for a night of Line Dancing fun! We’ll have you stepping\, stomping\, and sliding to all your favorite tunes. \n📍 Location: Fred Astaire Dance Studios – Collegeville\, 222 E Main St\, Collegeville\, PA 19426\n🕖 Time: 7:00 PM – 10:00 PM\n📅 When: 2nd Saturday of every month \n$10 Cover – includes tomato pie & water\nYou may also bring your own food and drink if you choose. \nGrab your friends and let’s hit the dance floor together! 🎶💃
URL:https://djdanlinedance.com/event/fred-astaire-dance-studio-line-dancing-20250308/
LOCATION:Fred Astaire Dance Studios – Collegeville\, 222 E. Main Street\, Collegeville\, PA\, 19426\, United States
CATEGORIES:Line Dancing
ATTACH;FMTTYPE=image/jpeg:https://djdanlinedance.com/wp-content/uploads/2025/01/1798_image_473564213_984024000449290_3344557760133764157_n.jpg
END:VEVENT
END:VCALENDAR