BEGIN:VCALENDAR
VERSION:2.0
PRODID:-//DJ Dan Line Dance - ECPv6.15.20//NONSGML v1.0//EN
CALSCALE:GREGORIAN
METHOD:PUBLISH
X-ORIGINAL-URL:https://djdanlinedance.com
X-WR-CALDESC:Events for DJ Dan Line Dance
REFRESH-INTERVAL;VALUE=DURATION:PT1H
X-Robots-Tag:noindex
X-PUBLISHED-TTL:PT1H
BEGIN:VTIMEZONE
TZID:America/New_York
BEGIN:DAYLIGHT
TZOFFSETFROM:-0500
TZOFFSETTO:-0400
TZNAME:EDT
DTSTART:20230312T070000
END:DAYLIGHT
BEGIN:STANDARD
TZOFFSETFROM:-0400
TZOFFSETTO:-0500
TZNAME:EST
DTSTART:20231105T060000
END:STANDARD
BEGIN:DAYLIGHT
TZOFFSETFROM:-0500
TZOFFSETTO:-0400
TZNAME:EDT
DTSTART:20240310T070000
END:DAYLIGHT
BEGIN:STANDARD
TZOFFSETFROM:-0400
TZOFFSETTO:-0500
TZNAME:EST
DTSTART:20241103T060000
END:STANDARD
BEGIN:DAYLIGHT
TZOFFSETFROM:-0500
TZOFFSETTO:-0400
TZNAME:EDT
DTSTART:20250309T070000
END:DAYLIGHT
BEGIN:STANDARD
TZOFFSETFROM:-0400
TZOFFSETTO:-0500
TZNAME:EST
DTSTART:20251102T060000
END:STANDARD
END:VTIMEZONE
BEGIN:VEVENT
DTSTART;TZID=America/New_York:20240622T120000
DTEND;TZID=America/New_York:20240622T220000
DTSTAMP:20260425T205125
CREATED:20240426T214105Z
LAST-MODIFIED:20240506T144454Z
UID:1009-1719057600-1719093600@djdanlinedance.com
SUMMARY:Drag Show Bingo (2 sessions)
DESCRIPTION:Join us at IBEW Local 98 on June 22\, 2024 for a day of Bingo\, raffles\, and live performances. Experience the talent of Morgan Morgan Morgan\, Kali Coutour\, and Divinity Cruzz\, appearing for the first time at Laurel House. There will be cash prizes for all winners!\n\nThe cost is $40 and includes 10 games. You may also reserve a table for 10 for $350.\n\nWe will be hosting two shows in the afternoon and evening\, at 1 PM and 7 PM. For the afternoon show\, doors open at 12 PM\, and for the evening show\, doors open at 6 PM.\n\nThis event is BYO for beverages and food.\n\nAll proceeds raised will go to support Laurel House’s domestic violence programs.\n\nFor questions\, please contact Diane at dhelm@laurel-house.org.
URL:https://djdanlinedance.com/event/drag-show-bingo-20240622/
LOCATION:IBEW Local 98\, 3900 Ridge Pike\, Collegeville\, PA\, 19426
CATEGORIES:Music Bingo
ATTACH;FMTTYPE=image/jpeg:https://djdanlinedance.com/wp-content/uploads/2024/04/Drag-Show-Bingo-2024-Cover.jpg
END:VEVENT
END:VCALENDAR