BEGIN:VCALENDAR
VERSION:2.0
PRODID:-//DJ Dan Line Dance - ECPv6.15.20//NONSGML v1.0//EN
CALSCALE:GREGORIAN
METHOD:PUBLISH
X-ORIGINAL-URL:https://djdanlinedance.com
X-WR-CALDESC:Events for DJ Dan Line Dance
REFRESH-INTERVAL;VALUE=DURATION:PT1H
X-Robots-Tag:noindex
X-PUBLISHED-TTL:PT1H
BEGIN:VTIMEZONE
TZID:America/New_York
BEGIN:DAYLIGHT
TZOFFSETFROM:-0500
TZOFFSETTO:-0400
TZNAME:EDT
DTSTART:20230312T070000
END:DAYLIGHT
BEGIN:STANDARD
TZOFFSETFROM:-0400
TZOFFSETTO:-0500
TZNAME:EST
DTSTART:20231105T060000
END:STANDARD
BEGIN:DAYLIGHT
TZOFFSETFROM:-0500
TZOFFSETTO:-0400
TZNAME:EDT
DTSTART:20240310T070000
END:DAYLIGHT
BEGIN:STANDARD
TZOFFSETFROM:-0400
TZOFFSETTO:-0500
TZNAME:EST
DTSTART:20241103T060000
END:STANDARD
BEGIN:DAYLIGHT
TZOFFSETFROM:-0500
TZOFFSETTO:-0400
TZNAME:EDT
DTSTART:20250309T070000
END:DAYLIGHT
BEGIN:STANDARD
TZOFFSETFROM:-0400
TZOFFSETTO:-0500
TZNAME:EST
DTSTART:20251102T060000
END:STANDARD
END:VTIMEZONE
BEGIN:VEVENT
DTSTART;TZID=America/New_York:20240501T190000
DTEND;TZID=America/New_York:20240501T220000
DTSTAMP:20260425T124043
CREATED:20240319T213413Z
LAST-MODIFIED:20240319T214557Z
UID:745-1714590000-1714600800@djdanlinedance.com
SUMMARY:Whitpain Tavern Line Dancing
DESCRIPTION:The 1st and 3rd Wednesday each month we will be line dancing at the Whitpain Tavern! \n7:00 pm to 10:00 pm\n$10 Cover Charge\nALL AGES \nBeginner lessons and open dancing! \nBring your dance requests! \nSee ya there!
URL:https://djdanlinedance.com/event/whitpain-tavern-line-dancing-20240501/
LOCATION:Whitpain Tavern\, 1529 Dekalb Pike\, Blue Bell\, PA\, 19422\, United States
CATEGORIES:Line Dancing
ATTACH;FMTTYPE=image/jpeg:https://djdanlinedance.com/wp-content/uploads/2024/03/745_image_432763392_788012130050479_2147417273996134219_n.jpg
END:VEVENT
BEGIN:VEVENT
DTSTART;TZID=America/New_York:20240503T190000
DTEND;TZID=America/New_York:20240503T220000
DTSTAMP:20260425T124043
CREATED:20240319T213416Z
LAST-MODIFIED:20240319T214625Z
UID:748-1714762800-1714773600@djdanlinedance.com
SUMMARY:Line Dancing Night With @Dj Dan
DESCRIPTION:Line Dancing 7-10\nLight snacks and non alcoholic beverages will be served throughout the evening.\nAll ages\n$8 cover
URL:https://djdanlinedance.com/event/line-dancing-night-with-dj-dan-20240503/
LOCATION:Hausman’s Fruit Farm\, 2822 Limeport Pike\, Coopersburg\, PA\, 18036\, United States
CATEGORIES:Line Dancing
ATTACH;FMTTYPE=image/jpeg:https://djdanlinedance.com/wp-content/uploads/2024/03/748_image_432624244_817799150392251_3362159299285392148_n.jpg
END:VEVENT
BEGIN:VEVENT
DTSTART;TZID=America/New_York:20240504T140000
DTEND;TZID=America/New_York:20240504T230000
DTSTAMP:20260425T124043
CREATED:20240319T213418Z
LAST-MODIFIED:20240319T214651Z
UID:750-1714831200-1714863600@djdanlinedance.com
SUMMARY:Special Event: Line Dancing Workshop and Open Dance
DESCRIPTION:SoulJoel Presents \nSpecial Event: Line Dancing Workshop and Open Dance\nInside the Sunnybrook Ballroom w/ DJ Dan \nWorkshop from 3 to 6pm – Only $30 and it includes the open dance 7 to 11pm \nOpen Dance ONLY $10 in advance and $15 at the door \nGet tickets here:\nhttps://www.souljoels.com/shop/tickets/linedanceworkshopmay4th/ \nAbout DJ Dan: \nDJ for over 20 years\nLine Dancing DJ and instructor for over 4 years.\nAppearances in bars\, clubs and venues in PA and NJ like Rock N Rebel\, Prospectors Dance Venue and the Camden Waterfront Arena for the XTU Anniversary Show!
URL:https://djdanlinedance.com/event/special-event-line-dancing-workshop-and-open-dance-20240504/
LOCATION:SoulJoel’s at SunnyBrook\, 50 Sunnybrook Rd\, Pottstown\, PA\, 19464\, United States
CATEGORIES:Line Dancing
ATTACH;FMTTYPE=image/jpeg:https://djdanlinedance.com/wp-content/uploads/2024/03/750_image_430849079_788007816717577_6240798791676032843_n.jpg
END:VEVENT
BEGIN:VEVENT
DTSTART;TZID=America/New_York:20240506T190000
DTEND;TZID=America/New_York:20240506T220000
DTSTAMP:20260425T124043
CREATED:20240319T213421Z
LAST-MODIFIED:20240319T214716Z
UID:752-1715022000-1715032800@djdanlinedance.com
SUMMARY:Warminster VFW Line Dancing
DESCRIPTION:Line Dancing at the VFW Warminster! \n7pm to 10pm \n$10 cover \nLessons\, dancing and always lots of fun! \nSee ya there!
URL:https://djdanlinedance.com/event/warminster-vfw-line-dancing-20240506/
LOCATION:Warminster VFW 6493\, 645 Louis Dr\, Warminster\, PA\, 18974\, United States
CATEGORIES:Line Dancing
ATTACH;FMTTYPE=image/jpeg:https://djdanlinedance.com/wp-content/uploads/2024/03/752_image_432774475_788010750050617_3827758171735339395_n.jpg
END:VEVENT
BEGIN:VEVENT
DTSTART;TZID=America/New_York:20240510T190000
DTEND;TZID=America/New_York:20240510T220000
DTSTAMP:20260425T124043
CREATED:20240319T213423Z
LAST-MODIFIED:20240319T214750Z
UID:754-1715367600-1715378400@djdanlinedance.com
SUMMARY:Red Hill Line Dancing
DESCRIPTION:Line Dancing Every 2nd Friday! \n7pm to 10pm \n$10 Cover \nLessons and Dancing \nFood and Drink Available
URL:https://djdanlinedance.com/event/red-hill-line-dancing-20240510/
LOCATION:Red Hill Fire Company Social Club\, 126 E 5th St\, Red Hill\, PA\, 18076\, United States
CATEGORIES:Line Dancing
ATTACH;FMTTYPE=image/jpeg:https://djdanlinedance.com/wp-content/uploads/2024/03/754_image_430562643_788011376717221_5243983261561968664_n.jpg
END:VEVENT
BEGIN:VEVENT
DTSTART;TZID=America/New_York:20240511T160000
DTEND;TZID=America/New_York:20240511T210000
DTSTAMP:20260425T124043
CREATED:20240426T205203Z
LAST-MODIFIED:20240426T205349Z
UID:997-1715443200-1715461200@djdanlinedance.com
SUMMARY:Boots & Scoops
DESCRIPTION:Join us for a family night of food\, fun and dancing! DJ Dan will be teaching line dance lessons every hour and much more! You won’t want to miss the Glow Congo Line to wrap up the night!
URL:https://djdanlinedance.com/event/boots-scoops-20240511/
LOCATION:The Energy Station\, 2710 Shelly Rd\, Harleysville\, PA\, 19438
CATEGORIES:Line Dancing
ATTACH;FMTTYPE=image/jpeg:https://djdanlinedance.com/wp-content/uploads/2024/04/997_image_439935861_963921192400323_2319837728675278607_n.jpg
END:VEVENT
BEGIN:VEVENT
DTSTART;TZID=America/New_York:20240514T183000
DTEND;TZID=America/New_York:20240514T223000
DTSTAMP:20260425T124043
CREATED:20240424T164303Z
LAST-MODIFIED:20240424T164510Z
UID:935-1715711400-1715725800@djdanlinedance.com
SUMMARY:Line Dancing at SunnyBrook Ballroom
DESCRIPTION:SoulJoel Presents: \nLine Dancing at SoulJoel’s at SunnyBrook\nInside the Sunnybrook Ballroom w/ DJ Dan \nBeginner lessons 6:30-7 pm\nOpen Dance 7-1030pm\nFull Bar available. Food available from Gatsby’s Pub 4pm until 11pm \nNo outside food or beverages \nGet tickets here:\nhttps://www.souljoels.com/shop/tickets/linedancingmay14th/ \nAbout DJ Dan: \nDJ for over 20 years\nLine Dancing DJ and instructor for over 4 years.\nAppearances in bars\, clubs\, and venues in PA and NJ like Rock N Rebel\, Prospectors Dance Venue\, and the Camden Waterfront Arena for the XTU Anniversary Show!!
URL:https://djdanlinedance.com/event/line-dancing-at-sunnybrook-ballroom-20240514/
LOCATION:SoulJoel’s at SunnyBrook\, 50 Sunnybrook Rd\, Pottstown\, PA\, 19464\, United States
CATEGORIES:Line Dancing
ATTACH;FMTTYPE=image/jpeg:https://djdanlinedance.com/wp-content/uploads/2024/04/935_image_438242865_416949907749423_5514433543751062600_n.jpg
END:VEVENT
BEGIN:VEVENT
DTSTART;TZID=America/New_York:20240515T190000
DTEND;TZID=America/New_York:20240515T220000
DTSTAMP:20260425T124043
CREATED:20240319T213427Z
LAST-MODIFIED:20240319T214843Z
UID:758-1715799600-1715810400@djdanlinedance.com
SUMMARY:Whitpain Tavern Line Dancing
DESCRIPTION:The 1st and 3rd Wednesday each month we will be line dancing at the Whitpain Tavern! \n7:00 pm to 10:00 pm\n$10 Cover Charge\nALL AGES \nBeginner lessons and open dancing! \nBring your dance requests! \nSee ya there!
URL:https://djdanlinedance.com/event/whitpain-tavern-line-dancing-20240515/
LOCATION:Whitpain Tavern\, 1529 Dekalb Pike\, Blue Bell\, PA\, 19422\, United States
CATEGORIES:Line Dancing
ATTACH;FMTTYPE=image/jpeg:https://djdanlinedance.com/wp-content/uploads/2024/03/758_image_432787611_788012296717129_7839023785716141842_n.jpg
END:VEVENT
BEGIN:VEVENT
DTSTART;TZID=America/New_York:20240517T190000
DTEND;TZID=America/New_York:20240517T220000
DTSTAMP:20260425T124043
CREATED:20240319T213428Z
LAST-MODIFIED:20240319T214909Z
UID:761-1715972400-1715983200@djdanlinedance.com
SUMMARY:Nostalgia 1720 Line Dancing
DESCRIPTION:Welcome to Nostalgia 1720! \nWe’re line dancing from 7-10 PM! \n$10 Cover \nThe ballroom bar will be open throughout the evening. \nSee you there!
URL:https://djdanlinedance.com/event/nostalgia-1720-line-dancing-20240517/
LOCATION:Nostalgia 1720\, 136 E Butler Ave\, Chalfont\, PA\, 18914\, United States
CATEGORIES:Line Dancing
ATTACH;FMTTYPE=image/jpeg:https://djdanlinedance.com/wp-content/uploads/2024/03/761_image_428700113_778917294293296_9209084319365861888_n.jpg
END:VEVENT
BEGIN:VEVENT
DTSTART;TZID=America/New_York:20240519T130000
DTEND;TZID=America/New_York:20240519T170000
DTSTAMP:20260425T124043
CREATED:20240423T201042Z
LAST-MODIFIED:20240514T204054Z
UID:928-1716123600-1716138000@djdanlinedance.com
SUMMARY:Curran's Tacony Country Lunch & Line Dancing
DESCRIPTION:Country lunch & line dancing at Curran’s Tacony on Sunday\, May 19th from 1 PM – 5 PM. \nCover is $20 which includes buffet lunch and line dancing lessons and open dance. \nBuffet menu (included): Meatballs\, Penne alla Vodka\, Caesar salad\, Rolls & Butter \nFull menu & Cash Bar will be available. \nLove photo booths? Make sure you get your turn! It will be $5 for 2 strips of photos. \nSee you there!
URL:https://djdanlinedance.com/event/currans-tacony-country-lunch-line-dancing-20240519/
LOCATION:Curran’s Irish Inn\, 6900 State Road\, Philadelphia\, PA\, 19135\, US
CATEGORIES:Line Dancing
ATTACH;FMTTYPE=image/png:https://djdanlinedance.com/wp-content/uploads/2024/04/Currans-Cover.png
END:VEVENT
BEGIN:VEVENT
DTSTART;TZID=America/New_York:20240521T183000
DTEND;TZID=America/New_York:20240521T223000
DTSTAMP:20260425T124043
CREATED:20240424T164310Z
LAST-MODIFIED:20240424T164612Z
UID:937-1716316200-1716330600@djdanlinedance.com
SUMMARY:Line Dancing at SunnyBrook Ballroom
DESCRIPTION:SoulJoel Presents: \nLine Dancing inside the historic SunnyBrook Ballroom\nInside The Ballroom w/ DJ Dan \nLargest Ballroom East of the Mississippi (14\,000 square feet) \nBeginner lessons 6:30 to 7pm\nOpen Dance 7 to 1030\nFull Bar available. Food available to order from Gatsby’s Pub.\nNo outside food or beverage \nGet tickets here:\nhttps://www.souljoels.com/shop/tickets/linedancingmay21st/ \nAbout DJ Dan: \nDJ for over 20 years\nLine Dancing DJ and instructor for over 4 years. \nAppearances in bars\, clubs and venues in PA and NJ like Rock N Rebel\, Prospectors Dance Venue and the Camden Waterfront Arena for the XTU Anniversary Show!
URL:https://djdanlinedance.com/event/line-dancing-at-sunnybrook-ballroom-20240521/
LOCATION:SoulJoel’s at SunnyBrook\, 50 Sunnybrook Rd\, Pottstown\, PA\, 19464\, United States
CATEGORIES:Line Dancing
ATTACH;FMTTYPE=image/jpeg:https://djdanlinedance.com/wp-content/uploads/2024/04/937_image_438304161_416951564415924_4341146648174285658_n.jpg
END:VEVENT
BEGIN:VEVENT
DTSTART;TZID=America/New_York:20240524T190000
DTEND;TZID=America/New_York:20240524T220000
DTSTAMP:20260425T124043
CREATED:20240404T202546Z
LAST-MODIFIED:20240404T202728Z
UID:833-1716577200-1716588000@djdanlinedance.com
SUMMARY:Keelersville Club Line Dancing
DESCRIPTION:Line Dancing at the Keelersville Club! \n7pm to 10pm \n$5 cover \nLessons\, dancing and always a little something extra! \nSee ya there!
URL:https://djdanlinedance.com/event/keelersville-club-line-dancing-20240524/
LOCATION:Keelersville Club\, 2522 Ridge Rd\, Perkasie\, PA\, 18944\, United States
CATEGORIES:Line Dancing
ATTACH;FMTTYPE=image/jpeg:https://djdanlinedance.com/wp-content/uploads/2024/04/833_image_434850450_799753812209644_4869816059947984299_n.jpg
END:VEVENT
BEGIN:VEVENT
DTSTART;TZID=America/New_York:20240528T183000
DTEND;TZID=America/New_York:20240528T223000
DTSTAMP:20260425T124043
CREATED:20240426T205206Z
LAST-MODIFIED:20240426T205432Z
UID:999-1716921000-1716935400@djdanlinedance.com
SUMMARY:Line Dancing at SunnyBrook Ballroom
DESCRIPTION:SoulJoel Presents: \nLine Dancing at SoulJoel’s at SunnyBrook\nInside the Sunnybrook Ballroom w/ DJ Dan \nBeginner lessons 6:30-7 pm\nOpen Dance 7-1030pm\nFull Bar available. No outside food or beverages \nFood available from Gatsby’s Pub 4 to 11pm \nGet tickets here:\nhttps://www.souljoels.com/shop/tickets/linedancingmay28th/ \nAbout DJ Dan: \nDJ for over 20 years\nLine Dancing DJ and instructor for over 4 years.\nAppearances in bars\, clubs\, and venues in PA and NJ like Rock N Rebel\, Prospectors Dance Venue\, and the Camden Waterfront Arena for the XTU Anniversary Show!!
URL:https://djdanlinedance.com/event/line-dancing-at-sunnybrook-ballroom-20240528/
LOCATION:SoulJoel’s at SunnyBrook\, 50 Sunnybrook Rd\, Pottstown\, PA\, 19464\, United States
CATEGORIES:Line Dancing
ATTACH;FMTTYPE=image/jpeg:https://djdanlinedance.com/wp-content/uploads/2024/04/999_image_438240528_416952744415806_6565978085676159903_n.jpg
END:VEVENT
BEGIN:VEVENT
DTSTART;TZID=America/New_York:20240529T190000
DTEND;TZID=America/New_York:20240529T220000
DTSTAMP:20260425T124043
CREATED:20240328T174025Z
LAST-MODIFIED:20240517T164702Z
UID:812-1717009200-1717020000@djdanlinedance.com
SUMMARY:Whitpain Tavern Line Dancing
DESCRIPTION:It’s the 5th Wednesday of the month and we’ve got a surprise for you! A bonus week of Line Dancing! \nBring your friends\, get some great food and drink and learn some dances along the way! \n7:00 pm to 10:00 pm\n$10 Cover Charge\nALL AGES
URL:https://djdanlinedance.com/event/whitpain-tavern-line-dancing-20240529/
LOCATION:Whitpain Tavern\, 1529 Dekalb Pike\, Blue Bell\, PA\, 19422\, United States
CATEGORIES:Line Dancing
ATTACH;FMTTYPE=image/jpeg:https://djdanlinedance.com/wp-content/uploads/2024/04/962_image_438097247_810938751091150_5317721587812330826_n.jpg
END:VEVENT
BEGIN:VEVENT
DTSTART;TZID=America/New_York:20240531T190000
DTEND;TZID=America/New_York:20240531T230000
DTSTAMP:20260425T124043
CREATED:20240419T182336Z
LAST-MODIFIED:20240517T165921Z
UID:923-1717182000-1717196400@djdanlinedance.com
SUMMARY:Special Event: Line Dancing Friday inside SunnyBrook Ballroom
DESCRIPTION:SoulJoel Presents \nSpecial Event: Line Dancing Friday at SoulJoel’s at SunnyBrook\ninside the Sunnybrook Ballroom w/ DJ Dan \n Special Announcement WXTU 92.5 will be on hand \nBeginner lessons 7 to 8pm\nOpen Dance 8pm to 11pm Full Bar available. Bring your Own Food \nTickets are $10 in advance and $15 at the door\nGet tickets here: https://www.souljoels.com/shop/tickets/linedancingmay31st/ \nAbout DJ Dan:\nDJ for over 20 years\nLine Dancing DJ and instructor for over 4 years.\nAppearances in bars\, clubs and venues in PA and NJ like Rock N Rebel\, Prospectors Dance Venue and the Camden Waterfront Arena for the XTU Anniversary Show!
URL:https://djdanlinedance.com/event/special-event-line-dancing-friday-inside-sunnybrook-ballroom-20240531/
CATEGORIES:Line Dancing
ATTACH;FMTTYPE=image/png:https://djdanlinedance.com/wp-content/uploads/2024/04/20240531-Cover.png
END:VEVENT
END:VCALENDAR