BEGIN:VCALENDAR
VERSION:2.0
PRODID:-//DJ Dan Line Dance - ECPv6.15.20//NONSGML v1.0//EN
CALSCALE:GREGORIAN
METHOD:PUBLISH
X-ORIGINAL-URL:https://djdanlinedance.com
X-WR-CALDESC:Events for DJ Dan Line Dance
REFRESH-INTERVAL;VALUE=DURATION:PT1H
X-Robots-Tag:noindex
X-PUBLISHED-TTL:PT1H
BEGIN:VTIMEZONE
TZID:America/New_York
BEGIN:DAYLIGHT
TZOFFSETFROM:-0500
TZOFFSETTO:-0400
TZNAME:EDT
DTSTART:20250309T070000
END:DAYLIGHT
BEGIN:STANDARD
TZOFFSETFROM:-0400
TZOFFSETTO:-0500
TZNAME:EST
DTSTART:20251102T060000
END:STANDARD
BEGIN:DAYLIGHT
TZOFFSETFROM:-0500
TZOFFSETTO:-0400
TZNAME:EDT
DTSTART:20260308T070000
END:DAYLIGHT
BEGIN:STANDARD
TZOFFSETFROM:-0400
TZOFFSETTO:-0500
TZNAME:EST
DTSTART:20261101T060000
END:STANDARD
BEGIN:DAYLIGHT
TZOFFSETFROM:-0500
TZOFFSETTO:-0400
TZNAME:EDT
DTSTART:20270314T070000
END:DAYLIGHT
BEGIN:STANDARD
TZOFFSETFROM:-0400
TZOFFSETTO:-0500
TZNAME:EST
DTSTART:20271107T060000
END:STANDARD
END:VTIMEZONE
BEGIN:VEVENT
DTSTART;TZID=America/New_York:20260417T190000
DTEND;TZID=America/New_York:20260417T210000
DTSTAMP:20260423T160920
CREATED:20260325T180115Z
LAST-MODIFIED:20260325T180115Z
UID:3103-1776452400-1776459600@djdanlinedance.com
SUMMARY:Line Dancing @ Brothers Kershner Brewing Co.
DESCRIPTION:BROTHERS KERSHNER BREWING CO PRESENTS: \nCountry Line Dancing is BACK! \nPut on your favorite boots and hit the dance floor! \nJoin DJ Dan for a pumped night full of line dancing fun! His show is perfect for ALL line dancers both beginners and experienced alike!\nno experience needed\, just show up\, step in\, and have fun \nFriday\, April 10th\n7pm til 9pm \nBROTHERSKERSHNER.COM
URL:https://djdanlinedance.com/event/20260417/
LOCATION:Brothers Kershner Brewing Co.\, 4119 Skippack Pike\, Skippack\, PA\, 19474\, United States
CATEGORIES:Line Dancing
ATTACH;FMTTYPE=image/png:https://djdanlinedance.com/wp-content/uploads/2026/03/20260417-Brothers-Kershner-Brewing-Co.png
END:VEVENT
END:VCALENDAR