BEGIN:VCALENDAR
VERSION:2.0
PRODID:-//DJ Dan Line Dance - ECPv6.15.20//NONSGML v1.0//EN
CALSCALE:GREGORIAN
METHOD:PUBLISH
X-WR-CALNAME:DJ Dan Line Dance
X-ORIGINAL-URL:https://djdanlinedance.com
X-WR-CALDESC:Events for DJ Dan Line Dance
REFRESH-INTERVAL;VALUE=DURATION:PT1H
X-Robots-Tag:noindex
X-PUBLISHED-TTL:PT1H
BEGIN:VTIMEZONE
TZID:America/New_York
BEGIN:DAYLIGHT
TZOFFSETFROM:-0500
TZOFFSETTO:-0400
TZNAME:EDT
DTSTART:20240310T070000
END:DAYLIGHT
BEGIN:STANDARD
TZOFFSETFROM:-0400
TZOFFSETTO:-0500
TZNAME:EST
DTSTART:20241103T060000
END:STANDARD
BEGIN:DAYLIGHT
TZOFFSETFROM:-0500
TZOFFSETTO:-0400
TZNAME:EDT
DTSTART:20250309T070000
END:DAYLIGHT
BEGIN:STANDARD
TZOFFSETFROM:-0400
TZOFFSETTO:-0500
TZNAME:EST
DTSTART:20251102T060000
END:STANDARD
BEGIN:DAYLIGHT
TZOFFSETFROM:-0500
TZOFFSETTO:-0400
TZNAME:EDT
DTSTART:20260308T070000
END:DAYLIGHT
BEGIN:STANDARD
TZOFFSETFROM:-0400
TZOFFSETTO:-0500
TZNAME:EST
DTSTART:20261101T060000
END:STANDARD
END:VTIMEZONE
BEGIN:VEVENT
DTSTART;TZID=America/New_York:20250919T180000
DTEND;TZID=America/New_York:20250919T230000
DTSTAMP:20260424T094256
CREATED:20250826T165337Z
LAST-MODIFIED:20250826T165337Z
UID:2446-1758304800-1758322800@djdanlinedance.com
SUMMARY:Special Friday Line Dancing inside SunnyBrook Ballroom
DESCRIPTION:SoulJoel Presents:\nLine Dancing inside the SunnyBrook Ballroom w/ DJ Dan (Largest Ballroom East of the Mississippi 14\,000 square feet)\nONLY $10 in advance and $15 at the door\n\nBeginner lessons 6 to 7 pmOpen Dance 7 to 11 pmFull Bar available. Food available to order from Gatsby’s Pub.No outside food or beverage\nFREE PARKING!\nGet tickets here:https://souljoels.com/shop/tickets/fridaylinedanceseptember/\n\nAbout DJ Dan:\nDJ for over 20 yearsLine Dancing DJ and instructor for over 4 years.\nAppearances in bars\, clubs and venues in PA and NJ like Rock N Rebel\, Prospectors Dance Venue and the Camden Waterfront Arena for the XTU Anniversary Show!
URL:https://djdanlinedance.com/event/20250919/
LOCATION:SoulJoel’s at Sunnybrook*\, 50 Sunnybrook Road\, Pottstown\, PA\, 19464
CATEGORIES:Line Dancing
ATTACH;FMTTYPE=image/jpeg:https://djdanlinedance.com/wp-content/uploads/2025/08/3rd-Friday-Cover.jpg
END:VEVENT
END:VCALENDAR