BEGIN:VCALENDAR
VERSION:2.0
PRODID:-//DJ Dan Line Dance - ECPv6.15.20//NONSGML v1.0//EN
CALSCALE:GREGORIAN
METHOD:PUBLISH
X-ORIGINAL-URL:https://djdanlinedance.com
X-WR-CALDESC:Events for DJ Dan Line Dance
REFRESH-INTERVAL;VALUE=DURATION:PT1H
X-Robots-Tag:noindex
X-PUBLISHED-TTL:PT1H
BEGIN:VTIMEZONE
TZID:America/New_York
BEGIN:DAYLIGHT
TZOFFSETFROM:-0500
TZOFFSETTO:-0400
TZNAME:EDT
DTSTART:20230312T070000
END:DAYLIGHT
BEGIN:STANDARD
TZOFFSETFROM:-0400
TZOFFSETTO:-0500
TZNAME:EST
DTSTART:20231105T060000
END:STANDARD
BEGIN:DAYLIGHT
TZOFFSETFROM:-0500
TZOFFSETTO:-0400
TZNAME:EDT
DTSTART:20240310T070000
END:DAYLIGHT
BEGIN:STANDARD
TZOFFSETFROM:-0400
TZOFFSETTO:-0500
TZNAME:EST
DTSTART:20241103T060000
END:STANDARD
BEGIN:DAYLIGHT
TZOFFSETFROM:-0500
TZOFFSETTO:-0400
TZNAME:EDT
DTSTART:20250309T070000
END:DAYLIGHT
BEGIN:STANDARD
TZOFFSETFROM:-0400
TZOFFSETTO:-0500
TZNAME:EST
DTSTART:20251102T060000
END:STANDARD
END:VTIMEZONE
BEGIN:VEVENT
DTSTART;TZID=America/New_York:20241101T190000
DTEND;TZID=America/New_York:20241101T220000
DTSTAMP:20260425T105342
CREATED:20241009T181118Z
LAST-MODIFIED:20241009T182033Z
UID:1543-1730487600-1730498400@djdanlinedance.com
SUMMARY:Nostalgia 1720 Line Dancing
DESCRIPTION:Welcome to Nostalgia 1720! \nWe’re line dancing from 7-10 PM!\nWe’ll also be having a costume contest – let’s see all your creativity! \n$10 Cover \nNo outside food or drink may be brought on premises.\nFood and Drink is available for purchase at the venue. \nSee you there!
URL:https://djdanlinedance.com/event/nostalgia-1720-line-dancing-20241101/
LOCATION:Nostalgia 1720\, 136 E Butler Ave\, Chalfont\, PA\, 18914\, United States
CATEGORIES:Line Dancing
ATTACH;FMTTYPE=image/jpeg:https://djdanlinedance.com/wp-content/uploads/2024/10/1543_image_462000381_915882810596743_4334923599900922432_n.jpg
END:VEVENT
END:VCALENDAR