BEGIN:VCALENDAR
VERSION:2.0
PRODID:-//DJ Dan Line Dance - ECPv6.15.20//NONSGML v1.0//EN
CALSCALE:GREGORIAN
METHOD:PUBLISH
X-ORIGINAL-URL:https://djdanlinedance.com
X-WR-CALDESC:Events for DJ Dan Line Dance
REFRESH-INTERVAL;VALUE=DURATION:PT1H
X-Robots-Tag:noindex
X-PUBLISHED-TTL:PT1H
BEGIN:VTIMEZONE
TZID:America/New_York
BEGIN:DAYLIGHT
TZOFFSETFROM:-0500
TZOFFSETTO:-0400
TZNAME:EDT
DTSTART:20230312T070000
END:DAYLIGHT
BEGIN:STANDARD
TZOFFSETFROM:-0400
TZOFFSETTO:-0500
TZNAME:EST
DTSTART:20231105T060000
END:STANDARD
BEGIN:DAYLIGHT
TZOFFSETFROM:-0500
TZOFFSETTO:-0400
TZNAME:EDT
DTSTART:20240310T070000
END:DAYLIGHT
BEGIN:STANDARD
TZOFFSETFROM:-0400
TZOFFSETTO:-0500
TZNAME:EST
DTSTART:20241103T060000
END:STANDARD
BEGIN:DAYLIGHT
TZOFFSETFROM:-0500
TZOFFSETTO:-0400
TZNAME:EDT
DTSTART:20250309T070000
END:DAYLIGHT
BEGIN:STANDARD
TZOFFSETFROM:-0400
TZOFFSETTO:-0500
TZNAME:EST
DTSTART:20251102T060000
END:STANDARD
END:VTIMEZONE
BEGIN:VEVENT
DTSTART;TZID=America/New_York:20241129T180000
DTEND;TZID=America/New_York:20241129T230000
DTSTAMP:20260425T062721
CREATED:20241009T181108Z
LAST-MODIFIED:20241121T165024Z
UID:1537-1732903200-1732921200@djdanlinedance.com
SUMMARY:Special Event: Line Dancing Friday inside SunnyBrook Ballroom
DESCRIPTION:SoulJoel Presents\n\nFriday Line Dancing with DJ Dan\n\nBeginner lessons 6 to 7pmOpen Dance 7pm to 11pm Full Bar available. Order food from Gatsby’s Pub at the bar to be delivered directly to your table!\n\nTickets are $10 in advance and $15 at the doorGet tickets here: https://www.souljoels.com/…/fridaylinedancingnovember/\n\nAbout DJ Dan:DJ for over 20 yearsLine Dancing DJ and instructor for over 4 years.Appearances in bars\, clubs and venues in PA and NJ like Rock N Rebel\, Prospectors Dance Venue and the Camden Waterfront Arena for the XTU Anniversary Show!
URL:https://djdanlinedance.com/event/special-event-line-dancing-friday-inside-sunnybrook-ballroom-20241129/
CATEGORIES:Line Dancing
ATTACH;FMTTYPE=image/png:https://djdanlinedance.com/wp-content/uploads/2024/10/20241129-Cover.png
END:VEVENT
END:VCALENDAR