BEGIN:VCALENDAR
VERSION:2.0
PRODID:-//DJ Dan Line Dance - ECPv6.15.20//NONSGML v1.0//EN
CALSCALE:GREGORIAN
METHOD:PUBLISH
X-WR-CALNAME:DJ Dan Line Dance
X-ORIGINAL-URL:https://djdanlinedance.com
X-WR-CALDESC:Events for DJ Dan Line Dance
REFRESH-INTERVAL;VALUE=DURATION:PT1H
X-Robots-Tag:noindex
X-PUBLISHED-TTL:PT1H
BEGIN:VTIMEZONE
TZID:America/New_York
BEGIN:DAYLIGHT
TZOFFSETFROM:-0500
TZOFFSETTO:-0400
TZNAME:EDT
DTSTART:20240310T070000
END:DAYLIGHT
BEGIN:STANDARD
TZOFFSETFROM:-0400
TZOFFSETTO:-0500
TZNAME:EST
DTSTART:20241103T060000
END:STANDARD
BEGIN:DAYLIGHT
TZOFFSETFROM:-0500
TZOFFSETTO:-0400
TZNAME:EDT
DTSTART:20250309T070000
END:DAYLIGHT
BEGIN:STANDARD
TZOFFSETFROM:-0400
TZOFFSETTO:-0500
TZNAME:EST
DTSTART:20251102T060000
END:STANDARD
BEGIN:DAYLIGHT
TZOFFSETFROM:-0500
TZOFFSETTO:-0400
TZNAME:EDT
DTSTART:20260308T070000
END:DAYLIGHT
BEGIN:STANDARD
TZOFFSETFROM:-0400
TZOFFSETTO:-0500
TZNAME:EST
DTSTART:20261101T060000
END:STANDARD
END:VTIMEZONE
BEGIN:VEVENT
DTSTART;TZID=America/New_York:20250405T190000
DTEND;TZID=America/New_York:20250405T220000
DTSTAMP:20260424T115042
CREATED:20250302T074511Z
LAST-MODIFIED:20250302T075335Z
UID:1973-1743879600-1743890400@djdanlinedance.com
SUMMARY:Hausman Fruit Farm Line Dancing
DESCRIPTION:👢 Line Dancing at Hausman’s Fruit Farm 👢 \nBring the whole family and join us for Line Dancing on the 1st Saturday of every month! \n📍 Location: Hausman’s Fruit Farm\, 2822 Limeport Pike\, Coopersburg\, PA 18036\n🕖 Time: 7:00 PM – 10:00 PM\n📅 When: 1st Saturday of every month\n💲 Cover: $5 per person \nLight snacks and refreshments will be available for purchase throughout the evening. \nSee you on the dance floor! 🎶💃
URL:https://djdanlinedance.com/event/hausman-fruit-farm-line-dancing-20250405/
LOCATION:Hausman’s Fruit Farm\, 2822 Limeport Pike\, Coopersburg\, PA\, 18036\, United States
CATEGORIES:Line Dancing
ATTACH;FMTTYPE=image/jpeg:https://djdanlinedance.com/wp-content/uploads/2025/03/1973_image_480945223_1017813527070337_5279357285814557254_n.jpg
END:VEVENT
END:VCALENDAR