BEGIN:VCALENDAR
VERSION:2.0
PRODID:-//DJ Dan Line Dance - ECPv6.15.20//NONSGML v1.0//EN
CALSCALE:GREGORIAN
METHOD:PUBLISH
X-WR-CALNAME:DJ Dan Line Dance
X-ORIGINAL-URL:https://djdanlinedance.com
X-WR-CALDESC:Events for DJ Dan Line Dance
REFRESH-INTERVAL;VALUE=DURATION:PT1H
X-Robots-Tag:noindex
X-PUBLISHED-TTL:PT1H
BEGIN:VTIMEZONE
TZID:America/New_York
BEGIN:DAYLIGHT
TZOFFSETFROM:-0500
TZOFFSETTO:-0400
TZNAME:EDT
DTSTART:20240310T070000
END:DAYLIGHT
BEGIN:STANDARD
TZOFFSETFROM:-0400
TZOFFSETTO:-0500
TZNAME:EST
DTSTART:20241103T060000
END:STANDARD
BEGIN:DAYLIGHT
TZOFFSETFROM:-0500
TZOFFSETTO:-0400
TZNAME:EDT
DTSTART:20250309T070000
END:DAYLIGHT
BEGIN:STANDARD
TZOFFSETFROM:-0400
TZOFFSETTO:-0500
TZNAME:EST
DTSTART:20251102T060000
END:STANDARD
BEGIN:DAYLIGHT
TZOFFSETFROM:-0500
TZOFFSETTO:-0400
TZNAME:EDT
DTSTART:20260308T070000
END:DAYLIGHT
BEGIN:STANDARD
TZOFFSETFROM:-0400
TZOFFSETTO:-0500
TZNAME:EST
DTSTART:20261101T060000
END:STANDARD
END:VTIMEZONE
BEGIN:VEVENT
DTSTART;TZID=America/New_York:20250503T190000
DTEND;TZID=America/New_York:20250503T190000
DTSTAMP:20260424T094338
CREATED:20250321T143049Z
LAST-MODIFIED:20250321T143808Z
UID:2057-1746298800-1746298800@djdanlinedance.com
SUMMARY:Country Line Dancing - May 3rd
DESCRIPTION:🕺💃 Join us for Line Dancing at Crossroads Fellowship Church on Saturday May 3rd!\n⏰ Time: 7:00 PM – 9:00 PM\n📍 Venue: Crossroads Fellowship Chuch\n1404 North Hills Ave Willow Grove\, PA 19090 \n✨ Cover: $10 per person prepaid; $12 at the door\n🍽️ Food and drinks available for purchase on-site!\n🚫 No outside food or drink allowed. \nGrab your friends and come make memories on the dance floor!\n👉 Mark your calendar! See you there! 🎉
URL:https://djdanlinedance.com/event/country-line-dancing-may-3rd-2025/
LOCATION:Crossroads Fellowship Church\, 1404 N Hills Ave\, Willow Grove\, PA\, 19090
CATEGORIES:Line Dancing
ATTACH;FMTTYPE=image/jpeg:https://djdanlinedance.com/wp-content/uploads/2025/03/2057_image_480940445_1063242629182148_3910925994126265256_n.jpg
END:VEVENT
END:VCALENDAR