BEGIN:VCALENDAR
VERSION:2.0
PRODID:-//DJ Dan Line Dance - ECPv6.15.20//NONSGML v1.0//EN
CALSCALE:GREGORIAN
METHOD:PUBLISH
X-ORIGINAL-URL:https://djdanlinedance.com
X-WR-CALDESC:Events for DJ Dan Line Dance
REFRESH-INTERVAL;VALUE=DURATION:PT1H
X-Robots-Tag:noindex
X-PUBLISHED-TTL:PT1H
BEGIN:VTIMEZONE
TZID:America/New_York
BEGIN:DAYLIGHT
TZOFFSETFROM:-0500
TZOFFSETTO:-0400
TZNAME:EDT
DTSTART:20240310T070000
END:DAYLIGHT
BEGIN:STANDARD
TZOFFSETFROM:-0400
TZOFFSETTO:-0500
TZNAME:EST
DTSTART:20241103T060000
END:STANDARD
BEGIN:DAYLIGHT
TZOFFSETFROM:-0500
TZOFFSETTO:-0400
TZNAME:EDT
DTSTART:20250309T070000
END:DAYLIGHT
BEGIN:STANDARD
TZOFFSETFROM:-0400
TZOFFSETTO:-0500
TZNAME:EST
DTSTART:20251102T060000
END:STANDARD
BEGIN:DAYLIGHT
TZOFFSETFROM:-0500
TZOFFSETTO:-0400
TZNAME:EDT
DTSTART:20260308T070000
END:DAYLIGHT
BEGIN:STANDARD
TZOFFSETFROM:-0400
TZOFFSETTO:-0500
TZNAME:EST
DTSTART:20261101T060000
END:STANDARD
END:VTIMEZONE
BEGIN:VEVENT
DTSTART;TZID=America/New_York:20250620T180000
DTEND;TZID=America/New_York:20250620T180000
DTSTAMP:20260424T080220
CREATED:20250602T193622Z
LAST-MODIFIED:20250619T210506Z
UID:2194-1750442400-1750442400@djdanlinedance.com
SUMMARY:Special Friday Line Dancing at SunnyBrook inside The Social House (Outdoor Barn)
DESCRIPTION:SoulJoel Presents: \nSpecial Friday Line Dancing at SunnyBrook inside The Social House (Outdoor Barn) \nw/ DJ Dan $10 in advance and $15 at the door\nBeginner lessons 6-7 pm\nOpen Dance 7-11 pm\n5 hours of dancing!!\nFull Bar available. Food Available from Gatsby’s Pub 4pm until 11pm\nNo outside food or beverages\n$1 bottles of water for sale\nFREE PARKING \nGet tickets here:\nhttps://souljoels.com/shop/tickets/fridaylinedancingjune20th/ \nAbout DJ Dan: \nDJ for over 20 years\nLine Dancing DJ and instructor for over 4 years.\nAppearances in bars\, clubs\, and venues in PA and NJ like Rock N Rebel\, Prospectors Dance Venue\, and the Camden Waterfront Arena for the XTU Anniversary Show!
URL:https://djdanlinedance.com/event/20250620/
LOCATION:SoulJoel’s at Sunnybrook*\, 50 Sunnybrook Road\, Pottstown\, PA\, 19464
ATTACH;FMTTYPE=image/png:https://djdanlinedance.com/wp-content/uploads/2025/06/20250620-Post.png
END:VEVENT
END:VCALENDAR