BEGIN:VCALENDAR
VERSION:2.0
PRODID:-//DJ Dan Line Dance - ECPv6.15.20//NONSGML v1.0//EN
CALSCALE:GREGORIAN
METHOD:PUBLISH
X-WR-CALNAME:DJ Dan Line Dance
X-ORIGINAL-URL:https://djdanlinedance.com
X-WR-CALDESC:Events for DJ Dan Line Dance
REFRESH-INTERVAL;VALUE=DURATION:PT1H
X-Robots-Tag:noindex
X-PUBLISHED-TTL:PT1H
BEGIN:VTIMEZONE
TZID:America/New_York
BEGIN:DAYLIGHT
TZOFFSETFROM:-0500
TZOFFSETTO:-0400
TZNAME:EDT
DTSTART:20250309T070000
END:DAYLIGHT
BEGIN:STANDARD
TZOFFSETFROM:-0400
TZOFFSETTO:-0500
TZNAME:EST
DTSTART:20251102T060000
END:STANDARD
BEGIN:DAYLIGHT
TZOFFSETFROM:-0500
TZOFFSETTO:-0400
TZNAME:EDT
DTSTART:20260308T070000
END:DAYLIGHT
BEGIN:STANDARD
TZOFFSETFROM:-0400
TZOFFSETTO:-0500
TZNAME:EST
DTSTART:20261101T060000
END:STANDARD
BEGIN:DAYLIGHT
TZOFFSETFROM:-0500
TZOFFSETTO:-0400
TZNAME:EDT
DTSTART:20270314T070000
END:DAYLIGHT
BEGIN:STANDARD
TZOFFSETFROM:-0400
TZOFFSETTO:-0500
TZNAME:EST
DTSTART:20271107T060000
END:STANDARD
END:VTIMEZONE
BEGIN:VEVENT
DTSTART;TZID=America/New_York:20260304T190000
DTEND;TZID=America/New_York:20260304T190000
DTSTAMP:20260423T181212
CREATED:20260130T215614Z
LAST-MODIFIED:20260204T164857Z
UID:2929-1772650800-1772650800@djdanlinedance.com
SUMMARY:Trivia Night @ Whitpain Tavern
DESCRIPTION:Put your knowledge to the test and bring your crew out for Trivia Night at The Whitpain Tavern! \nJoin DJ Dan Line Dance every other Wednesday for a fun\, fast-paced night of trivia\, laughs\, and friendly competition. \n📍 The Whitpain Tavern\n1529 Dekalb Pike\, Blue Bell\, PA 19422 \n🕖 7:00 PM\n💵 Free to play! \nEnjoy great food\, drinks\, and a lively atmosphere while you battle it out for bragging rights. This midweek event is the perfect way to unwind. \nGrab your team and come out for a great night of brain-teasing fun! 🧠🍻✨
URL:https://djdanlinedance.com/event/20260304/
LOCATION:Whitpain Tavern\, 1529 Dekalb Pike\, Blue Bell\, PA\, 19422\, United States
CATEGORIES:Trivia
ATTACH;FMTTYPE=image/jpeg:https://djdanlinedance.com/wp-content/uploads/2026/01/2929_image_624546012_10231912171163017_6786437671447426972_n.jpg
END:VEVENT
BEGIN:VEVENT
DTSTART;TZID=America/New_York:20260311T190000
DTEND;TZID=America/New_York:20260311T190000
DTSTAMP:20260423T181212
CREATED:20260130T215617Z
LAST-MODIFIED:20260204T165255Z
UID:2931-1773255600-1773255600@djdanlinedance.com
SUMMARY:Music Bingo @ Whitpain Tavern
DESCRIPTION:Get ready to sing and win at Music Bingo at The Whitpain Tavern!\nJoin DJ Dan Line Dance every other Wednesday for a lively night where your favorite songs become your bingo cards. \n📍 The Whitpain Tavern\n1529 Dekalb Pike\, Blue Bell\, PA 19422 \n🕖 7:00 PM\n💵 Free to play! \nTest your music knowledge\, enjoy great drinks\, and have a blast with friends. This event is all about fun\, music\, and prizes! 🎶🎉📝
URL:https://djdanlinedance.com/event/20260311/
LOCATION:Whitpain Tavern\, 1529 Dekalb Pike\, Blue Bell\, PA\, 19422\, United States
CATEGORIES:Music Bingo
ATTACH;FMTTYPE=image/jpeg:https://djdanlinedance.com/wp-content/uploads/2026/01/2931_image_624439676_10231912152682555_17256760162787162_n.jpg
END:VEVENT
BEGIN:VEVENT
DTSTART;TZID=America/New_York:20260318T190000
DTEND;TZID=America/New_York:20260318T190000
DTSTAMP:20260423T181212
CREATED:20260130T215621Z
LAST-MODIFIED:20260204T164930Z
UID:2933-1773860400-1773860400@djdanlinedance.com
SUMMARY:Trivia Night @ Whitpain Tavern
DESCRIPTION:Put your knowledge to the test and bring your crew out for Trivia Night at The Whitpain Tavern! \nJoin DJ Dan Line Dance every other Wednesday for a fun\, fast-paced night of trivia\, laughs\, and friendly competition. \n📍 The Whitpain Tavern\n1529 Dekalb Pike\, Blue Bell\, PA 19422 \n🕖 7:00 PM\n💵 Free to play! \nEnjoy great food\, drinks\, and a lively atmosphere while you battle it out for bragging rights. This midweek event is the perfect way to unwind. \nGrab your team and come out for a great night of brain-teasing fun! 🧠🍻✨
URL:https://djdanlinedance.com/event/20260318/
LOCATION:Whitpain Tavern\, 1529 Dekalb Pike\, Blue Bell\, PA\, 19422\, United States
CATEGORIES:Trivia
ATTACH;FMTTYPE=image/jpeg:https://djdanlinedance.com/wp-content/uploads/2026/01/2933_image_625267238_10231912178923211_5229863226453578908_n.jpg
END:VEVENT
BEGIN:VEVENT
DTSTART;TZID=America/New_York:20260325T190000
DTEND;TZID=America/New_York:20260325T190000
DTSTAMP:20260423T181212
CREATED:20260130T215625Z
LAST-MODIFIED:20260204T165253Z
UID:2935-1774465200-1774465200@djdanlinedance.com
SUMMARY:Music Bingo @ Whitpain Tavern
DESCRIPTION:Get ready to sing and win at Music Bingo at The Whitpain Tavern!\nJoin DJ Dan Line Dance every other Wednesday for a lively night where your favorite songs become your bingo cards. \n📍 The Whitpain Tavern\n1529 Dekalb Pike\, Blue Bell\, PA 19422 \n🕖 7:00 PM\n💵 Free to play! \nTest your music knowledge\, enjoy great drinks\, and have a blast with friends. This event is all about fun\, music\, and prizes! 🎶🎉📝
URL:https://djdanlinedance.com/event/20260325/
LOCATION:Whitpain Tavern\, 1529 Dekalb Pike\, Blue Bell\, PA\, 19422\, United States
CATEGORIES:Music Bingo
ATTACH;FMTTYPE=image/jpeg:https://djdanlinedance.com/wp-content/uploads/2026/01/2935_image_625404180_10231912159122716_6437131066950401904_n.jpg
END:VEVENT
END:VCALENDAR