BEGIN:VCALENDAR
VERSION:2.0
PRODID:-//DJ Dan Line Dance - ECPv6.15.20//NONSGML v1.0//EN
CALSCALE:GREGORIAN
METHOD:PUBLISH
X-WR-CALNAME:DJ Dan Line Dance
X-ORIGINAL-URL:https://djdanlinedance.com
X-WR-CALDESC:Events for DJ Dan Line Dance
REFRESH-INTERVAL;VALUE=DURATION:PT1H
X-Robots-Tag:noindex
X-PUBLISHED-TTL:PT1H
BEGIN:VTIMEZONE
TZID:America/New_York
BEGIN:DAYLIGHT
TZOFFSETFROM:-0500
TZOFFSETTO:-0400
TZNAME:EDT
DTSTART:20240310T070000
END:DAYLIGHT
BEGIN:STANDARD
TZOFFSETFROM:-0400
TZOFFSETTO:-0500
TZNAME:EST
DTSTART:20241103T060000
END:STANDARD
BEGIN:DAYLIGHT
TZOFFSETFROM:-0500
TZOFFSETTO:-0400
TZNAME:EDT
DTSTART:20250309T070000
END:DAYLIGHT
BEGIN:STANDARD
TZOFFSETFROM:-0400
TZOFFSETTO:-0500
TZNAME:EST
DTSTART:20251102T060000
END:STANDARD
BEGIN:DAYLIGHT
TZOFFSETFROM:-0500
TZOFFSETTO:-0400
TZNAME:EDT
DTSTART:20260308T070000
END:DAYLIGHT
BEGIN:STANDARD
TZOFFSETFROM:-0400
TZOFFSETTO:-0500
TZNAME:EST
DTSTART:20261101T060000
END:STANDARD
END:VTIMEZONE
BEGIN:VEVENT
DTSTART;TZID=America/New_York:20251031T190000
DTEND;TZID=America/New_York:20251031T230000
DTSTAMP:20260424T062312
CREATED:20251016T175507Z
LAST-MODIFIED:20251018T202429Z
UID:2594-1761937200-1761951600@djdanlinedance.com
SUMMARY:Nostalgia 1720 Line Dancing
DESCRIPTION:🎃👻 Halloween Line Dancing Party at Nostalgia 1720! 👻🎃 \nJoin DJ Dan Line Dance for a ‘spooktacular’ Halloween celebration filled with great music\, dancing\, and plenty of festive fun for everyone! 💃🕺 \n📅 Friday\, October 31\, 2025\n⏰ 7:00 PM – 11:00 PM\n📍 Nostalgia 1720\, 136 E Butler Ave\, Chalfont\, PA 18914 \n💵 $10 Cover | All Ages Welcome\n🍹 Drink Specials all night long (🚫 No outside beverages permitted)\n🍔 Food Menu featuring light fare available for purchase \n🧛 Costume Contest & Prizes – Show off your best spooky\, funny\, or creative costumes! \nBring your friends\, wear your best costume\, and dance all night with us! 🎶 \n👉 Mark your calendar! See you there!
URL:https://djdanlinedance.com/event/20251031/
LOCATION:Nostalgia 1720\, 136 E Butler Ave\, Chalfont\, PA\, 18914\, United States
CATEGORIES:Line Dancing
ATTACH;FMTTYPE=image/jpeg:https://djdanlinedance.com/wp-content/uploads/2025/10/2594_image_565168377_1194427202742301_8137048909751425949_n.jpg
END:VEVENT
END:VCALENDAR