BEGIN:VCALENDAR
VERSION:2.0
PRODID:-//DJ Dan Line Dance - ECPv6.15.20//NONSGML v1.0//EN
CALSCALE:GREGORIAN
METHOD:PUBLISH
X-ORIGINAL-URL:https://djdanlinedance.com
X-WR-CALDESC:Events for DJ Dan Line Dance
REFRESH-INTERVAL;VALUE=DURATION:PT1H
X-Robots-Tag:noindex
X-PUBLISHED-TTL:PT1H
BEGIN:VTIMEZONE
TZID:America/New_York
BEGIN:DAYLIGHT
TZOFFSETFROM:-0500
TZOFFSETTO:-0400
TZNAME:EDT
DTSTART:20250309T070000
END:DAYLIGHT
BEGIN:STANDARD
TZOFFSETFROM:-0400
TZOFFSETTO:-0500
TZNAME:EST
DTSTART:20251102T060000
END:STANDARD
BEGIN:DAYLIGHT
TZOFFSETFROM:-0500
TZOFFSETTO:-0400
TZNAME:EDT
DTSTART:20260308T070000
END:DAYLIGHT
BEGIN:STANDARD
TZOFFSETFROM:-0400
TZOFFSETTO:-0500
TZNAME:EST
DTSTART:20261101T060000
END:STANDARD
BEGIN:DAYLIGHT
TZOFFSETFROM:-0500
TZOFFSETTO:-0400
TZNAME:EDT
DTSTART:20270314T070000
END:DAYLIGHT
BEGIN:STANDARD
TZOFFSETFROM:-0400
TZOFFSETTO:-0500
TZNAME:EST
DTSTART:20271107T060000
END:STANDARD
END:VTIMEZONE
BEGIN:VEVENT
DTSTART;TZID=America/New_York:20260220T180000
DTEND;TZID=America/New_York:20260220T230000
DTSTAMP:20260423T192604
CREATED:20260130T173206Z
LAST-MODIFIED:20260130T173206Z
UID:2914-1771610400-1771628400@djdanlinedance.com
SUMMARY:Friday Night Line Dancing with WXTU 92.5
DESCRIPTION:SoulJoel Presents:\n\nFriday Night Line Dancing with WXTU 92.5 at SunnyBrook WXTU will be on hand giving away prizes with XTU on air personality Jeff Kurkjain\n\nFriday February 20th\, 2026ONLY $10 in advance and $15 at the doorGet tickets here:https://souljoels.com/shop/tickets/fridaylinedancingxtu/ ‎\n\nBeginner lessons 6 to 7pmOpen Dance 7 to 11pmFull Bar available. Food available to order from Gatsby’s Pub until 9pmNo outside food or beverage\n\nFREE PARKING!\n\nThe only purchase condition we have is that all tickets are non-refundable. All sales are final.\n\nAbout DJ Dan:\nDJ for over 20 yearsLine Dancing DJ and instructor for over 4 years.\nAppearances in bars\, clubs and venues in PA and NJ like Rock N Rebel\, Prospectors Dance Venue and the Camden Waterfront Arena for the XTU Anniversary Show!
URL:https://djdanlinedance.com/event/20260220/
LOCATION:SoulJoel’s at Sunnybrook*\, 50 Sunnybrook Road\, Pottstown\, PA\, 19464
CATEGORIES:Line Dancing
ATTACH;FMTTYPE=image/jpeg:https://djdanlinedance.com/wp-content/uploads/2026/01/20260220-Cover.jpg
END:VEVENT
END:VCALENDAR