BEGIN:VCALENDAR
VERSION:2.0
PRODID:-//DJ Dan Line Dance - ECPv6.15.20//NONSGML v1.0//EN
CALSCALE:GREGORIAN
METHOD:PUBLISH
X-ORIGINAL-URL:https://djdanlinedance.com
X-WR-CALDESC:Events for DJ Dan Line Dance
REFRESH-INTERVAL;VALUE=DURATION:PT1H
X-Robots-Tag:noindex
X-PUBLISHED-TTL:PT1H
BEGIN:VTIMEZONE
TZID:America/New_York
BEGIN:DAYLIGHT
TZOFFSETFROM:-0500
TZOFFSETTO:-0400
TZNAME:EDT
DTSTART:20240310T070000
END:DAYLIGHT
BEGIN:STANDARD
TZOFFSETFROM:-0400
TZOFFSETTO:-0500
TZNAME:EST
DTSTART:20241103T060000
END:STANDARD
BEGIN:DAYLIGHT
TZOFFSETFROM:-0500
TZOFFSETTO:-0400
TZNAME:EDT
DTSTART:20250309T070000
END:DAYLIGHT
BEGIN:STANDARD
TZOFFSETFROM:-0400
TZOFFSETTO:-0500
TZNAME:EST
DTSTART:20251102T060000
END:STANDARD
BEGIN:DAYLIGHT
TZOFFSETFROM:-0500
TZOFFSETTO:-0400
TZNAME:EDT
DTSTART:20260308T070000
END:DAYLIGHT
BEGIN:STANDARD
TZOFFSETFROM:-0400
TZOFFSETTO:-0500
TZNAME:EST
DTSTART:20261101T060000
END:STANDARD
END:VTIMEZONE
BEGIN:VEVENT
DTSTART;TZID=America/New_York:20251126T200000
DTEND;TZID=America/New_York:20251126T235900
DTSTAMP:20260424T075957
CREATED:20251105T202330Z
LAST-MODIFIED:20251122T054257Z
UID:2630-1764187200-1764201540@djdanlinedance.com
SUMMARY:Thanksgiving Eve Celebration at Whitpain Tavern
DESCRIPTION:Thanksgiving Eve Celebration with DJ Dan Line Dance! 🎉 \n🦃🎶Kick off the holiday weekend with a night of music and fun at The Whitpain Tavern! 🎉\nDJ Dan will be spinning your favorite party tunes all night long — the perfect way to celebrate before the big feast! 🍂✨ \n📅 Wednesday\, November 26th\n🕗 8 PM – Midnight\n📍 The Whitpain Tavern\, 1529 Dekalb Pike\, Blue Bell\, PA 19422 \nGrab your friends and get ready for an unforgettable Thanksgiving Eve party! 🎧🥳
URL:https://djdanlinedance.com/event/20251126/
LOCATION:Whitpain Tavern\, 1529 Dekalb Pike\, Blue Bell\, PA\, 19422\, United States
ATTACH;FMTTYPE=image/jpeg:https://djdanlinedance.com/wp-content/uploads/2025/11/2630_image_574617938_1211515174366837_9193151396471160584_n.jpg
END:VEVENT
END:VCALENDAR