BEGIN:VCALENDAR
VERSION:2.0
PRODID:-//DJ Dan Line Dance - ECPv6.15.20//NONSGML v1.0//EN
CALSCALE:GREGORIAN
METHOD:PUBLISH
X-ORIGINAL-URL:https://djdanlinedance.com
X-WR-CALDESC:Events for DJ Dan Line Dance
REFRESH-INTERVAL;VALUE=DURATION:PT1H
X-Robots-Tag:noindex
X-PUBLISHED-TTL:PT1H
BEGIN:VTIMEZONE
TZID:America/New_York
BEGIN:DAYLIGHT
TZOFFSETFROM:-0500
TZOFFSETTO:-0400
TZNAME:EDT
DTSTART:20240310T070000
END:DAYLIGHT
BEGIN:STANDARD
TZOFFSETFROM:-0400
TZOFFSETTO:-0500
TZNAME:EST
DTSTART:20241103T060000
END:STANDARD
BEGIN:DAYLIGHT
TZOFFSETFROM:-0500
TZOFFSETTO:-0400
TZNAME:EDT
DTSTART:20250309T070000
END:DAYLIGHT
BEGIN:STANDARD
TZOFFSETFROM:-0400
TZOFFSETTO:-0500
TZNAME:EST
DTSTART:20251102T060000
END:STANDARD
BEGIN:DAYLIGHT
TZOFFSETFROM:-0500
TZOFFSETTO:-0400
TZNAME:EDT
DTSTART:20260308T070000
END:DAYLIGHT
BEGIN:STANDARD
TZOFFSETFROM:-0400
TZOFFSETTO:-0500
TZNAME:EST
DTSTART:20261101T060000
END:STANDARD
END:VTIMEZONE
BEGIN:VEVENT
DTSTART;TZID=America/New_York:20250702T190000
DTEND;TZID=America/New_York:20250702T220000
DTSTAMP:20260424T053540
CREATED:20250613T214642Z
LAST-MODIFIED:20250620T193956Z
UID:2269-1751482800-1751493600@djdanlinedance.com
SUMMARY:Whitpain Tavern Trivia
DESCRIPTION:🧠 Trivia Night at The Whitpain Tavern 🧠 \nThink you’ve got what it takes to be a trivia champ? Join us every other Wednesday for a fun and challenging Trivia Night! Show off your knowledge across a variety of topics and compete for awesome prizes. \n📍 Location: The Whitpain Tavern\, 1529 Dekalb Pike\, Blue Bell\, PA 19422\n🕖 Time: 7:00 – 10:00 PM\n📅 When: Every other Wednesday \nGather your smartest friends and come out for a great night of laughs\, food\, and drinks. Test your wits and take home bragging rights! 🏆
URL:https://djdanlinedance.com/event/20250702/
LOCATION:Whitpain Tavern\, 1529 Dekalb Pike\, Blue Bell\, PA\, 19422\, United States
CATEGORIES:Trivia
ATTACH;FMTTYPE=image/jpeg:https://djdanlinedance.com/wp-content/uploads/2025/06/2269_image_505832209_1091272306391125_5971633370817922530_n.jpg
END:VEVENT
BEGIN:VEVENT
DTSTART;TZID=America/New_York:20250709T190000
DTEND;TZID=America/New_York:20250709T220000
DTSTAMP:20260424T053540
CREATED:20250613T214314Z
LAST-MODIFIED:20250620T194221Z
UID:2264-1752087600-1752098400@djdanlinedance.com
SUMMARY:Whitpain Tavern Music Bingo
DESCRIPTION:🎶 Music Bingo at The Whitpain Tavern 🎶 \nJoin us every other Wednesday for an exciting night of Music Bingo! Test your music knowledge and enjoy some friendly competition while grooving to your favorite tunes. Great food\, refreshing drinks\, and fantastic prizes await! \n📍 Location: The Whitpain Tavern\, 1529 Dekalb Pike\, Blue Bell\, PA 19422\n🕖 Time: 7:00 – 10:00 PM\n📅 When: Every other Wednesday \nBring your friends and family for a midweek treat that’s sure to hit all the right notes. See you there! 🎤🕺
URL:https://djdanlinedance.com/event/20250709/
LOCATION:Whitpain Tavern\, 1529 Dekalb Pike\, Blue Bell\, PA\, 19422\, United States
CATEGORIES:Music Bingo
ATTACH;FMTTYPE=image/jpeg:https://djdanlinedance.com/wp-content/uploads/2025/06/2264_image_505613414_1091273819724307_6145988228037829423_n.jpg
END:VEVENT
BEGIN:VEVENT
DTSTART;TZID=America/New_York:20250716T190000
DTEND;TZID=America/New_York:20250716T220000
DTSTAMP:20260424T053540
CREATED:20250613T214307Z
LAST-MODIFIED:20250620T193922Z
UID:2260-1752692400-1752703200@djdanlinedance.com
SUMMARY:Whitpain Tavern Trivia
DESCRIPTION:🧠 Trivia Night at The Whitpain Tavern 🧠 \nThink you’ve got what it takes to be a trivia champ? Join us every other Wednesday for a fun and challenging Trivia Night! Show off your knowledge across a variety of topics and compete for awesome prizes. \n📍 Location: The Whitpain Tavern\, 1529 Dekalb Pike\, Blue Bell\, PA 19422\n🕖 Time: 7:00 – 10:00 PM\n📅 When: Every other Wednesday \nGather your smartest friends and come out for a great night of laughs\, food\, and drinks. Test your wits and take home bragging rights! 🏆
URL:https://djdanlinedance.com/event/20250716/
LOCATION:Whitpain Tavern\, 1529 Dekalb Pike\, Blue Bell\, PA\, 19422\, United States
CATEGORIES:Trivia
ATTACH;FMTTYPE=image/jpeg:https://djdanlinedance.com/wp-content/uploads/2025/06/2260_image_505732078_1091272739724415_4526962448871610841_n.jpg
END:VEVENT
BEGIN:VEVENT
DTSTART;TZID=America/New_York:20250723T190000
DTEND;TZID=America/New_York:20250723T220000
DTSTAMP:20260424T053540
CREATED:20250613T214317Z
LAST-MODIFIED:20250620T194218Z
UID:2266-1753297200-1753308000@djdanlinedance.com
SUMMARY:Whitpain Tavern Music Bingo
DESCRIPTION:🎶 Music Bingo at The Whitpain Tavern 🎶 \nJoin us every other Wednesday for an exciting night of Music Bingo! Test your music knowledge and enjoy some friendly competition while grooving to your favorite tunes. Great food\, refreshing drinks\, and fantastic prizes await! \n📍 Location: The Whitpain Tavern\, 1529 Dekalb Pike\, Blue Bell\, PA 19422\n🕖 Time: 7:00 – 10:00 PM\n📅 When: Every other Wednesday \nBring your friends and family for a midweek treat that’s sure to hit all the right notes. See you there! 🎤🕺
URL:https://djdanlinedance.com/event/20250723/
LOCATION:Whitpain Tavern\, 1529 Dekalb Pike\, Blue Bell\, PA\, 19422\, United States
CATEGORIES:Music Bingo
ATTACH;FMTTYPE=image/jpeg:https://djdanlinedance.com/wp-content/uploads/2025/06/2266_image_505782400_1091274176390938_247754063909619886_n.jpg
END:VEVENT
BEGIN:VEVENT
DTSTART;TZID=America/New_York:20250730T190000
DTEND;TZID=America/New_York:20250730T220000
DTSTAMP:20260424T053540
CREATED:20250613T214310Z
LAST-MODIFIED:20250620T194000Z
UID:2262-1753902000-1753912800@djdanlinedance.com
SUMMARY:Whitpain Tavern Trivia
DESCRIPTION:🧠 Trivia Night at The Whitpain Tavern 🧠 \nThink you’ve got what it takes to be a trivia champ? Join us every other Wednesday for a fun and challenging Trivia Night! Show off your knowledge across a variety of topics and compete for awesome prizes. \n📍 Location: The Whitpain Tavern\, 1529 Dekalb Pike\, Blue Bell\, PA 19422\n🕖 Time: 7:00 – 10:00 PM\n📅 When: Every other Wednesday \nGather your smartest friends and come out for a great night of laughs\, food\, and drinks. Test your wits and take home bragging rights! 🏆
URL:https://djdanlinedance.com/event/20250730/
LOCATION:Whitpain Tavern\, 1529 Dekalb Pike\, Blue Bell\, PA\, 19422\, United States
CATEGORIES:Trivia
ATTACH;FMTTYPE=image/jpeg:https://djdanlinedance.com/wp-content/uploads/2025/06/2262_image_505810546_1091273159724373_6816183157933572146_n.jpg
END:VEVENT
END:VCALENDAR