BEGIN:VCALENDAR
VERSION:2.0
PRODID:-//DJ Dan Line Dance - ECPv6.15.20//NONSGML v1.0//EN
CALSCALE:GREGORIAN
METHOD:PUBLISH
X-ORIGINAL-URL:https://djdanlinedance.com
X-WR-CALDESC:Events for DJ Dan Line Dance
REFRESH-INTERVAL;VALUE=DURATION:PT1H
X-Robots-Tag:noindex
X-PUBLISHED-TTL:PT1H
BEGIN:VTIMEZONE
TZID:America/New_York
BEGIN:DAYLIGHT
TZOFFSETFROM:-0500
TZOFFSETTO:-0400
TZNAME:EDT
DTSTART:20240310T070000
END:DAYLIGHT
BEGIN:STANDARD
TZOFFSETFROM:-0400
TZOFFSETTO:-0500
TZNAME:EST
DTSTART:20241103T060000
END:STANDARD
BEGIN:DAYLIGHT
TZOFFSETFROM:-0500
TZOFFSETTO:-0400
TZNAME:EDT
DTSTART:20250309T070000
END:DAYLIGHT
BEGIN:STANDARD
TZOFFSETFROM:-0400
TZOFFSETTO:-0500
TZNAME:EST
DTSTART:20251102T060000
END:STANDARD
BEGIN:DAYLIGHT
TZOFFSETFROM:-0500
TZOFFSETTO:-0400
TZNAME:EDT
DTSTART:20260308T070000
END:DAYLIGHT
BEGIN:STANDARD
TZOFFSETFROM:-0400
TZOFFSETTO:-0500
TZNAME:EST
DTSTART:20261101T060000
END:STANDARD
END:VTIMEZONE
BEGIN:VEVENT
DTSTART;TZID=America/New_York:20250430T190000
DTEND;TZID=America/New_York:20250430T220000
DTSTAMP:20260424T121332
CREATED:20250302T073850Z
LAST-MODIFIED:20250302T074027Z
UID:1956-1746039600-1746050400@djdanlinedance.com
SUMMARY:Whitpain Tavern Music Bingo
DESCRIPTION:🎶 Music Bingo at The Whitpain Tavern 🎶 \nJoin us every other Wednesday for an exciting night of Music Bingo! Test your music knowledge and enjoy some friendly competition while grooving to your favorite tunes. Great food\, refreshing drinks\, and fantastic prizes await! \n📍 Location: The Whitpain Tavern\, 1529 Dekalb Pike\, Blue Bell\, PA 19422\n🕖 Time: 7:00 – 10:00 PM\n📅 When: Every other Wednesday \nBring your friends and family for a midweek treat that’s sure to hit all the right notes. See you there! 🎤🕺
URL:https://djdanlinedance.com/event/whitpain-tavern-music-bingo-20250430/
LOCATION:Whitpain Tavern\, 1529 Dekalb Pike\, Blue Bell\, PA\, 19422\, United States
CATEGORIES:Music Bingo
ATTACH;FMTTYPE=image/jpeg:https://djdanlinedance.com/wp-content/uploads/2025/03/1956_image_482220088_1017822770402746_267673866880069786_n.jpg
END:VEVENT
END:VCALENDAR