BEGIN:VCALENDAR
VERSION:2.0
PRODID:-//DJ Dan Line Dance - ECPv6.15.20//NONSGML v1.0//EN
CALSCALE:GREGORIAN
METHOD:PUBLISH
X-ORIGINAL-URL:https://djdanlinedance.com
X-WR-CALDESC:Events for DJ Dan Line Dance
REFRESH-INTERVAL;VALUE=DURATION:PT1H
X-Robots-Tag:noindex
X-PUBLISHED-TTL:PT1H
BEGIN:VTIMEZONE
TZID:America/New_York
BEGIN:DAYLIGHT
TZOFFSETFROM:-0500
TZOFFSETTO:-0400
TZNAME:EDT
DTSTART:20250309T070000
END:DAYLIGHT
BEGIN:STANDARD
TZOFFSETFROM:-0400
TZOFFSETTO:-0500
TZNAME:EST
DTSTART:20251102T060000
END:STANDARD
BEGIN:DAYLIGHT
TZOFFSETFROM:-0500
TZOFFSETTO:-0400
TZNAME:EDT
DTSTART:20260308T070000
END:DAYLIGHT
BEGIN:STANDARD
TZOFFSETFROM:-0400
TZOFFSETTO:-0500
TZNAME:EST
DTSTART:20261101T060000
END:STANDARD
BEGIN:DAYLIGHT
TZOFFSETFROM:-0500
TZOFFSETTO:-0400
TZNAME:EDT
DTSTART:20270314T070000
END:DAYLIGHT
BEGIN:STANDARD
TZOFFSETFROM:-0400
TZOFFSETTO:-0500
TZNAME:EST
DTSTART:20271107T060000
END:STANDARD
END:VTIMEZONE
BEGIN:VEVENT
DTSTART;TZID=America/New_York:20260306T190000
DTEND;TZID=America/New_York:20260306T220000
DTSTAMP:20260423T163631
CREATED:20260130T215629Z
LAST-MODIFIED:20260204T164007Z
UID:2937-1772823600-1772834400@djdanlinedance.com
SUMMARY:Line Dancing @ Nostalgia 1720
DESCRIPTION:Join DJ Dan Line Dance on the 1st Friday of every month for an evening packed with great music and an awesome crowd. \n📍 Nostalgia 1720\n136 E Butler Ave\, Chalfont\, PA 18914 \n🕖 7:00 PM – 10:00 PM\n💵 $10 cover \nBring your own food and enjoy a relaxed\, social atmosphere. Drinks are available for purchase at the venue — no outside beverages permitted. \nCome dance\, laugh\, and make memories with DJ Dan Line Dance! 🎶🕺💃
URL:https://djdanlinedance.com/event/20260306/
LOCATION:Nostalgia 1720\, 136 E Butler Ave\, Chalfont\, PA\, 18914\, United States
CATEGORIES:Line Dancing
ATTACH;FMTTYPE=image/jpeg:https://djdanlinedance.com/wp-content/uploads/2026/01/2937_image_624419420_10231912192643554_701283757583641122_n.jpg
END:VEVENT
BEGIN:VEVENT
DTSTART;TZID=America/New_York:20260307T190000
DTEND;TZID=America/New_York:20260307T220000
DTSTAMP:20260423T163631
CREATED:20260130T215643Z
LAST-MODIFIED:20260204T164556Z
UID:2943-1772910000-1772920800@djdanlinedance.com
SUMMARY:Line Dancing with DJ Dan at Hausman’s Fruit Farm
DESCRIPTION:Join DJ Dan Line Dance on the 1st Saturday of every month for an evening of great music\, good vibes\, and plenty of dancing. \n📍 Hausman’s Fruit Farm\n2822 Limeport Pike\, Coopersburg\, PA 18036 \n🕖 7:00 PM – 10:00 PM\n💵 $5 cover \nLight snacks and refreshments will be available for purchase to keep you fueled throughout the night. \nCome dance\, laugh\, and make memories in the barn—see you there! 🎶🕺💃
URL:https://djdanlinedance.com/event/20260307/
LOCATION:Hausman’s Fruit Farm\, 2822 Limeport Pike\, Coopersburg\, PA\, 18036\, United States
CATEGORIES:Line Dancing
ATTACH;FMTTYPE=image/jpeg:https://djdanlinedance.com/wp-content/uploads/2026/01/2943_image_625512143_10231912241724781_5784895082121644066_n.jpg
END:VEVENT
BEGIN:VEVENT
DTSTART;TZID=America/New_York:20260313T200000
DTEND;TZID=America/New_York:20260313T230000
DTSTAMP:20260423T163631
CREATED:20260130T215634Z
LAST-MODIFIED:20260204T164419Z
UID:2939-1773432000-1773442800@djdanlinedance.com
SUMMARY:Line Dancing @ Bella Brew Pub
DESCRIPTION:🎉 Come back this month and check out one of our NEW VENUES! Join us for Line Dancing at Bella Brew Pub! \nDance the night away with DJ Dan Line Dance in a fun\, all-ages environment the 2nd Friday of each month! \n📍 Bella Brew Pub\n1355 Gravel Pike\, Perkiomenville\, PA 18074\n🕗 8:00 PM – 11:00 PM\n💵 No cover\n🍔 Food available until 9 PM / Drinks available all night\n❌ No outside food or drinks\n🔥 Heated concrete patio \nBring your friends\, enjoy great music\, delicious food\, and refreshing drinks\, and show off your best moves on the dance floor. Let’s make it a night to remember! 🕺💃🎶
URL:https://djdanlinedance.com/event/20260313/
LOCATION:Bella Brew Pub\, 1355 N Gravel Pike\, Perkiomenville\, PA\, 18074\, US
CATEGORIES:Line Dancing
ATTACH;FMTTYPE=image/jpeg:https://djdanlinedance.com/wp-content/uploads/2026/01/2939_image_624833610_10231912221524276_6401038676095542279_n.jpg
END:VEVENT
BEGIN:VEVENT
DTSTART;TZID=America/New_York:20260314T190000
DTEND;TZID=America/New_York:20260314T220000
DTSTAMP:20260423T163631
CREATED:20260130T215651Z
LAST-MODIFIED:20260204T164446Z
UID:2945-1773514800-1773525600@djdanlinedance.com
SUMMARY:Line Dancing @ Fred Astaire Dance Studio
DESCRIPTION:🕺💃🎶 Step onto the dance floor for Line Dancing at Fred Astaire Dance Studios – Collegeville! \nJoin DJ Dan Line Dance on the 2nd Saturday of every month for an evening of fun. \n📍 Fred Astaire Dance Studios – Collegeville\n222 E Main St\, Collegeville\, PA 19426 \n🕖 7:00 PM – 10:00 PM\n💵 $10 cover\nIncludes dancing\, water\, and delicious tomato pie
URL:https://djdanlinedance.com/event/20260314/
LOCATION:Fred Astaire Dance Studios – Collegeville\, 222 E. Main Street\, Collegeville\, PA\, 19426\, United States
CATEGORIES:Line Dancing
ATTACH;FMTTYPE=image/jpeg:https://djdanlinedance.com/wp-content/uploads/2026/01/2945_image_624542988_10231912249044964_2246079790265330887_n.jpg
END:VEVENT
BEGIN:VEVENT
DTSTART;TZID=America/New_York:20260321T190000
DTEND;TZID=America/New_York:20260321T220000
DTSTAMP:20260423T163631
CREATED:20260130T215655Z
LAST-MODIFIED:20260204T164008Z
UID:2947-1774119600-1774130400@djdanlinedance.com
SUMMARY:Line Dancing @ Nostalgia 1720
DESCRIPTION:Join DJ Dan Line Dance on the 3rd Saturday of every month for an evening of great music with our dance family. \n📍 Nostalgia 1720\n136 E Butler Ave\, Chalfont\, PA 18914 \n🕖 7:00 PM – 10:00 PM\n💵 $10 cover\n🍴 BYO Food\n🍹 Drinks available for purchase (no outside drinks) \nCome dance\, laugh\, learn and make memories! 🕺💃🎶
URL:https://djdanlinedance.com/event/20260321/
LOCATION:Nostalgia 1720\, 136 E Butler Ave\, Chalfont\, PA\, 18914\, United States
CATEGORIES:Line Dancing
ATTACH;FMTTYPE=image/jpeg:https://djdanlinedance.com/wp-content/uploads/2026/01/2947_image_625028299_10231912208203943_1857317044380350532_n.jpg
END:VEVENT
BEGIN:VEVENT
DTSTART;TZID=America/New_York:20260327T190000
DTEND;TZID=America/New_York:20260327T220000
DTSTAMP:20260423T163631
CREATED:20260130T215638Z
LAST-MODIFIED:20260204T164315Z
UID:2941-1774638000-1774648800@djdanlinedance.com
SUMMARY:Line Dancing @ Keelersville Club
DESCRIPTION:Join DJ Dan Line Dance on the for an evening of great music\, dancing\, and fun for all ages. \n📍 Keelersville Club\n2522 Ridge Rd\, Perkasie\, PA 18944 \n📅 4th Friday of Every Month\n🕖 7:00 PM – 10:00 PM\n💵 $10 cover\n👥 All Ages\n❌ No outside food or beverages \nThis monthly event is perfect for letting loose\, learning new steps\, and enjoying a lively night out. Come dance\, laugh\, and make memories! 🕺💃🎶
URL:https://djdanlinedance.com/event/20260327/
LOCATION:Keelersville Club\, 2522 Ridge Rd\, Perkasie\, PA\, 18944\, United States
CATEGORIES:Line Dancing
ATTACH;FMTTYPE=image/jpeg:https://djdanlinedance.com/wp-content/uploads/2026/01/2941_image_624262502_10231912233524576_6956454626889141305_n.jpg
END:VEVENT
BEGIN:VEVENT
DTSTART;TZID=America/New_York:20260328T200000
DTEND;TZID=America/New_York:20260328T230000
DTSTAMP:20260423T163631
CREATED:20260130T222841Z
LAST-MODIFIED:20260130T222841Z
UID:2951-1774728000-1774738800@djdanlinedance.com
SUMMARY:Line Dancing @ Trolley Barn Public Market – MARCH
DESCRIPTION:Line Dancing at Trolley Barn!Mark your calendars for the 4th Saturday of every month — 8 – 11PM8 – 9PM Lessons9 – 11PM Open Dance\n\nThis is the perfect way to spend your Saturday night – bring your friends\, enjoy great food and drink from our vendors before heading downstairs to hit the dance floor!$10 – adults$5 – 16 years and under
URL:https://djdanlinedance.com/event/20260328/
LOCATION:Trolley Barn Public Market – Quakertown\, 108 E Broad Street\, PA 313\, Quakertown\, PA\, 18951\, United States
CATEGORIES:Line Dancing
ATTACH;FMTTYPE=image/jpeg:https://djdanlinedance.com/wp-content/uploads/2026/01/20260328-Cover.jpg
END:VEVENT
END:VCALENDAR