BEGIN:VCALENDAR
VERSION:2.0
PRODID:-//DJ Dan Line Dance - ECPv6.15.20//NONSGML v1.0//EN
CALSCALE:GREGORIAN
METHOD:PUBLISH
X-ORIGINAL-URL:https://djdanlinedance.com
X-WR-CALDESC:Events for DJ Dan Line Dance
REFRESH-INTERVAL;VALUE=DURATION:PT1H
X-Robots-Tag:noindex
X-PUBLISHED-TTL:PT1H
BEGIN:VTIMEZONE
TZID:America/New_York
BEGIN:DAYLIGHT
TZOFFSETFROM:-0500
TZOFFSETTO:-0400
TZNAME:EDT
DTSTART:20240310T070000
END:DAYLIGHT
BEGIN:STANDARD
TZOFFSETFROM:-0400
TZOFFSETTO:-0500
TZNAME:EST
DTSTART:20241103T060000
END:STANDARD
BEGIN:DAYLIGHT
TZOFFSETFROM:-0500
TZOFFSETTO:-0400
TZNAME:EDT
DTSTART:20250309T070000
END:DAYLIGHT
BEGIN:STANDARD
TZOFFSETFROM:-0400
TZOFFSETTO:-0500
TZNAME:EST
DTSTART:20251102T060000
END:STANDARD
BEGIN:DAYLIGHT
TZOFFSETFROM:-0500
TZOFFSETTO:-0400
TZNAME:EDT
DTSTART:20260308T070000
END:DAYLIGHT
BEGIN:STANDARD
TZOFFSETFROM:-0400
TZOFFSETTO:-0500
TZNAME:EST
DTSTART:20261101T060000
END:STANDARD
END:VTIMEZONE
BEGIN:VEVENT
DTSTART;TZID=America/New_York:20250215T130000
DTEND;TZID=America/New_York:20250215T160000
DTSTAMP:20260425T062510
CREATED:20250128T203245Z
LAST-MODIFIED:20250215T042509Z
UID:1889-1739624400-1739635200@djdanlinedance.com
SUMMARY:POSTPONED to 3/8 - KDC Valentine's Saturday Country Line Dancing - BYOB
DESCRIPTION:Giddy up and get ready for a heart-pounding night of fun at our Valentine’s Day Line Dancing Extravaganza! Grab your sweetheart by the hand and join other couples in a festive evening filled with country tunes\, laughter\, and of course\, plenty of line dancing. 👢💖 \nWhether you’re a seasoned line dancer or new to the scene\, our friendly and energetic instructors will have you boot-scoot-and-boogying in no time. You’ll learn a variety of dances\, from classic favorites to upbeat modern routines\, all designed to keep you and your partner moving in perfect harmony. \nNo prior dance experience is necessary—just bring your dancing partner\, a little bit of country spirit\, and a lot of love! Let’s make this Valentine’s Day one to remember with some boot-stomping fun!
URL:https://djdanlinedance.com/event/kdc-valentines-saturday-country-line-dancing-byob-20250215/
LOCATION:Kreative Dance Complex\, 3020 Linden St\, Bethlehem\, Pennsylvania\, 18017
CATEGORIES:Line Dancing
ATTACH;FMTTYPE=image/jpeg:https://djdanlinedance.com/wp-content/uploads/2025/01/1889_image_474981908_122135886902539442_2756248961736378987_n.jpg
END:VEVENT
BEGIN:VEVENT
DTSTART;TZID=America/New_York:20250215T190000
DTEND;TZID=America/New_York:20250215T220000
DTSTAMP:20260425T062510
CREATED:20250113T204316Z
LAST-MODIFIED:20250215T042332Z
UID:1778-1739646000-1739656800@djdanlinedance.com
SUMMARY:CANCELED - Nostalgia 1720 Line Dancing
DESCRIPTION:🕺💃 Join us for Line Dancing at Nostalgia 1720 every 3rd Saturday of the month! \n⏰ Time: 7:00 PM – 10:00 PM\n📍 Venue: Nostalgia 1720\, 136 E Butler Ave\, Chalfont\, PA 18914 \n✨ Cover: $10 per person\n🍽️ Food and drinks available for purchase on-site!\n🚫 No outside food or drink allowed. \nGrab your friends and come make memories on the dance floor! \n👉 Mark your calendar! See you there! 🎉
URL:https://djdanlinedance.com/event/nostalgia-1720-line-dancing-20250215/
LOCATION:Nostalgia 1720\, 136 E Butler Ave\, Chalfont\, PA\, 18914\, United States
CATEGORIES:Line Dancing
ATTACH;FMTTYPE=image/jpeg:https://djdanlinedance.com/wp-content/uploads/2025/01/1778_image_473324870_984020983782925_3748427492581739052_n.jpg
END:VEVENT
END:VCALENDAR