BEGIN:VCALENDAR
VERSION:2.0
PRODID:-//DJ Dan Line Dance - ECPv6.15.20//NONSGML v1.0//EN
CALSCALE:GREGORIAN
METHOD:PUBLISH
X-WR-CALNAME:DJ Dan Line Dance
X-ORIGINAL-URL:https://djdanlinedance.com
X-WR-CALDESC:Events for DJ Dan Line Dance
REFRESH-INTERVAL;VALUE=DURATION:PT1H
X-Robots-Tag:noindex
X-PUBLISHED-TTL:PT1H
BEGIN:VTIMEZONE
TZID:America/New_York
BEGIN:DAYLIGHT
TZOFFSETFROM:-0500
TZOFFSETTO:-0400
TZNAME:EDT
DTSTART:20240310T070000
END:DAYLIGHT
BEGIN:STANDARD
TZOFFSETFROM:-0400
TZOFFSETTO:-0500
TZNAME:EST
DTSTART:20241103T060000
END:STANDARD
BEGIN:DAYLIGHT
TZOFFSETFROM:-0500
TZOFFSETTO:-0400
TZNAME:EDT
DTSTART:20250309T070000
END:DAYLIGHT
BEGIN:STANDARD
TZOFFSETFROM:-0400
TZOFFSETTO:-0500
TZNAME:EST
DTSTART:20251102T060000
END:STANDARD
BEGIN:DAYLIGHT
TZOFFSETFROM:-0500
TZOFFSETTO:-0400
TZNAME:EDT
DTSTART:20260308T070000
END:DAYLIGHT
BEGIN:STANDARD
TZOFFSETFROM:-0400
TZOFFSETTO:-0500
TZNAME:EST
DTSTART:20261101T060000
END:STANDARD
END:VTIMEZONE
BEGIN:VEVENT
DTSTART;TZID=America/New_York:20250303T180000
DTEND;TZID=America/New_York:20250303T210000
DTSTAMP:20260425T062348
CREATED:20250113T204348Z
LAST-MODIFIED:20250118T221325Z
UID:1792-1741024800-1741035600@djdanlinedance.com
SUMMARY:Capri Pizza Line Dancing
DESCRIPTION:👢 Line Dancing at Capri Pizza 👢 \nKick off your week with some line dancing fun! \n📍 Location: Capri Pizza Restaurant & Bar\, 5855 Easton Rd\, Plumsteadville\, PA 18949\n🕖 Time: 6:00 PM – 9:00 PM\n📅 When: 1st & 3rd Monday of every month \n$10 Cover (Cash) \nAll food orders will receive a $5 credit! \nNOTE: Please refrain from using any powder or dance wax on the floor. \nBring your friends & enjoy the amazing food and atmosphere. Don’t miss it! 🎶💃
URL:https://djdanlinedance.com/event/capri-pizza-line-dancing-20250303/
LOCATION:Capri Pizza Restaurant & Bar\, 5855 Easton Road\, Plumsteadville\, PA\, 18949\, United States
CATEGORIES:Line Dancing
ATTACH;FMTTYPE=image/jpeg:https://djdanlinedance.com/wp-content/uploads/2025/01/1792_image_473669626_984018240449866_5620103256023370552_n.jpg
END:VEVENT
END:VCALENDAR